Workbook

Sheet Table S-1
A8: Table S-1 Calcium isotopic compositions for Pitcairn Island and seamount basalts.
A10: Samples | B10: Type | C10: δ44/40Ca | D10: 2 s.e.a | E10: δ44/42Ca | F10: 2 s.e. | G10: ε40/44Cab | H10: 2 s.e. | I10: n
A11: 45DS1 | B11: Seamount | C11: 0.78 | D11: 0.03 | E11: 0.4 | F11: 0.02 | G11: 0.4 | H11: 0.3 | I11: 10
A12: 51DS4 | B12: Seamount | C12: 0.83 | D12: 0.03 | E12: 0.39 | F12: 0.01 | G12: -0.4 | H12: 0.4 | I12: 6
A13: 46DS2 | B13: Seamount | C13: 0.84 | D13: 0.03 | E13: 0.35 | F13: 0.03 | G13: -1.2 | H13: 0.5 | I13: 7
A14: 48DS6 | B14: Seamount | C14: 0.73 | D14: 0.04 | E14: 0.33 | F14: 0.03 | G14: -0.5 | H14: 0.6 | I14: 8
A15: 51DS2 | B15: Seamount | C15: 0.8 | D15: 0.04 | E15: 0.33 | F15: 0.02 | G15: -1.3 | H15: 0.5 | I15: 7
A16: 33GTV2 | B16: Seamount | C16: 0.68 | D16: 0.08 | E16: 0.3 | F16: 0.02 | G16: -0.6 | H16: 0.7 | I16: 4
A17: 55SLS6 | B17: Seamount | C17: 0.76 | D17: 0.03 | E17: 0.33 | F17: 0.04 | G17: -0.8 | H17: 0.9 | I17: 6
A18: P5 | B18: Tedside | C18: 0.76 | D18: 0.03 | E18: 0.38 | F18: 0.05 | G18: 0.2 | H18: 0.9 | I18: 7
A19: P7 | B19: Tedside | C19: 0.84 | D19: 0.04 | E19: 0.39 | F19: 0.03 | G19: -0.4 | H19: 0.7 | I19: 7
A20: P8 | B20: Tedside | C20: 0.81 | D20: 0.03 | E20: 0.37 | F20: 0.03 | G20: -0.4 | H20: 0.7 | I20: 7
A21: P9 | B21: Tedside | C21: 0.77 | D21: 0.01 | E21: 0.36 | F21: 0.02 | G21: -0.2 | H21: 0.6 | I21: 9
A22: P10 | B22: Tedside | C22: 0.77 | D22: 0.04 | E22: 0.36 | F22: 0.03 | G22: -0.3 | H22: 0.6 | I22: 8
... A25: P1 | B25: Post-erosional | C25: 0.81 | D25: 0.02 | E25: 0.37 | F25: 0.04 | G25: -0.5 | H25: 0.7 | I25: 6
A26: a. 2 s.e. denotes two standard errors of the mean, 2 s.e. = 2 s.d./sqrt(n).
A27: b. ε40/44Ca is calculated from independently obtained δ44/42Ca and δ44/40Ca, following the method of Farkaš et al. (2011).
A28: c. n denotes number of analyses of Ca isotopes.
A30: Reference
A31: Farkaš, J., Déjeant, A., Novák, M., Jacobsen, S.B. (2011) Calcium isotope constraints on the uptake and sources of Ca2+ in a base-poor forest: A new concept of combining stable (δ44/42Ca) and radiogenic (εCa) signals. Geochimica et Cosmochimica Acta 75, 7031–7046.
A33: Wang et al. (2026) Geochem. Persp. Let. 39, 54-59 | https://doi.org/10.7185/geochemlet.2613
A34: © 2026 The Authors
A35: Published by the European Association of Geochemistry under Creative Commons License CC-BY-NC-ND.

Sheet Table S-2
A8: Table S-2 Calcium isotopic compositions of standard materials.
A10: Standards | B10: Referencesa | C10: δ44/40Ca | D10: 2 s.d.b | E10: δ44/42Ca | F10: 2 s.d. | G10: nc
A11: SRM915a | B11: This study | C11: -0.01 | D11: 0.15 | E11: 0 | F11: 0.11 | G11: 69
B12: Zhu et al. (2020) | C12: 0.03 | D12: 0.12 | G12: 34
B13: Eriksen and Jacobsen (2022) | C13: 0 | D13: 0.03 | E13: 0 | F13: 0.03
A15: SRM915b | B15: This study | C15: 0.78 | D15: 0.14 | E15: 0.35 | F15: 0.09 | G15: 9
B16: Dai et al. (2022) | C16: 0.72 | D16: 0.07 | E16: 0.35 | F16: 0.08
A18: Atlantic seawater | B18: This study | C18: 1.89 | D18: 0.13 | E18: 0.91 | F18: 0.11 | G18: 21
B19: Zhu et al. (2020) | C19: 1.81 | D19: 0.11 | G19: 30
A21: BHVO-2 | B21: This study | C21: 0.8 | D21: 0.1 | E21: 0.35 | F21: 0.08 | G21: 14
B22: Zhu et al. (2020) | C22: 0.79 | D22: 0.13 | G22: 6
B23: Eriksen and Jacobsen (2022) | C23: 0.852 | D23: 0.03 | E23: 0.392 | F23: 0.03
A24: a. Reference sources: Zhu et al. (2020); Dai et al. (2022); Eriksen and Jacobsen (2022).
A25: b. 2 s.d. denotes two standard deviations.
A26: c. n denotes number of analyses of Ca isotopes.
A28: References
A29: Dai, W., Moynier, F., Paquet, M., Moureau, J., Debret, B., Siebert, J., Gerard, Y., Zhao, Y. (2022) Calcium isotope measurements using a collision cell (CC)-MC-ICP-MS. Chemical Geology 590, 120688.
A30: Eriksen, Z.T., Jacobsen, S.B. (2022) Calcium isotope constraints on OIB and MORB petrogenesis: The importance of melt mixing. Earth and Planetary Science Letters 593, 117665.
A31: Zhu, H., Liu, F., Li, X., An, Y., Nan, X., Du, L., Huang, F., Sun, W., Zhang, Z. (2020) Significant δ44/40Ca variations between carbonate- and clay-rich marine sediments from the Lesser Antilles forearc and implications for mantle heterogeneity. Geochimica et Cosmochimica Acta 276, 239–257.
A33: Wang et al. (2026) Geochem. Persp. Let. 39, 54-59 | https://doi.org/10.7185/geochemlet.2613
A34: © 2026 The Authors
A35: Published by the European Association of Geochemistry under Creative Commons License CC-BY-NC-ND.

Sheet Table S-3
A8: Table S-3 Major and trace element concentrations for Pitcairn Island and seamount basalts.
A10: Samples | B10: Type | C10: SiO2 | D10: TiO2 | E10: Al2O3 | F10: FeOT | G10: MnO | H10: MgO | I10: CaO | J10: Na2O | K10: K2O | L10: P2O5 | M10: LOI | N10: Total | P10: Cu | Q10: Zn | R10: Ga | S10: Rb | T10: Sr | U10: Y | V10: Zr | W10: Nb | X10: Cs | Y10: Ba | Z10: La | AA10: Ce | AB10: Pr | AC10: Nd | AD10: Sm | AE10: Eu | AF10: Gd | AG10: Tb | AH10: Dy | AI10: Ho | AJ10: Er | AK10: Yb | AL10: Lu | AM10: Hf | AN10: Ta | AO10: Pb | AP10: Th | AQ10: U
A11: 45DS1 | B11: Seamount | C11: 53.5 | D11: 2.57 | E11: 16.72 | F11: 8.92 | G11: 0.12 | H11: 3.37 | I11: 6.72 | J11: 4.46 | K11: 2.38 | L11: 0.77 | M11: 0.47 | N11: =SUM(C11:M11) -> 100 | P11: 30.1382 | Q11: 132.0249 | R11: 27.3967 | S11: 46.566 | T11: 560.791 | U11: 46.6023 | V11: 543.0209 | W11: 59.9259 | X11: 0.4192 | Y11: 575.6973 | Z11: 68.7148 | AA11: 144.4004 | AB11: 17.8702 | AC11: 71.1814 | AD11: 14.3263 | AE11: 4.0521 | AF11: 12.1505 | AG11: 1.7276 | AH11: 9.1328 | AI11: 1.6704 | AJ11: 4.2339 | AK11: 3.2755 | AL11: 0.4687 | AM11: 11.6525 | AN11: 3.6634 | AO11: 7.4431 | AP11: 8.8612 | AQ11: 1.9051
A12: 51DS4 | B12: Seamount | C12: 54.21 | D12: 2.15 | E12: 15.97 | F12: 10.67 | G12: 0.16 | H12: 2.76 | I12: 6.07 | J12: 4.73 | K12: 2.29 | L12: 0.95 | M12: 0.04 | N12: =SUM(C12:M12) -> 100 | P12: 12.1096 | Q12: 155.8419 | R12: 27.2238 | S12: 36.5929 | T12: 521.7928 | U12: 55.0399 | V12: 537.0911 | W12: 51.3512 | X12: 0.3529 | Y12: 435.9873 | Z12: 54.0153 | AA12: 118.9764 | AB12: 15.5358 | AC12: 64.8597 | AD12: 14.3516 | AE12: 4.2716 | AF12: 12.907 | AG12: 1.9129 | AH12: 10.3533 | AI12: 1.9796 | AJ12: 5.0755 | AK12: 4.0908 | AL12: 0.5929 | AM12: 11.7392 | AN12: 3.0723 | AO12: 5.2537 | AP12: 6.1268 | AQ12: 1.5093
A13: 46DS2 | B13: Seamount | C13: 48.41 | D13: 3.35 | E13: 14.93 | F13: 11.82 | G13: 0.14 | H13: 7.37 | I13: 8.43 | J13: 3.35 | K13: 1.28 | L13: 0.66 | M13: 0.26 | N13: =SUM(C13:M13) -> 100 | P13: 38.8522 | Q13: 127.2606 | R13: 21.5084 | S13: 21.7998 | T13: 583.0863 | U13: 31.4827 | V13: 296.3414 | W13: 35.5205 | X13: 0.214 | Y13: 290.7158 | Z13: 33.276 | AA13: 73.3459 | AB13: 9.5834 | AC13: 40.4944 | AD13: 8.9527 | AE13: 2.8178 | AF13: 8.0671 | AG13: 1.1421 | AH13: 6.1491 | AI13: 1.1363 | AJ13: 2.822 | AK13: 2.1598 | AL13: 0.2987 | AM13: 6.8518 | AN13: 2.2604 | AO13: 3.3811 | AP13: 3.7745 | AQ13: 0.881
A14: 48DS6 | B14: Seamount | C14: 49.01 | D14: 3.13 | E14: 16.25 | F14: 10.74 | G14: 0.14 | H14: 5.74 | I14: 9.25 | J14: 3.59 | K14: 1.48 | L14: 0.64 | M14: 0.03 | N14: =SUM(C14:M14) -> 100 | P14: 39.94 | Q14: 170.4855 | R14: 21.3412 | S14: 21.7937 | T14: 574.3616 | U14: 30.9785 | V14: 296.7088 | W14: 35.315 | X14: 0.2124 | Y14: 284.6048 | Z14: 33.0462 | AA14: 72.1443 | AB14: 9.4398 | AC14: 39.9161 | AD14: 8.9068 | AE14: 2.7901 | AF14: 7.9935 | AG14: 1.1597 | AH14: 6.116 | AI14: 1.1199 | AJ14: 2.8006 | AK14: 2.0957 | AL14: 0.2989 | AM14: 6.6016 | AN14: 2.2157 | AO14: 3.3643 | AP14: 3.6725 | AQ14: 0.9113
A15: 51DS2 | B15: Seamount | C15: 50.01 | D15: 2.81 | E15: 14.11 | F15: 11.87 | G15: 0.15 | H15: 9.5 | I15: 8.19 | J15: 2.95 | K15: 0.82 | L15: 0.43 | M15: -0.84 | N15: =SUM(C15:M15) -> 100 | P15: 45.2356 | Q15: 119.9844 | R15: 20.7236 | S15: 12.553 | T15: 466.7026 | U15: 28.0288 | V15: 207.123 | W15: 21.884 | X15: 0.1102 | Y15: 186.037 | Z15: 21.3966 | AA15: 47.6902 | AB15: 6.4041 | AC15: 28.119 | AD15: 6.7816 | AE15: 2.2226 | AF15: 6.5195 | AG15: 0.9654 | AH15: 5.2249 | AI15: 0.9993 | AJ15: 2.5295 | AK15: 1.9976 | AL15: 0.2834 | AM15: 4.9915 | AN15: 1.4049 | AO15: 2.4055 | AP15: 2.249 | AQ15: 0.5495
A16: 33GTV2 | B16: Seamount | C16: 49.63 | D16: 3.56 | E16: 15.85 | F16: 11.13 | G16: 0.14 | H16: 5.7 | I16: 8.04 | J16: 3.87 | K16: 1.6 | L16: 0.78 | M16: -0.3 | N16: =SUM(C16:M16) -> 100 | P16: 52.6029 | Q16: 116.8543 | R16: 22.1667 | S16: 26.4904 | T16: 684.7899 | U16: 33.3781 | V16: 347.616 | W16: 40.8229 | X16: 0.2666 | Y16: 347.27 | Z16: 39.7404 | AA16: 86.4314 | AB16: 11.2335 | AC16: 47.0452 | AD16: 10.0722 | AE16: 3.1352 | AF16: 8.7921 | AG16: 1.2374 | AH16: 6.5934 | AI16: 1.1833 | AJ16: 2.9421 | AK16: 2.2034 | AL16: 0.305 | AM16: 7.6499 | AN16: 2.5703 | AO16: 3.8677 | AP16: 4.3819 | AQ16: 1.0901
A17: 55SLS6 | B17: Seamount | C17: 48.81 | D17: 3.46 | E17: 15.29 | F17: 11.69 | G17: 0.14 | H17: 6.49 | I17: 8.61 | J17: 3.62 | K17: 1.31 | L17: 0.66 | M17: -0.08 | N17: =SUM(C17:M17) -> 100 | P17: 37.1263 | Q17: 134.4222 | R17: 22.6455 | S17: 23.1017 | T17: 606.5895 | U17: 33.1098 | V17: 309.1092 | W17: 37.2627 | X17: 0.2287 | Y17: 318.7409 | Z17: 35.6068 | AA17: 77.7326 | AB17: 10.1596 | AC17: 42.7236 | AD17: 9.3646 | AE17: 2.9437 | AF17: 8.4081 | AG17: 1.2126 | AH17: 6.4316 | AI17: 1.185 | AJ17: 2.959 | AK17: 2.317 | AL17: 0.3208 | AM17: 7.2078 | AN17: 2.3823 | AO17: 3.5907 | AP17: 4.0922 | AQ17: 0.8913
A18: P5 | B18: Tedside | C18: 48.76 | D18: 4.27 | E18: 15.36 | F18: 12.5 | G18: 0.18 | H18: 3.86 | I18: 8.29 | J18: 3.62 | K18: 2.26 | L18: 0.88 | M18: 0.02 | N18: =SUM(C18:M18) -> 100 | P18: 54.9 | Q18: 116.76667 | R18: 44.73 | S18: 37.16 | T18: 692.46667 | U18: 41.776667 | V18: 443.76667 | W18: 66.616667 | X18: 0.11333333 | Y18: 610.93333 | Z18: 66.916667 | AA18: 129.48 | AB18: 15.41 | AC18: 62.76 | AD18: 12.733333 | AE18: 3.7246667 | AF18: 11.48 | AG18: 1.6023333 | AH18: 8.9966667 | AI18: 1.6006667 | AJ18: 4.1533333 | AK18: 3.3866667 | AL18: 0.46566667 | AM18: 10.346667 | AN18: 4.1243333 | AO18: 5.4533333 | AP18: 9.2133333 | AQ18: 0.893
A19: P7 | B19: Tedside | C19: 47.88 | D19: 3.75 | E19: 14.93 | F19: 12.21 | G19: 0.17 | H19: 6.54 | I19: 8.44 | J19: 3.68 | K19: 1.64 | L19: 0.57 | M19: 0.19 | N19: =SUM(C19:M19) -> 100 | P19: 31.863333 | Q19: 107.46667 | R19: 35.636667 | S19: 26.163333 | T19: 588 | U19: 31.57 | V19: 317.1 | W19: 46.783333 | X19: 0.13933333 | Y19: 415.63333 | Z19: 48.273333 | AA19: 94.583333 | AB19: 11.413333 | AC19: 46.853333 | AD19: 9.55 | AE19: 2.8356667 | AF19: 8.59 | AG19: 1.217 | AH19: 6.79 | AI19: 1.2553333 | AJ19: 3.168 | AK19: 2.5133333 | AL19: 0.33766667 | AM19: 7.74 | AN19: 2.9766667 | AO19: 3.6946667 | AP19: 6.7733333 | AQ19: 0.841
A20: P8 | B20: Tedside | C20: 48.74 | D20: 3.59 | E20: 15.93 | F20: 10.98 | G20: 0.15 | H20: 5.55 | I20: 8.97 | J20: 3.81 | K20: 1.65 | L20: 0.61 | M20: 0.02 | N20: =SUM(C20:M20) -> 100 | P20: 26.766667 | Q20: 95.5 | R20: 36.576667 | S20: 27.173333 | T20: 738.1 | U20: 29.453333 | V20: 314.56667 | W20: 47.663333 | X20: 0.074666667 | Y20: 467.96667 | Z20: 51.436667 | AA20: 98.366667 | AB20: 11.713333 | AC20: 46.916667 | AD20: 9.43 | AE20: 2.9003333 | AF20: 8.3466667 | AG20: 1.1633333 | AH20: 6.4466667 | AI20: 1.156 | AJ20: 2.9463333 | AK20: 2.3933333 | AL20: 0.30766667 | AM20: 7.46 | AN20: 2.959 | AO20: 3.9633333 | AP20: 7.3866667 | AQ20: 0.68566667
A21: P9 | B21: Tedside | C21: 47.37 | D21: 3.57 | E21: 15.06 | F21: 12.68 | G21: 0.17 | H21: 7.09 | I21: 8.82 | J21: 3.24 | K21: 1.43 | L21: 0.53 | M21: 0.04 | N21: =SUM(C21:M21) -> 100 | P21: 69.5 | Q21: 105.86667 | R21: 34.32 | S21: 20.593333 | T21: 605.06667 | U21: 28.73 | V21: 293.03333 | W21: 42.703333 | X21: 0.16433333 | Y21: 394.56667 | Z21: 42.88 | AA21: 84.643333 | AB21: 10.306667 | AC21: 42.386667 | AD21: 8.5866667 | AE21: 2.6086667 | AF21: 7.58 | AG21: 1.1066667 | AH21: 6.2233333 | AI21: 1.1406667 | AJ21: 2.9233333 | AK21: 2.2866667 | AL21: 0.31133333 | AM21: 7.0666667 | AN21: 2.6846667 | AO21: 3.341 | AP21: 5.9 | AQ21: 1.0263333
A22: P10 | B22: Tedside | C22: 49.92 | D22: 3.95 | E22: 16.17 | F22: 10.8 | G22: 0.15 | H22: 3.82 | I22: 8.54 | J22: 3.99 | K22: 1.63 | L22: 0.71 | M22: 0.32 | N22: =SUM(C22:M22) -> 100 | P22: 24.58 | Q22: 106.73333 | R22: 40.483333 | S22: 32.09 | T22: 652.4 | U22: 35.976667 | V22: 379.76667 | W22: 53.716667 | X22: 0.094333333 | Y22: 510.1 | Z22: 62.283333 | AA22: 121.59 | AB22: 14.493333 | AC22: 57.586667 | AD22: 11.24 | AE22: 3.318 | AF22: 9.81 | AG22: 1.4313333 | AH22: 7.8233333 | AI22: 1.4413333 | AJ22: 3.5356667 | AK22: 2.81 | AL22: 0.39433333 | AM22: 9.2633333 | AN22: 3.349 | AO22: 4.5866667 | AP22: 9.0633333 | AQ22: 1.1016667
... A25: P1 | B25: Post-erosional | C25: 57.53 | D25: 0.98 | E25: 17.32 | F25: 8.97 | G25: 0.22 | H25: 1.18 | I25: 3.43 | J25: 6.34 | K25: 3.67 | L25: 0.37 | M25: -0.01 | N25: =SUM(C25:M25) -> 100 | P25: 46.303333 | Q25: 160.2 | R25: 61.266667 | S25: 70.783333 | T25: 454.73333 | U25: 52.733333 | V25: 733.2 | W25: 121.13333 | X25: 0.511 | Y25: 965.76667 | Z25: 84.706667 | AA25: 167.43333 | AB25: 19.62 | AC25: 76.523333 | AD25: 15.723333 | AE25: 4.44 | AF25: 13.166667 | AG25: 1.9173333 | AH25: 11.18 | AI25: 2.0873333 | AJ25: 5.48 | AK25: 4.8033333 | AL25: 0.66833333 | AM25: 17.056667 | AN25: 7.33 | AO25: 5.8866667 | AP25: 12.546667 | AQ25: 2.526
A26: Major and trace element concentration data are from Woodhead and McCulloch (1989), and Woodhead and Devey (1993).
A28: References
A29: Woodhead, J.D., Devey, C.W. (1993) Geochemistry of the Pitcairn seamounts, I: source character and temporal trends. Earth and Planetary Science Letters 116, 81-99.
A30: Woodhead, J.D., McCulloch, M.T. (1989) Ancient seafloor signals in Pitcairn Island lavas and evidence for large amplitude, small length-scale mantle heterogeneities. Earth and Planetary Science Letters 94, 257-273.
A33: Wang et al. (2026) Geochem. Persp. Let. 39, 54-59 | https://doi.org/10.7185/geochemlet.2613
A34: © 2026 The Authors
A35: Published by the European Association of Geochemistry under Creative Commons License CC-BY-NC-ND.

Sheet Table S-4
A8: Table S-4 Trace element concentrations corrected for the olivine accumulation for Pitcairn Island and seamount basalts.
A10: Samples | B10: Type | C10: Rb | D10: Sr | E10: Nb | F10: La | G10: Nd | H10: Sm | I10: Eu | J10: Gd | K10: Dy | L10: Yb | M10: Pb | N10: Th | O10: U
A11: 45DS1* | B11: Seamount | C11: 46.566 | D11: 560.791 | E11: 59.9259 | F11: 68.7148 | G11: 71.1814 | H11: 14.3263 | I11: 4.0521 | J11: 12.1505 | K11: 9.1328 | L11: 3.2755 | M11: 7.4431 | N11: 8.8612 | O11: 1.9051
A12: 51DS4* | B12: Seamount | C12: 36.5929 | D12: 521.7928 | E12: 51.3512 | F12: 54.0153 | G12: 64.8597 | H12: 14.3516 | I12: 4.2716 | J12: 12.907 | K12: 10.3533 | L12: 4.0908 | M12: 5.2537 | N12: 6.1268 | O12: 1.5093
A13: 46DS2 | B13: Seamount | C13: 20.026394 | D13: 534.12563 | E13: 32.53313 | F13: 30.504096 | G13: 37.101797 | H13: 8.2013036 | I13: 2.5822391 | J13: 7.3905335 | K13: 5.6364783 | L13: 1.983343 | M13: 3.0970908 | N13: 3.4584247 | O13: 0.80731776
A14: 48DS6 | B14: Seamount | C14: 18.750222 | D14: 491.7514 | E14: 30.225224 | F14: 28.328838 | G14: 34.184359 | H14: 7.6254394 | I14: 2.3903721 | J14: 6.8443688 | K14: 5.2423972 | L14: 1.8025623 | M14: 2.8800909 | N14: 3.1473899 | O14: 0.78176386
A15: 51DS2 | B15: Seamount | C15: 12.553 | D15: 466.7026 | E15: 21.884 | F15: 21.3966 | G15: 28.119 | H15: 6.7816 | I15: 2.2226 | J15: 6.5195 | K15: 5.2249 | L15: 1.9976 | M15: 2.4055 | N15: 2.249 | O15: 0.5495
A16: 33GTV2 | B16: Seamount | C16: 22.7252 | D16: 584.55525 | E16: 34.835111 | F16: 33.966962 | G16: 40.170048 | H16: 8.5974976 | I16: 2.6780742 | J16: 7.5057596 | K16: 5.6349337 | L16: 1.8897556 | M16: 3.3011852 | N16: 3.7444128 | O16: 0.93249982
A17: 55SLS6 | B17: Seamount | C17: 20.458877 | D17: 535.04394 | E17: 32.859642 | F17: 31.439657 | G17: 37.694387 | H17: 8.2602262 | I17: 2.5979553 | J17: 7.4172567 | K17: 5.6783707 | L17: 2.0511733 | M17: 3.1669728 | N17: 3.6115 | O17: 0.78691038
A18: P5 | B18: Tedside | C18: 29.144152 | D18: 539.28261 | E18: 51.836134 | F18: 52.198992 | G18: 48.871645 | H18: 9.9099379 | I18: 2.9024566 | J18: 8.9362618 | K18: 7.0173144 | L18: 2.6579531 | M18: 4.2450228 | N18: 7.2159126 | O18: 0.70811424
A19: P7 | B19: Tedside | C19: 23.192613 | D19: 519.16026 | E19: 41.296328 | F19: 42.66567 | G19: 41.378943 | H19: 8.4321313 | I19: 2.5050813 | J19: 7.5852431 | K19: 6.0006855 | L19: 2.2270996 | M19: 3.2619034 | N19: 5.9834618 | O19: 0.74319711
A20: P8 | B20: Tedside | C20: 23.198953 | D20: 626.94935 | E20: 40.470413 | F20: 43.748235 | G20: 39.862187 | H20: 8.0094179 | I20: 2.4652385 | J20: 7.0901986 | K20: 5.4824864 | L20: 2.0428528 | M20: 3.3660612 | N20: 6.2815944 | O20: 0.58381659
A21: P9 | B21: Tedside | C21: 18.664417 | D21: 546.58996 | E21: 38.569381 | F21: 38.768573 | G21: 38.299077 | H21: 7.757113 | I21: 2.3576489 | J21: 6.8482412 | K21: 5.6261771 | L21: 2.0716561 | M21: 3.0179775 | N21: 5.3315533 | O21: 0.92761411
A22: P10 | B22: Tedside | C22: 25.411652 | D22: 513.15403 | E22: 42.217028 | F22: 49.066234 | G22: 45.290615 | H22: 8.835209 | I22: 2.6112913 | J22: 7.7126077 | K22: 6.1626328 | L22: 2.2267069 | M22: 3.6060894 | N22: 7.1685917 | O22: 0.88216783
... A25: P1* | B25: Post-erosional | C25: 70.783333 | D25: 454.73333 | E25: 121.13333 | F25: 84.706667 | G25: 76.523333 | H25: 15.723333 | I25: 4.44 | J25: 13.166667 | K25: 11.18 | L25: 4.8033333 | M25: 5.8866667 | N25: 12.546667 | O25: 2.526
A26: Trace element concentrations (Woodhead and Devey, 1993; Woodhead and McCulloch, 1989) are corrected for the olivine accumulation to 9.5 wt. % MgO. Three evolved samples with MgO < 3.8 wt.% (denoted by *) were excluded from this correction. Partition coefficients used in the correction are from Bédard (2005).
A28: References
A29: Bédard, J.H. (2005) Partitioning coefficients between olivine and silicate melts. Lithos 83, 394–419.
A30: Woodhead, J.D., Devey, C.W. (1993) Geochemistry of the Pitcairn seamounts, I: source character and temporal trends. Earth and Planetary Science Letters 116, 81-99.
A31: Woodhead, J.D., McCulloch, M.T. (1989) Ancient seafloor signals in Pitcairn Island lavas and evidence for large amplitude, small length-scale mantle heterogeneities. Earth and Planetary Science Letters 94, 257-273.
A33: Wang et al. (2026) Geochem. Persp. Let. 39, 54-59 | https://doi.org/10.7185/geochemlet.2613
A34: © 2026 The Authors
A35: Published by the European Association of Geochemistry under Creative Commons License CC-BY-NC-ND.

Sheet Table S-5
A8: Table S-5 Calcium isotopic compositions of spinel peridotite melt.
A11: Input parameters for the spinel peridotite melting model used in this study
B12: Cpx | C12: Grt | D12: Opx | E12: Ol | F12: Spl | G12: Sum | H12: Liquid
A13: Initial modea | B13: 0.13 | D13: 0.28 | E13: 0.57 | G13: =SUM(B13:F13) -> 0.98
A14: Melting modea | B14: 0.49 | D14: 0.68 | E14: -0.18 | G14: =SUM(B14:F14) -> 0.99
A15: CaOa | B15: 0.1952 | D15: 0.0218 | E15: 0.0005 | G15: =SUMPRODUCT(B13:F13,B15:F15) -> 0.031765 | H15: 0.086
A16: DCaa | B16: =B15/$H$15 -> 2.2697674 | D16: =D15/$H$15 -> 0.25348837 | E16: =E15/$H$15 -> 0.0058139535 | G16: =SUMPRODUCT(B13:F13,B16:F16) -> 0.36936047
A17: DDyb | B17: 0.4 | D17: 0.011 | E17: 0.0027 | F17: 0
A18: DYbb | B18: 0.45 | D18: 0.08 | E18: 0.02 | F18: 0
A19: 1000lnβ at 1000 Kc, d | B19: 1.32 | C19: 2.03 | D19: 1.85 | E19: 2.08 | F19: - | H19: 1.19
A20: Δ44/42Camineral–cpx at 1673Kc | B20: =(1.32-1.32)/2.048/(1673/1000)^2 -> 0 | C20: =(2.03-1.32)/2.048/(1673/1000)^2 -> 0.12386155 | D20: =(1.85-1.32)/2.048/(1673/1000)^2 -> 0.092460031 | E20: =(2.08-1.32)/2.048/(1673/1000)^2 -> 0.1325842 | F20: 0
A21: Δ44/42Camelt–cpx at 1673Kc, d | H21: =(1.19-1.32)/2.048/(1673/1000)^2 -> -0.022678876
A22: Initial Dye | G22: 0.737
A23: Initial Ybe | G23: 0.493
A24: Initial δ44/42Caf | G24: 0.42
A26: Results of spinel peridotite melting calculations using the non-modal batch melting model.
A27: F | B27: f | C27: cpxresidue | D27: grtresidue | E27: opxresidue | F27: olresidue | G27: splresidue | H27: (cpxresidue)Ng | I27: (grtresidue)N | J27: (opxresidue)N | K27: (olresidue)N | L27: (splresidue)N | M27: DCa | N27: PCa | O27: CaOinstant melt | P27: CaOresidue | Q27: CaOcpx residue | R27: CaOgrt residue | S27: CaOopx residue | T27: CaOol residue | U27: CaOsp residue | V27: Δ44/42Camelt-residue | W27: δ44/42Cainstant melt | X27: δ44/42Caresidue | Y27: δ44/42Caaggregate melt | Z27: DDy | AA27: PDy | AB27: Dyinstant melt | AC27: DyResidue | AD27: Dyaggregate melt | AE27: DYb | AF27: PYb | AG27: Ybinstant melt | AH27: Ybresidue | AI27: Ybaggregate melt | AJ27: (Dy/Yb)N aggregate melt | AK27: CaOaggregate melt
A28: 0.01 | B28: =A28 -> 0.01 | C28: =$B$13-A28*$B$14 -> 0.1251 | D28: =$C$13-A28*$C$14 -> 0 | E28: =$D$13-A28*$D$14 -> 0.2732 | F28: =$E$13-A28*$E$14 -> 0.5718 | G28: =$F$13-A28*$F$14 -> 0 | H28: =C28/SUM(C28:G28) -> 0.12895578 | I28: =D28/SUM(C28:G28) -> 0 | J28: =E28/SUM(C28:G28) -> 0.28162045 | K28: =F28/SUM(C28:G28) -> 0.58942377 | L28: =G28/SUM(C28:G28) -> 0 | M28: =SUMPRODUCT(B13:F13,B16:F16) -> 0.36936047 | N28: =SUMPRODUCT($B$14:$F$14,$B$16:$F$16) -> 1.2835116 | O28: =G15/(M28+(1-N28)*B28) -> 0.08666522 | P28: =(G15-O28*B28)/(1-B28) -> 0.031210452 | Q28: =O28*$B$16 -> 0.19670989 | R28: =O28*$C$16 -> 0 | S28: =O28*$D$16 -> 0.021968626 | T28: =O28*$E$16 -> 0.00050386756 | U28: =O28*$F$16 -> 0 | V28: =H$21-SUMPRODUCT(Q28:U28,H28:L28,$B$20:$F$20)/SUMPRODUCT(Q28:U28,H28:L28) -> -0.041874992 | W28: =(G15*G24+P28*V28*(1-B28))/(B28*O28+P28*(1-B28)) -> 0.37926749 | X28: =W28-V28 -> 0.42114249 | Y28: =W28 -> 0.37926749 | Z28: =SUMPRODUCT(B13:F13,B17:F17) -> 0.056619 | AA28: =SUMPRODUCT($B$14:$F$14,$B$17:$F$17) -> 0.202994 | AB28: =G22/(Z28+(1-AA28)*B28) -> 11.410601 | AC28: =(G22-B28*AB28)/(1-B28) -> 0.62918585 | AD28: =AB28 -> 11.410601 | AE28: =SUMPRODUCT(B13:F13,B18:F18) -> 0.0923 | AF28: =SUMPRODUCT($B$14:$F$14,$B$18:$F$18) -> 0.2713 | AG28: =G23/(AE28+(1-AF28)*B28) -> 4.9504453 | AH28: =(G23-B28*AG28)/(1-B28) -> 0.4479753 | AI28: =AG28 -> 4.9504453 | AJ28: =AD28/AI28/0.254*0.17 -> 1.5426928 | AK28: =O28 -> 0.08666522
A29: 0.02 | B29: =$A$28/(1-A28) -> 0.01010101 | C29: =H28-$B$14*B29 -> 0.12400628 | D29: =I28-B29*$C$14 -> 0 | E29: =J28-B29*$D$14 -> 0.27475176 | F29: =K28-B29*$E$14 -> 0.59124195 | G29: =L28-B29*$F$14 -> 0 | H29: =C29/SUM(C29:G29) -> 0.12525887 | I29: =D29/SUM(C29:G29) -> 0 | J29: =E29/SUM(C29:G29) -> 0.27752703 | K29: =F29/SUM(C29:G29) -> 0.59721409 | L29: =G29/SUM(C29:G29) -> 0 | M29: =SUMPRODUCT($B$16:$F$16,H29:L29) -> 0.35813056 | N29: =SUMPRODUCT($B$14:$F$14,$B$16:$F$16) -> 1.2835116 | O29: =P28/(M29+(1-N29)*B29) -> 0.087850742 | P29: =(P28-O29*B29)/(1-B29) -> 0.03063249 | Q29: =O29*$B$16 -> 0.19940075 | R29: =O29*$C$16 -> 0 | S29: =O29*$D$16 -> 0.022269141 | T29: =O29*$E$16 -> 0.00051076013 | U29: =O29*$F$16 -> 0 | V29: =H$21-SUMPRODUCT(Q29:U29,H29:L29,$B$20:$F$20)/SUMPRODUCT(Q29:U29,H29:L29) -> -0.042126831 | W29: =(X28*P28+P29*V29*(1-B29))/(B29*O29+P29*(1-B29)) -> 0.38021341 | X29: =W29-V29 -> 0.42234024 | Y29: =SUMPRODUCT($W$28:W29,$O$28:O29)/SUM($O$28:O29) -> 0.37974367 | Z29: =SUMPRODUCT(H28:L28,$B$17:$F$17) -> 0.05627158 | AA29: =SUMPRODUCT($B$14:$F$14,$B$17:$F$17) -> 0.202994 | AB29: =AC28/(Z29+(1-AA29)*B29) -> 9.7817919 | AC29: =(AC28-B29*AB29)/(1-B29) -> 0.53579191 | AD29: =SUMPRODUCT(AB$28:AB29,$B$28:$B29)/SUM($B$28:$B29) -> 10.592104 | AE29: =SUMPRODUCT(H28:L28,$B$18:$F$18) -> 0.092348212 | AF29: =SUMPRODUCT($B$14:$F$14,$B$18:$F$18) -> 0.2713 | AG29: =AH28/(AE29+(1-AF29)*B29) -> 4.4928353 | AH29: =(AH28-B29*AG29)/(1-B29) -> 0.40670122 | AI29: =SUMPRODUCT(AG$28:AG29,$B$28:$B29)/SUM($B$28:$B29) -> 4.7204906 | AJ29: =AD29/AI29/0.254*0.17 -> 1.5017938 | AK29: =SUMPRODUCT($O$28:O29,$B$28:B29)/SUMPRODUCT($B$28:B29) -> 0.087260959
A30: 0.03 | B30: =$A$28/(1-A29) -> 0.010204082 | C30: =H29-$B$14*B30 -> 0.12025887 | D30: =I29-B30*$C$14 -> 0 | E30: =J29-B30*$D$14 -> 0.27058826 | F30: =K29-B30*$E$14 -> 0.59905083 | G30: =L29-B30*$F$14 -> 0 | H30: =C30/SUM(C30:G30) -> 0.12148613 | I30: =D30/SUM(C30:G30) -> 0 | J30: =E30/SUM(C30:G30) -> 0.27334965 | K30: =F30/SUM(C30:G30) -> 0.60516422 | L30: =G30/SUM(C30:G30) -> 0 | M30: =SUMPRODUCT($B$16:$F$16,H30:L30) -> 0.34855462 | N30: =SUMPRODUCT($B$14:$F$14,$B$16:$F$16) -> 1.2835116 | O30: =P29/(M30+(1-N30)*B30) -> 0.088619872 | P30: =(P29-O30*B30)/(1-B30) -> 0.030034682 | Q30: =O30*$B$16 -> 0.2011465 | R30: =O30*$C$16 -> 0 | S30: =O30*$D$16 -> 0.022464107 | T30: =O30*$E$16 -> 0.00051523181 | U30: =O30*$F$16 -> 0 | V30: =H$21-SUMPRODUCT(Q30:U30,H30:L30,$B$20:$F$20)/SUMPRODUCT(Q30:U30,H30:L30) -> -0.042397817 | W30: =(X29*P29+P30*V30*(1-B30))/(B30*O30+P30*(1-B30)) -> 0.38119403 | X30: =W30-V30 -> 0.42359185 | Y30: =SUMPRODUCT($W$28:W30,$O$28:O30)/SUM($O$28:O30) -> 0.38023212 | Z30: =SUMPRODUCT(H29:L29,$B$17:$F$17) -> 0.054768824 | AA30: =SUMPRODUCT($B$14:$F$14,$B$17:$F$17) -> 0.202994 | AB30: =AC29/(Z30+(1-AA30)*B30) -> 8.517946 | AC30: =(AC29-B30*AB30)/(1-B30) -> 0.45350166 | AD30: =SUMPRODUCT(AB$28:AB30,$B$28:$B30)/SUM($B$28:$B30) -> 9.8937106 | AE30: =SUMPRODUCT(H29:L29,$B$18:$F$18) -> 0.090512937 | AF30: =SUMPRODUCT($B$14:$F$14,$B$18:$F$18) -> 0.2713 | AG30: =AH29/(AE30+(1-AF30)*B30) -> 4.152188 | AH30: =(AH29-B30*AG30)/(1-B30) -> 0.36808795 | AI30: =SUMPRODUCT(AG$28:AG30,$B$28:$B30)/SUM($B$28:$B30) -> 4.5291364 | AJ30: =AD30/AI30/0.254*0.17 -> 1.4620392 | AK30: =SUMPRODUCT($O$28:O30,$B$28:B30)/SUMPRODUCT($B$28:B30) -> 0.087718521
A31: 0.04 | B31: =$A$28/(1-A30) -> 0.010309278 | C31: =H30-$B$14*B31 -> 0.11643458 | D31: =I30-B31*$C$14 -> 0 | E31: =J30-B31*$D$14 -> 0.26633934 | F31: =K30-B31*$E$14 -> 0.60701989 | G31: =L30-B31*$F$14 -> 0 | H31: =C31/SUM(C31:G31) -> 0.11763519 | I31: =D31/SUM(C31:G31) -> 0 | J31: =E31/SUM(C31:G31) -> 0.26908568 | K31: =F31/SUM(C31:G31) -> 0.61327913 | L31: =G31/SUM(C31:G31) -> 0 | M31: =SUMPRODUCT($B$16:$F$16,H31:L31) -> 0.33878019 | N31: =SUMPRODUCT($B$14:$F$14,$B$16:$F$16) -> 1.2835116 | O31: =P30/(M31+(1-N31)*B31) -> 0.089426891 | P31: =(P30-O31*B31)/(1-B31) -> 0.029416013 | Q31: =O31*$B$16 -> 0.20297825 | R31: =O31*$C$16 -> 0 | S31: =O31*$D$16 -> 0.022668677 | T31: =O31*$E$16 -> 0.00051992378 | U31: =O31*$F$16 -> 0 | V31: =H$21-SUMPRODUCT(Q31:U31,H31:L31,$B$20:$F$20)/SUMPRODUCT(Q31:U31,H31:L31) -> -0.042690217 | W31: =(X30*P30+P31*V31*(1-B31))/(B31*O31+P31*(1-B31)) -> 0.38221202 | X31: =W31-V31 -> 0.42490224 | Y31: =SUMPRODUCT($W$28:W31,$O$28:O31)/SUM($O$28:O31) -> 0.38073432 | Z31: =SUMPRODUCT(H30:L30,$B$17:$F$17) -> 0.053235241 | AA31: =SUMPRODUCT($B$14:$F$14,$B$17:$F$17) -> 0.202994 | AB31: =AC30/(Z31+(1-AA31)*B31) -> 7.3797948 | AC31: =(AC30-B31*AB31)/(1-B31) -> 0.38135277 | AD31: =SUMPRODUCT(AB$28:AB31,$B$28:$B31)/SUM($B$28:$B31) -> 9.2555951 | AE31: =SUMPRODUCT(H30:L30,$B$18:$F$18) -> 0.088640015 | AF31: =SUMPRODUCT($B$14:$F$14,$B$18:$F$18) -> 0.2713 | AG31: =AH30/(AE31+(1-AF31)*B31) -> 3.8281728 | AH31: =(AH30-B31*AG31)/(1-B31) -> 0.3320454 | AI31: =SUMPRODUCT(AG$28:AG31,$B$28:$B31)/SUM($B$28:$B31) -> 4.3512085 | AJ31: =AD31/AI31/0.254*0.17 -> 1.4236711 | AK31: =SUMPRODUCT($O$28:O31,$B$28:B31)/SUMPRODUCT($B$28:B31) -> 0.088152162
A32: 0.05 | B32: =$A$28/(1-A31) -> 0.010416667 | C32: =H31-$B$14*B32 -> 0.11253102 | D32: =I31-B32*$C$14 -> 0 | E32: =J31-B32*$D$14 -> 0.26200234 | F32: =K31-B32*$E$14 -> 0.61515413 | G32: =L31-B32*$F$14 -> 0 | H32: =C32/SUM(C32:G32) -> 0.11370359 | I32: =D32/SUM(C32:G32) -> 0 | J32: =E32/SUM(C32:G32) -> 0.2647324 | K32: =F32/SUM(C32:G32) -> 0.62156401 | L32: =G32/SUM(C32:G32) -> 0 | M32: =SUMPRODUCT($B$16:$F$16,H32:L32) -> 0.32880104 | N32: =SUMPRODUCT($B$14:$F$14,$B$16:$F$16) -> 1.2835116 | O32: =P31/(M32+(1-N32)*B32) -> 0.090275319 | P32: =(P31-O32*B32)/(1-B32) -> 0.028775389 | Q32: =O32*$B$16 -> 0.20490398 | R32: =O32*$C$16 -> 0 | S32: =O32*$D$16 -> 0.022883744 | T32: =O32*$E$16 -> 0.0005248565 | U32: =O32*$F$16 -> 0 | V32: =H$21-SUMPRODUCT(Q32:U32,H32:L32,$B$20:$F$20)/SUMPRODUCT(Q32:U32,H32:L32) -> -0.043006677 | W32: =(X31*P31+P32*V32*(1-B32))/(B32*O32+P32*(1-B32)) -> 0.38327039 | X32: =W32-V32 -> 0.42627707 | Y32: =SUMPRODUCT($W$28:W32,$O$28:O32)/SUM($O$28:O32) -> 0.38125132 | Z32: =SUMPRODUCT(H31:L31,$B$17:$F$17) -> 0.051669872 | AA32: =SUMPRODUCT($B$14:$F$14,$B$17:$F$17) -> 0.202994 | AB32: =AC31/(Z32+(1-AA32)*B32) -> 6.3588451 | AC32: =(AC31-B32*AB32)/(1-B32) -> 0.3184318 | AD32: =SUMPRODUCT(AB$28:AB32,$B$28:$B32)/SUM($B$28:$B32) -> 8.6642985 | AE32: =SUMPRODUCT(H31:L31,$B$18:$F$18) -> 0.086728272 | AF32: =SUMPRODUCT($B$14:$F$14,$B$18:$F$18) -> 0.2713 | AG32: =AH31/(AE32+(1-AF32)*B32) -> 3.5204547 | AH32: =(AH31-B32*AG32)/(1-B32) -> 0.2984832 | AI32: =SUMPRODUCT(AG$28:AG32,$B$28:$B32)/SUM($B$28:$B32) -> 4.1816316 | AJ32: =AD32/AI32/0.254*0.17 -> 1.3867649 | AK32: =SUMPRODUCT($O$28:O32,$B$28:B32)/SUMPRODUCT($B$28:B32) -> 0.08858555
A33: 0.06 | B33: =$A$28/(1-A32) -> 0.010526316 | C33: =H32-$B$14*B33 -> 0.1085457 | D33: =I32-B33*$C$14 -> 0 | E33: =J32-B33*$D$14 -> 0.2575745 | F33: =K32-B33*$E$14 -> 0.62345875 | G33: =L32-B33*$F$14 -> 0 | H33: =C33/SUM(C33:G33) -> 0.10968877 | I33: =D33/SUM(C33:G33) -> 0 | J33: =E33/SUM(C33:G33) -> 0.26028697 | K33: =F33/SUM(C33:G33) -> 0.63002426 | L33: =G33/SUM(C33:G33) -> 0 | M33: =SUMPRODUCT($B$16:$F$16,H33:L33) -> 0.31861065 | N33: =SUMPRODUCT($B$14:$F$14,$B$16:$F$16) -> 1.2835116 | O33: =P32/(M33+(1-N33)*B33) -> 0.09116917 | P33: =(P32-O33*B33)/(1-B33) -> 0.028111625 | Q33: =O33*$B$16 -> 0.20693281 | R33: =O33*$C$16 -> 0 | S33: =O33*$D$16 -> 0.023110324 | T33: =O33*$E$16 -> 0.00053005331 | U33: =O33*$F$16 -> 0 | V33: =H$21-SUMPRODUCT(Q33:U33,H33:L33,$B$20:$F$20)/SUMPRODUCT(Q33:U33,H33:L33) -> -0.043350293 | W33: =(X32*P32+P33*V33*(1-B33))/(B33*O33+P33*(1-B33)) -> 0.38437253 | X33: =W33-V33 -> 0.42772283 | Y33: =SUMPRODUCT($W$28:W33,$O$28:O33)/SUM($O$28:O33) -> 0.38178419 | Z33: =SUMPRODUCT(H32:L32,$B$17:$F$17) -> 0.050071716 | AA33: =SUMPRODUCT($B$14:$F$14,$B$17:$F$17) -> 0.202994 | AB33: =AC32/(Z33+(1-AA33)*B33) -> 5.4468864 | AC33: =(AC32-B33*AB33)/(1-B33) -> 0.26387377 | AD33: =SUMPRODUCT(AB$28:AB33,$B$28:$B33)/SUM($B$28:$B33) -> 8.1141206 | AE33: =SUMPRODUCT(H32:L32,$B$18:$F$18) -> 0.084776488 | AF33: =SUMPRODUCT($B$14:$F$14,$B$18:$F$18) -> 0.2713 | AG33: =AH32/(AE33+(1-AF33)*B33) -> 3.2286948 | AH33: =(AH32-B33*AG33)/(1-B33) -> 0.26731073 | AI33: =SUMPRODUCT(AG$28:AG33,$B$28:$B33)/SUM($B$28:$B33) -> 4.0186793 | AJ33: =AD33/AI33/0.254*0.17 -> 1.351367 | AK33: =SUMPRODUCT($O$28:O33,$B$28:B33)/SUMPRODUCT($B$28:B33) -> 0.089027349
A34: 0.07 | B34: =$A$28/(1-A33) -> 0.010638298 | C34: =H33-$B$14*B34 -> 0.104476 | D34: =I33-B34*$C$14 -> 0 | E34: =J33-B34*$D$14 -> 0.25305292 | F34: =K33-B34*$E$14 -> 0.63193916 | G34: =L33-B34*$F$14 -> 0 | H34: =C34/SUM(C34:G34) -> 0.10558805 | I34: =D34/SUM(C34:G34) -> 0 | J34: =E34/SUM(C34:G34) -> 0.25574642 | K34: =F34/SUM(C34:G34) -> 0.63866553 | L34: =G34/SUM(C34:G34) -> 0 | M34: =SUMPRODUCT($B$16:$F$16,H34:L34) -> 0.30820223 | N34: =SUMPRODUCT($B$14:$F$14,$B$16:$F$16) -> 1.2835116 | O34: =P33/(M34+(1-N34)*B34) -> 0.092113045 | P34: =(P33-O34*B34)/(1-B34) -> 0.027423438 | Q34: =O34*$B$16 -> 0.20907519 | R34: =O34*$C$16 -> 0 | S34: =O34*$D$16 -> 0.023349586 | T34: =O34*$E$16 -> 0.00053554096 | U34: =O34*$F$16 -> 0 | V34: =H$21-SUMPRODUCT(Q34:U34,H34:L34,$B$20:$F$20)/SUMPRODUCT(Q34:U34,H34:L34) -> -0.043724718 | W34: =(X33*P33+P34*V34*(1-B34))/(B34*O34+P34*(1-B34)) -> 0.38552228 | X34: =W34-V34 -> 0.429247 | Y34: =SUMPRODUCT($W$28:W34,$O$28:O34)/SUM($O$28:O34) -> 0.38233413 | Z34: =SUMPRODUCT(H33:L33,$B$17:$F$17) -> 0.04843973 | AA34: =SUMPRODUCT($B$14:$F$14,$B$17:$F$17) -> 0.202994 | AB34: =AC33/(Z34+(1-AA34)*B34) -> 4.6359917 | AC34: =(AC33-B34*AB34)/(1-B34) -> 0.21686175 | AD34: =SUMPRODUCT(AB$28:AB34,$B$28:$B34)/SUM($B$28:$B34) -> 7.6016053 | AE34: =SUMPRODUCT(H33:L33,$B$18:$F$18) -> 0.082783389 | AF34: =SUMPRODUCT($B$14:$F$14,$B$18:$F$18) -> 0.2713 | AG34: =AH33/(AE34+(1-AF34)*B34) -> 2.952551 | AH34: =(AH33-B34*AG34)/(1-B34) -> 0.23843718 | AI34: =SUMPRODUCT(AG$28:AG34,$B$28:$B34)/SUM($B$28:$B34) -> 3.8615813 | AJ34: =AD34/AI34/0.254*0.17 -> 1.3175143 | AK34: =SUMPRODUCT($O$28:O34,$B$28:B34)/SUMPRODUCT($B$28:B34) -> 0.089482038
A35: 0.08 | B35: =$A$28/(1-A34) -> 0.010752688 | C35: =H34-$B$14*B35 -> 0.10031923 | D35: =I34-B35*$C$14 -> 0 | E35: =J34-B35*$D$14 -> 0.2484346 | F35: =K34-B35*$E$14 -> 0.64060101 | G35: =L34-B35*$F$14 -> 0 | H35: =C35/SUM(C35:G35) -> 0.10139863 | I35: =D35/SUM(C35:G35) -> 0 | J35: =E35/SUM(C35:G35) -> 0.25110768 | K35: =F35/SUM(C35:G35) -> 0.64749369 | L35: =G35/SUM(C35:G35) -> 0 | M35: =SUMPRODUCT($B$16:$F$16,H35:L35) -> 0.29756869 | N35: =SUMPRODUCT($B$14:$F$14,$B$16:$F$16) -> 1.2835116 | O35: =P34/(M35+(1-N35)*B35) -> 0.093112254 | P35: =(P34-O35*B35)/(1-B35) -> 0.026709429 | Q35: =O35*$B$16 -> 0.21134316 | R35: =O35*$C$16 -> 0 | S35: =O35*$D$16 -> 0.023602874 | T35: =O35*$E$16 -> 0.00054135031 | U35: =O35*$F$16 -> 0 | V35: =H$21-SUMPRODUCT(Q35:U35,H35:L35,$B$20:$F$20)/SUMPRODUCT(Q35:U35,H35:L35) -> -0.044134291 | W35: =(X34*P34+P35*V35*(1-B35))/(B35*O35+P35*(1-B35)) -> 0.38672402 | X35: =W35-V35 -> 0.43085831 | Y35: =SUMPRODUCT($W$28:W35,$O$28:O35)/SUM($O$28:O35) -> 0.38290245 | Z35: =SUMPRODUCT(H34:L34,$B$17:$F$17) -> 0.046772826 | AA35: =SUMPRODUCT($B$14:$F$14,$B$17:$F$17) -> 0.202994 | AB35: =AC34/(Z35+(1-AA35)*B35) -> 3.9185191 | AC35: =(AC34-B35*AB35)/(1-B35) -> 0.17662635 | AD35: =SUMPRODUCT(AB$28:AB35,$B$28:$B35)/SUM($B$28:$B35) -> 7.1241627 | AE35: =SUMPRODUCT(H34:L34,$B$18:$F$18) -> 0.080747646 | AF35: =SUMPRODUCT($B$14:$F$14,$B$18:$F$18) -> 0.2713 | AG35: =AH34/(AE35+(1-AF35)*B35) -> 2.6916771 | AH35: =(AH34-B35*AG35)/(1-B35) -> 0.21177153 | AI35: =SUMPRODUCT(AG$28:AG35,$B$28:$B35)/SUM($B$28:$B35) -> 3.7099253 | AJ35: =AD35/AI35/0.254*0.17 -> 1.2852389 | AK35: =SUMPRODUCT($O$28:O35,$B$28:B35)/SUMPRODUCT($B$28:B35) -> 0.089952627
A36: 0.09 | B36: =$A$28/(1-A35) -> 0.010869565 | C36: =H35-$B$14*B36 -> 0.096072548 | D36: =I35-B36*$C$14 -> 0 | E36: =J35-B36*$D$14 -> 0.24371637 | F36: =K35-B36*$E$14 -> 0.64945021 | G36: =L35-B36*$F$14 -> 0 | H36: =C36/SUM(C36:G36) -> 0.097117618 | I36: =D36/SUM(C36:G36) -> 0 | J36: =E36/SUM(C36:G36) -> 0.2463675 | K36: =F36/SUM(C36:G36) -> 0.65651488 | L36: =G36/SUM(C36:G36) -> 0 | M36: =SUMPRODUCT($B$16:$F$16,H36:L36) -> 0.28670265 | N36: =SUMPRODUCT($B$14:$F$14,$B$16:$F$16) -> 1.2835116 | O36: =P35/(M36+(1-N36)*B36) -> 0.094172959 | P36: =(P35-O36*B36)/(1-B36) -> 0.025968072 | Q36: =O36*$B$16 -> 0.21375072 | R36: =O36*$C$16 -> 0 | S36: =O36*$D$16 -> 0.02387175 | T36: =O36*$E$16 -> 0.00054751721 | U36: =O36*$F$16 -> 0 | V36: =H$21-SUMPRODUCT(Q36:U36,H36:L36,$B$20:$F$20)/SUMPRODUCT(Q36:U36,H36:L36) -> -0.044584204 | W36: =(X35*P35+P36*V36*(1-B36))/(B36*O36+P36*(1-B36)) -> 0.38798276 | X36: =W36-V36 -> 0.43256696 | Y36: =SUMPRODUCT($W$28:W36,$O$28:O36)/SUM($O$28:O36) -> 0.38349063 | Z36: =SUMPRODUCT(H35:L35,$B$17:$F$17) -> 0.045069871 | AA36: =SUMPRODUCT($B$14:$F$14,$B$17:$F$17) -> 0.202994 | AB36: =AC35/(Z36+(1-AA36)*B36) -> 3.2871124 | AC36: =(AC35-B36*AB36)/(1-B36) -> 0.14244518 | AD36: =SUMPRODUCT(AB$28:AB36,$B$28:$B36)/SUM($B$28:$B36) -> 6.6796093 | AE36: =SUMPRODUCT(H35:L35,$B$18:$F$18) -> 0.078667874 | AF36: =SUMPRODUCT($B$14:$F$14,$B$18:$F$18) -> 0.2713 | AG36: =AH35/(AE36+(1-AF36)*B36) -> 2.4457228 | AH36: =(AH35-B36*AG36)/(1-B36) -> 0.18722262 | AI36: =SUMPRODUCT(AG$28:AG36,$B$28:$B36)/SUM($B$28:$B36) -> 3.5634572 | AJ36: =AD36/AI36/0.254*0.17 -> 1.2545695 | AK36: =SUMPRODUCT($O$28:O36,$B$28:B36)/SUMPRODUCT($B$28:B36) -> 0.090441587
A37: 0.1 | B37: =$A$28/(1-A36) -> 0.010989011 | C37: =H36-$B$14*B37 -> 0.091733003 | D37: =I36-B37*$C$14 -> 0 | E37: =J36-B37*$D$14 -> 0.23889497 | F37: =K36-B37*$E$14 -> 0.6584929 | G37: =L36-B37*$F$14 -> 0 | H37: =C37/SUM(C37:G37) -> 0.092741953 | I37: =D37/SUM(C37:G37) -> 0 | J37: =E37/SUM(C37:G37) -> 0.24152253 | K37: =F37/SUM(C37:G37) -> 0.66573552 | L37: =G37/SUM(C37:G37) -> 0 | M37: =SUMPRODUCT($B$16:$F$16,H37:L37) -> 0.27559637 | N37: =SUMPRODUCT($B$14:$F$14,$B$16:$F$16) -> 1.2835116 | O37: =P36/(M37+(1-N37)*B37) -> 0.095302369 | P37: =(P36-O37*B37)/(1-B37) -> 0.025197691 | Q37: =O37*$B$16 -> 0.21631422 | R37: =O37*$C$16 -> 0 | S37: =O37*$D$16 -> 0.024158042 | T37: =O37*$E$16 -> 0.00055408354 | U37: =O37*$F$16 -> 0 | V37: =H$21-SUMPRODUCT(Q37:U37,H37:L37,$B$20:$F$20)/SUMPRODUCT(Q37:U37,H37:L37) -> -0.045080727 | W37: =(X36*P36+P37*V37*(1-B37))/(B37*O37+P37*(1-B37)) -> 0.38930432 | X37: =W37-V37 -> 0.43438505 | Y37: =SUMPRODUCT($W$28:W37,$O$28:O37)/SUM($O$28:O37) -> 0.38410035 | Z37: =SUMPRODUCT(H36:L36,$B$17:$F$17) -> 0.04332968 | AA37: =SUMPRODUCT($B$14:$F$14,$B$17:$F$17) -> 0.202994 | AB37: =AC36/(Z37+(1-AA37)*B37) -> 2.7347031 | AC37: =(AC36-B37*AB37)/(1-B37) -> 0.11364231 | AD37: =SUMPRODUCT(AB$28:AB37,$B$28:$B37)/SUM($B$28:$B37) -> 6.2659856 | AE37: =SUMPRODUCT(H36:L36,$B$18:$F$18) -> 0.076542626 | AF37: =SUMPRODUCT($B$14:$F$14,$B$18:$F$18) -> 0.2713 | AG37: =AH36/(AE37+(1-AF37)*B37) -> 2.2143337 | AH37: =(AH36-B37*AG37)/(1-B37) -> 0.16469916 | AI37: =SUMPRODUCT(AG$28:AG37,$B$28:$B37)/SUM($B$28:$B37) -> 3.4220015 | AJ37: =AD37/AI37/0.254*0.17 -> 1.2255313 | AK37: =SUMPRODUCT($O$28:O37,$B$28:B37)/SUMPRODUCT($B$28:B37) -> 0.09095124
A38: 0.11 | B38: =$A$28/(1-A37) -> 0.011111111 | C38: =H37-$B$14*B38 -> 0.087297509 | D38: =I37-B38*$C$14 -> 0 | E38: =J37-B38*$D$14 -> 0.23396697 | F38: =K37-B38*$E$14 -> 0.66773552 | G38: =L37-B38*$F$14 -> 0 | H38: =C38/SUM(C38:G38) -> 0.088268462 | I38: =D38/SUM(C38:G38) -> 0 | J38: =E38/SUM(C38:G38) -> 0.23656923 | K38: =F38/SUM(C38:G38) -> 0.6751623 | L38: =G38/SUM(C38:G38) -> 0 | M38: =SUMPRODUCT($B$16:$F$16,H38:L38) -> 0.26424179 | N38: =SUMPRODUCT($B$14:$F$14,$B$16:$F$16) -> 1.2835116 | O38: =P37/(M38+(1-N38)*B38) -> 0.096508982 | P38: =(P37-O38*B38)/(1-B38) -> 0.02439644 | Q38: =O38*$B$16 -> 0.21905294 | R38: =O38*$C$16 -> 0 | S38: =O38*$D$16 -> 0.024463905 | T38: =O38*$E$16 -> 0.00056109873 | U38: =O38*$F$16 -> 0 | V38: =H$21-SUMPRODUCT(Q38:U38,H38:L38,$B$20:$F$20)/SUMPRODUCT(Q38:U38,H38:L38) -> -0.0456315 | W38: =(X37*P37+P38*V38*(1-B38))/(B38*O38+P38*(1-B38)) -> 0.39069546 | X38: =W38-V38 -> 0.43632696 | Y38: =SUMPRODUCT($W$28:W38,$O$28:O38)/SUM($O$28:O38) -> 0.38473353 | Z38: =SUMPRODUCT(H37:L37,$B$17:$F$17) -> 0.041551015 | AA38: =SUMPRODUCT($B$14:$F$14,$B$17:$F$17) -> 0.202994 | AB38: =AC37/(Z38+(1-AA38)*B38) -> 2.2545109 | AC38: =(AC37-B38*AB38)/(1-B38) -> 0.089587611 | AD38: =SUMPRODUCT(AB$28:AB38,$B$28:$B38)/SUM($B$28:$B38) -> 5.881473 | AE38: =SUMPRODUCT(H37:L37,$B$18:$F$18) -> 0.074370392 | AF38: =SUMPRODUCT($B$14:$F$14,$B$18:$F$18) -> 0.2713 | AG38: =AH37/(AE38+(1-AF38)*B38) -> 1.9971509 | AH38: =(AH37-B38*AG38)/(1-B38) -> 0.14410981 | AI38: =SUMPRODUCT(AG$28:AG38,$B$28:$B38)/SUM($B$28:$B38) -> 3.285425 | AJ38: =AD38/AI38/0.254*0.17 -> 1.198146 | AK38: =SUMPRODUCT($O$28:O38,$B$28:B38)/SUMPRODUCT($B$28:B38) -> 0.091483967
A39: 0.12 | B39: =$A$28/(1-A38) -> 0.011235955 | C39: =H38-$B$14*B39 -> 0.082762844 | D39: =I38-B39*$C$14 -> 0 | E39: =J38-B39*$D$14 -> 0.22892878 | F39: =K38-B39*$E$14 -> 0.67718478 | G39: =L38-B39*$F$14 -> 0 | H39: =C39/SUM(C39:G39) -> 0.08369382 | I39: =D39/SUM(C39:G39) -> 0 | J39: =E39/SUM(C39:G39) -> 0.23150394 | K39: =F39/SUM(C39:G39) -> 0.68480224 | L39: =G39/SUM(C39:G39) -> 0 | M39: =SUMPRODUCT($B$16:$F$16,H39:L39) -> 0.25263047 | N39: =SUMPRODUCT($B$14:$F$14,$B$16:$F$16) -> 1.2835116 | O39: =P38/(M39+(1-N39)*B39) -> 0.097802903 | P39: =(P38-O39*B39)/(1-B39) -> 0.023562276 | Q39: =O39*$B$16 -> 0.22198984 | R39: =O39*$C$16 -> 0 | S39: =O39*$D$16 -> 0.024791899 | T39: =O39*$E$16 -> 0.00056862153 | U39: =O39*$F$16 -> 0 | V39: =H$21-SUMPRODUCT(Q39:U39,H39:L39,$B$20:$F$20)/SUMPRODUCT(Q39:U39,H39:L39) -> -0.046245927 | W39: =(X38*P38+P39*V39*(1-B39))/(B39*O39+P39*(1-B39)) -> 0.39216412 | X39: =W39-V39 -> 0.43841005 | Y39: =SUMPRODUCT($W$28:W39,$O$28:O39)/SUM($O$28:O39) -> 0.38539239 | Z39: =SUMPRODUCT(H38:L38,$B$17:$F$17) -> 0.039732585 | AA39: =SUMPRODUCT($B$14:$F$14,$B$17:$F$17) -> 0.202994 | AB39: =AC38/(Z39+(1-AA39)*B39) -> 1.8400458 | AC39: =(AC38-B39*AB39)/(1-B39) -> 0.069696041 | AD39: =SUMPRODUCT(AB$28:AB39,$B$28:$B39)/SUM($B$28:$B39) -> 5.5243525 | AE39: =SUMPRODUCT(H38:L38,$B$18:$F$18) -> 0.072149593 | AF39: =SUMPRODUCT($B$14:$F$14,$B$18:$F$18) -> 0.2713 | AG39: =AH38/(AE39+(1-AF39)*B39) -> 1.793811 | AH39: =(AH38-B39*AG39)/(1-B39) -> 0.12536321 | AI39: =SUMPRODUCT(AG$28:AG39,$B$28:$B39)/SUM($B$28:$B39) -> 3.1536186 | AJ39: =AD39/AI39/0.254*0.17 -> 1.1724313 | AK39: =SUMPRODUCT($O$28:O39,$B$28:B39)/SUMPRODUCT($B$28:B39) -> 0.09204234
A40: 0.13 | B40: =$A$28/(1-A39) -> 0.011363636 | C40: =H39-$B$14*B40 -> 0.078125638 | D40: =I39-B40*$C$14 -> 0 | E40: =J39-B40*$D$14 -> 0.22377667 | F40: =K39-B40*$E$14 -> 0.68684769 | G40: =L39-B40*$F$14 -> 0 | H40: =C40/SUM(C40:G40) -> 0.079014552 | I40: =D40/SUM(C40:G40) -> 0 | J40: =E40/SUM(C40:G40) -> 0.2263228 | K40: =F40/SUM(C40:G40) -> 0.69466265 | L40: =G40/SUM(C40:G40) -> 0 | M40: =SUMPRODUCT($B$16:$F$16,H40:L40) -> 0.24075359 | N40: =SUMPRODUCT($B$14:$F$14,$B$16:$F$16) -> 1.2835116 | O40: =P39/(M40+(1-N40)*B40) -> 0.099196272 | P40: =(P39-O40*B40)/(1-B40) -> 0.02269292 | Q40: =O40*$B$16 -> 0.22515247 | R40: =O40*$C$16 -> 0 | S40: =O40*$D$16 -> 0.025145101 | T40: =O40*$E$16 -> 0.00057672251 | U40: =O40*$F$16 -> 0 | V40: =H$21-SUMPRODUCT(Q40:U40,H40:L40,$B$20:$F$20)/SUMPRODUCT(Q40:U40,H40:L40) -> -0.046935722 | W40: =(X39*P39+P40*V40*(1-B40))/(B40*O40+P40*(1-B40)) -> 0.39371976 | X40: =W40-V40 -> 0.44065548 | Y40: =SUMPRODUCT($W$28:W40,$O$28:O40)/SUM($O$28:O40) -> 0.38607949 | Z40: =SUMPRODUCT(H39:L39,$B$17:$F$17) -> 0.037873038 | AA40: =SUMPRODUCT($B$14:$F$14,$B$17:$F$17) -> 0.202994 | AB40: =AC39/(Z40+(1-AA40)*B40) -> 1.4851088 | AC40: =(AC39-B40*AB40)/(1-B40) -> 0.05342693 | AD40: =SUMPRODUCT(AB$28:AB40,$B$28:$B40)/SUM($B$28:$B40) -> 5.1929831 | AE40: =SUMPRODUCT(H39:L39,$B$18:$F$18) -> 0.069878579 | AF40: =SUMPRODUCT($B$14:$F$14,$B$18:$F$18) -> 0.2713 | AG40: =AH39/(AE40+(1-AF40)*B40) -> 1.6039457 | AH40: =(AH39-B40*AG40)/(1-B40) -> 0.10836801 | AI40: =SUMPRODUCT(AG$28:AG40,$B$28:$B40)/SUM($B$28:$B40) -> 3.0264874 | AJ40: =AD40/AI40/0.254*0.17 -> 1.1484002 | AK40: =SUMPRODUCT($O$28:O40,$B$28:B40)/SUMPRODUCT($B$28:B40) -> 0.09262923
... A49: 0.22 | B49: =$A$28/(1-A48) -> 0.012658228 | C49: =H48-$B$14*B49 -> 0.031136301 | D49: =I48-B49*$C$14 -> 0 | E49: =J48-B49*$D$14 -> 0.17156957 | F49: =K48-B49*$E$14 -> 0.78476248 | G49: =L48-B49*$F$14 -> 0 | H49: =C49/SUM(C49:G49) -> 0.031531442 | I49: =D49/SUM(C49:G49) -> 0 | J49: =E49/SUM(C49:G49) -> 0.17374691 | K49: =F49/SUM(C49:G49) -> 0.79472165 | L49: =G49/SUM(C49:G49) -> 0 | M49: =SUMPRODUCT($B$16:$F$16,H49:L49) -> 0.12023234 | N49: =SUMPRODUCT($B$14:$F$14,$B$16:$F$16) -> 1.2835116 | O49: =P48/(M49+(1-N49)*B49) -> 0.1206175 | P49: =(P48-O49*B49)/(1-B49) -> 0.012703254 | Q49: =O49*$B$16 -> 0.27377368 | R49: =O49*$C$16 -> 0 | S49: =O49*$D$16 -> 0.030575134 | T49: =O49*$E$16 -> 0.00070126455 | U49: =O49*$F$16 -> 0 | V49: =H$21-SUMPRODUCT(Q49:U49,H49:L49,$B$20:$F$20)/SUMPRODUCT(Q49:U49,H49:L49) -> -0.061643455 | W49: =(X48*P48+P49*V49*(1-B49))/(B49*O49+P49*(1-B49)) -> 0.41496649 | X49: =W49-V49 -> 0.47660995 | Y49: =SUMPRODUCT($W$28:W49,$O$28:O49)/SUM($O$28:O49) -> 0.39433611 | Z49: =SUMPRODUCT(H48:L48,$B$17:$F$17) -> 0.019030189 | AA49: =SUMPRODUCT($B$14:$F$14,$B$17:$F$17) -> 0.202994 | AB49: =AC48/(Z49+(1-AA49)*B49) -> 0.092929435 | AC49: =(AC48-B49*AB49)/(1-B49) -> 0.0015492897 | AD49: =SUMPRODUCT(AB$28:AB49,$B$28:$B49)/SUM($B$28:$B49) -> 3.1278779 | AE49: =SUMPRODUCT(H48:L48,$B$18:$F$18) -> 0.046866328 | AF49: =SUMPRODUCT($B$14:$F$14,$B$18:$F$18) -> 0.2713 | AG49: =AH48/(AE49+(1-AF49)*B49) -> 0.43793799 | AH49: =(AH48-B49*AG49)/(1-B49) -> 0.019264443 | AI49: =SUMPRODUCT(AG$28:AG49,$B$28:$B49)/SUM($B$28:$B49) -> 2.0793938 | AJ49: =AD49/AI49/0.254*0.17 -> 1.0067653 | AK49: =SUMPRODUCT($O$28:O49,$B$28:B49)/SUMPRODUCT($B$28:B49) -> 0.10002663
A50: Parameters sources: a. Workman and Hart (2005); b. Salters and Stracke (2004); c. Antonelli et al. (2019); d. Zhang et al. (2018); e. Sun and McDonough (1989); f. Kang et al. (2017).
A51: g. The subscript N denotes normalization of residual phases to 100%.
A53: References
A54: Antonelli, M.A., Schiller, M., Schauble, E.A., Mittal, T., DePaolo, D.J., Chacko, T., Grew, E.S., Tripoli, B. (2019) Kinetic and equilibrium Ca isotope effects in high-T rocks and minerals. Earth and Planetary Science Letters 517, 71–82.
A55: Kang, J.-T., Ionov, D.A., Liu, F., Zhang, C.-L., Golovin, A.V., Qin, L.-P., Zhang, Z.-F., Huang, F. (2017) Calcium isotopic fractionation in mantle peridotites by melting and metasomatism and Ca isotope composition of the Bulk Silicate Earth. Earth and Planetary Science Letters 474, 128–137.
A56: Salters, V.J.M., Stracke, A. (2004) Composition of the depleted mantle. Geochemistry, Geophysics, Geosystems 5, 2003GC000597.
A57: Sun, S. -s., McDonough, W.F. (1989) Chemical and isotopic systematics of oceanic basalts: implications for mantle composition and processes. Geological Society, London, Special Publications 42, 313–345.
A58: Workman, R.K., Hart, S.R. (2005) Major and trace element composition of the depleted MORB mantle (DMM). Earth and Planetary Science Letters 231, 53–72.
A59: Zhang, H., Wang, Y., He, Y., Teng, F., Jacobsen, S.B., Helz, R.T., Marsh, B.D., Huang, S. (2018) No Measurable Calcium Isotopic Fractionation During Crystallization of Kilauea Iki Lava Lake. Geochemistry, Geophysics, Geosystems 19, 3128–3139.
A62: Wang et al. (2026) Geochem. Persp. Let. 39, 54-59 | https://doi.org/10.7185/geochemlet.2613
A63: © 2026 The Authors
A64: Published by the European Association of Geochemistry under Creative Commons License CC-BY-NC-ND.

Sheet Table S-6
A8: Table S-6 Calcium isotopic compositions of garnet peridotite melt.
A11: Input parameters for the garnet peridotite melting model used in this study
B12: Cpx | C12: Grt | D12: Opx | E12: Ol | G12: Sum | H12: Liquid
A13: Initial modea | B13: 0.226 | C13: 0.089 | D13: 0.077 | E13: 0.608 | G13: =SUM(B13:F13) -> 1
A14: Melting modeb | B14: 0.80952381 | C14: 0.29761905 | D14: -0.19047619 | E14: 0.083333333 | G14: =SUM(B14:F14) -> 1
A15: CaOa | B15: 0.1377 | C15: 0.0577 | D15: 0.0223 | E15: 0.0024 | G15: =SUMPRODUCT(B13:F13,B15:F15) -> 0.0394318 | H15: 0.1083
A16: DCaa | B16: =B15/$H$15 -> 1.2714681 | C16: =C15/$H$15 -> 0.53277932 | D16: =D15/$H$15 -> 0.20590951 | E16: =E15/$H$15 -> 0.022160665 | G16: =SUMPRODUCT(B13:F13,B16:F16) -> 0.36409788
A17: DDyc | B17: 0.17 | C17: 2 | D17: 0.065 | E17: 0.0027
A18: DYbc | B18: 0.25625 | C18: 3.95425 | D18: 0.08 | E18: 0.02
A19: 1000lnβ at 1000 Kd, e | B19: 1.32 | C19: 2.03 | D19: 1.85 | E19: 2.08 | H19: 1.19
A20: Δ44/42Camineral–cpx at 1673 Kd | B20: =(1.32-1.32)/2.048/(1673/1000)^2 -> 0 | C20: =(2.03-1.32)/2.048/(1673/1000)^2 -> 0.12386155 | D20: =(1.85-1.32)/2.048/(1673/1000)^2 -> 0.092460031 | E20: =(2.08-1.32)/2.048/(1673/1000)^2 -> 0.1325842
A21: Δ44/42Camelt–cpx at 1673 Kd, e | H21: =(1.19-1.32)/2.048/(1673/1000)^2 -> -0.022678876
A22: Initial Dyf | G22: 0.737
A23: Initial Ybf | G23: 0.493
A24: Initial δ44/42Cag | G24: 0.42
A26: Results of garnet peridotite melting calculations using the non-modal batch melting model.
A27: F | B27: f | C27: cpxresidue | D27: grtresidue | E27: opxresidue | F27: olresidue | H27: (cpxresidue)Ng | I27: (grtresidue)N | J27: (opxresidue)N | K27: (olresidue)N | M27: DCa | N27: PCa | O27: CaOinstant melt | P27: CaOresidue | Q27: CaOcpx residue | R27: CaOgrt residue | S27: CaOopx residue | T27: CaOol residue | U27: CaOsp residue | V27: Δ44/42Camelt-residue | W27: δ44/42Cainstant melt | X27: δ44/42Caresidue | Y27: δ44/42Caaggregate melt | Z27: DDy | AA27: PDy | AB27: Dyinstant melt | AC27: DyResidue | AD27: Dyaggregate melt | AE27: DYb | AF27: PYb | AG27: Ybinstant melt | AH27: Ybresidue | AI27: Ybaggregate melt | AJ27: (Dy/Yb)N aggregate melt | AK27: CaOaggregate melt
A28: 0.01 | B28: =A28 -> 0.01 | C28: =$B$13-A28*$B$14 -> 0.21790476 | D28: =$C$13-A28*$C$14 -> 0.08602381 | E28: =$D$13-A28*$D$14 -> 0.078904762 | F28: =$E$13-A28*$E$14 -> 0.60716667 | H28: =C28/SUM(C28:G28) -> 0.22010582 | I28: =D28/SUM(C28:G28) -> 0.086892737 | J28: =E28/SUM(C28:G28) -> 0.07970178 | K28: =F28/SUM(C28:G28) -> 0.61329966 | M28: =SUMPRODUCT(B13:E13,B16:E16) -> 0.36409788 | N28: =SUMPRODUCT($B$14:$E$14,$B$16:$E$16) -> 1.1504749 | O28: =G15/(M28+(1-N28)*B28) -> 0.10874944 | P28: =(G15-O28*B28)/(1-B28) -> 0.038731622 | Q28: =O28*$B$16 -> 0.13827145 | R28: =O28*$C$16 -> 0.057939453 | S28: =O28*$D$16 -> 0.022392544 | T28: =O28*$E$16 -> 0.0024099599 | U28: =O28*$F$16 -> 0 | V28: =H$21-SUMPRODUCT(Q28:U28,H28:L28,$B$20:$F$20)/SUMPRODUCT(Q28:U28,H28:L28) -> -0.048098985 | W28: =(G15*G24+P28*V28*(1-B28))/(B28*O28+P28*(1-B28)) -> 0.37322754 | X28: =W28-V28 -> 0.42132653 | Y28: =W28 -> 0.37322754 | Z28: =SUMPRODUCT(B13:E13,B17:E17) -> 0.2230666 | AA28: =SUMPRODUCT($B$14:$E$14,$B$17:$E$17) -> 0.72070119 | AB28: =G22/(Z28+(1-AA28)*B28) -> 3.2630893 | AC28: =(G22-B28*AB28)/(1-B28) -> 0.71148395 | AD28: =AB28 -> 3.2630893 | AE28: =SUMPRODUCT(B13:E13,B18:E18) -> 0.42816075 | AF28: =SUMPRODUCT($B$14:$E$14,$B$18:$E$18) -> 1.3707292 | AG28: =G23/(AE28+(1-AF28)*B28) -> 1.1614937 | AH28: =(G23-B28*AG28)/(1-B28) -> 0.48624754 | AI28: =AG28 -> 1.1614937 | AJ28: =AD28/AI28/0.254*0.17 -> 1.8803007 | AK28: =O28 -> 0.10874944
A29: 0.02 | B29: =$A$28/(1-A28) -> 0.01010101 | C29: =H28-$B$14*B29 -> 0.21192881 | D29: =I28-B29*$C$14 -> 0.083886484 | E29: =J28-B29*$D$14 -> 0.081625782 | F29: =K28-B29*$E$14 -> 0.61245791 | H29: =C29/SUM(C29:G29) -> 0.21409135 | I29: =D29/SUM(C29:G29) -> 0.084742468 | J29: =E29/SUM(C29:G29) -> 0.082458698 | K29: =F29/SUM(C29:G29) -> 0.61870748 | M29: =SUMPRODUCT($B$16:$E$16,H29:K29) -> 0.34804937 | N29: =SUMPRODUCT($B$14:$E$14,$B$16:$E$16) -> 1.1504749 | O29: =P28/(M29+(1-N29)*B29) -> 0.11177008 | P29: =(P28-O29*B29)/(1-B29) -> 0.037986331 | Q29: =O29*$B$16 -> 0.1421121 | R29: =O29*$C$16 -> 0.059548788 | S29: =O29*$D$16 -> 0.023014523 | T29: =O29*$E$16 -> 0.0024768993 | U29: =O29*$F$16 -> 0 | V29: =H$21-SUMPRODUCT(Q29:U29,H29:L29,$B$20:$F$20)/SUMPRODUCT(Q29:U29,H29:L29) -> -0.048479724 | W29: =(X28*P28+P29*V29*(1-B29))/(B29*O29+P29*(1-B29)) -> 0.37425994 | X29: =W29-V29 -> 0.42273967 | Y29: =SUMPRODUCT($W$28:W29,$O$28:O29)/SUM($O$28:O29) -> 0.37375081 | Z29: =SUMPRODUCT(H28:K28,$B$17:$E$17) -> 0.21803999 | AA29: =SUMPRODUCT($B$14:$E$14,$B$17:$E$17) -> 0.72070119 | AB29: =AC28/(Z29+(1-AA29)*B29) -> 3.2214078 | AC29: =(AC28-B29*AB29)/(1-B29) -> 0.68587248 | AD29: =SUMPRODUCT(AB$28:AB29,$B$28:$B29)/SUM($B$28:$B29) -> 3.2421438 | AE29: =SUMPRODUCT(H28:K28,$B$18:$E$18) -> 0.41863986 | AF29: =SUMPRODUCT($B$14:$E$14,$B$18:$E$18) -> 1.3707292 | AG29: =AH28/(AE29+(1-AF29)*B29) -> 1.171977 | AH29: =(AH28-B29*AG29)/(1-B29) -> 0.4792503 | AI29: =SUMPRODUCT(AG$28:AG29,$B$28:$B29)/SUM($B$28:$B29) -> 1.1667617 | AJ29: =AD29/AI29/0.254*0.17 -> 1.8597961 | AK29: =SUMPRODUCT($O$28:O29,$B$28:B29)/SUMPRODUCT($B$28:B29) -> 0.11026735
A30: 0.03 | B30: =$A$28/(1-A29) -> 0.010204082 | C30: =H29-$B$14*B30 -> 0.2058309 | D30: =I29-B30*$C$14 -> 0.081705539 | E30: =J29-B30*$D$14 -> 0.084402332 | F30: =K29-B30*$E$14 -> 0.61785714 | H30: =C30/SUM(C30:G30) -> 0.20795287 | I30: =D30/SUM(C30:G30) -> 0.082547865 | J30: =E30/SUM(C30:G30) -> 0.085272459 | K30: =F30/SUM(C30:G30) -> 0.6242268 | M30: =SUMPRODUCT($B$16:$E$16,H30:K30) -> 0.33977694 | N30: =SUMPRODUCT($B$14:$E$14,$B$16:$E$16) -> 1.1504749 | O30: =P29/(M30+(1-N30)*B30) -> 0.11230536 | P30: =(P29-O30*B30)/(1-B30) -> 0.037220156 | Q30: =O30*$B$16 -> 0.14279269 | R30: =O30*$C$16 -> 0.059833973 | S30: =O30*$D$16 -> 0.023124742 | T30: =O30*$E$16 -> 0.0024887615 | U30: =O30*$F$16 -> 0 | V30: =H$21-SUMPRODUCT(Q30:U30,H30:L30,$B$20:$F$20)/SUMPRODUCT(Q30:U30,H30:L30) -> -0.048887044 | W30: =(X29*P29+P30*V30*(1-B30))/(B30*O30+P30*(1-B30)) -> 0.37532745 | X30: =W30-V30 -> 0.42421449 | Y30: =SUMPRODUCT($W$28:W30,$O$28:O30)/SUM($O$28:O30) -> 0.37428282 | Z30: =SUMPRODUCT(H29:K29,$B$17:$E$17) -> 0.21291079 | AA30: =SUMPRODUCT($B$14:$E$14,$B$17:$E$17) -> 0.72070119 | AB30: =AC29/(Z30+(1-AA30)*B30) -> 3.1788561 | AC30: =(AC29-B30*AB30)/(1-B30) -> 0.66017162 | AD30: =SUMPRODUCT(AB$28:AB30,$B$28:$B30)/SUM($B$28:$B30) -> 3.2208341 | AE30: =SUMPRODUCT(H29:K29,$B$18:$E$18) -> 0.40892466 | AF30: =SUMPRODUCT($B$14:$E$14,$B$18:$E$18) -> 1.3707292 | AG30: =AH29/(AE30+(1-AF30)*B30) -> 1.1829202 | AH30: =(AH29-B30*AG30)/(1-B30) -> 0.47199597 | AI30: =SUMPRODUCT(AG$28:AG30,$B$28:$B30)/SUM($B$28:$B30) -> 1.1722024 | AJ30: =AD30/AI30/0.254*0.17 -> 1.8389967 | AK30: =SUMPRODUCT($O$28:O30,$B$28:B30)/SUMPRODUCT($B$28:B30) -> 0.11095357
A31: 0.04 | B31: =$A$28/(1-A30) -> 0.010309278 | C31: =H30-$B$14*B31 -> 0.19960727 | D31: =I30-B31*$C$14 -> 0.079479627 | E31: =J30-B31*$D$14 -> 0.087236132 | F31: =K30-B31*$E$14 -> 0.6233677 | H31: =C31/SUM(C31:G31) -> 0.20168651 | I31: =D31/SUM(C31:G31) -> 0.08030754 | J31: =E31/SUM(C31:G31) -> 0.088144841 | K31: =F31/SUM(C31:G31) -> 0.62986111 | M31: =SUMPRODUCT($B$16:$E$16,H31:K31) -> 0.33133217 | N31: =SUMPRODUCT($B$14:$E$14,$B$16:$E$16) -> 1.1504749 | O31: =P30/(M31+(1-N31)*B31) -> 0.11286329 | P31: =(P30-O31*B31)/(1-B31) -> 0.036432206 | Q31: =O31*$B$16 -> 0.14350208 | R31: =O31*$C$16 -> 0.060131228 | S31: =O31*$D$16 -> 0.023239625 | T31: =O31*$E$16 -> 0.0025011256 | U31: =O31*$F$16 -> 0 | V31: =H$21-SUMPRODUCT(Q31:U31,H31:L31,$B$20:$F$20)/SUMPRODUCT(Q31:U31,H31:L31) -> -0.049323829 | W31: =(X30*P30+P31*V31*(1-B31))/(B31*O31+P31*(1-B31)) -> 0.37643258 | X31: =W31-V31 -> 0.4257564 | Y31: =SUMPRODUCT($W$28:W31,$O$28:O31)/SUM($O$28:O31) -> 0.37482721 | Z31: =SUMPRODUCT(H30:K30,$B$17:$E$17) -> 0.20767584 | AA31: =SUMPRODUCT($B$14:$E$14,$B$17:$E$17) -> 0.72070119 | AB31: =AC30/(Z31+(1-AA31)*B31) -> 3.1353849 | AC31: =(AC30-B31*AB31)/(1-B31) -> 0.63438815 | AD31: =SUMPRODUCT(AB$28:AB31,$B$28:$B31)/SUM($B$28:$B31) -> 3.1991442 | AE31: =SUMPRODUCT(H30:K30,$B$18:$E$18) -> 0.39900915 | AF31: =SUMPRODUCT($B$14:$E$14,$B$18:$E$18) -> 1.3707292 | AG31: =AH30/(AE31+(1-AF31)*B31) -> 1.1943605 | AH31: =(AH30-B31*AG31)/(1-B31) -> 0.46447134 | AI31: =SUMPRODUCT(AG$28:AG31,$B$28:$B31)/SUM($B$28:$B31) -> 1.1778269 | AJ31: =AD31/AI31/0.254*0.17 -> 1.8178899 | AK31: =SUMPRODUCT($O$28:O31,$B$28:B31)/SUMPRODUCT($B$28:B31) -> 0.11143832
A32: 0.05 | B32: =$A$28/(1-A31) -> 0.010416667 | C32: =H31-$B$14*B32 -> 0.19325397 | D32: =I31-B32*$C$14 -> 0.077207341 | E32: =J31-B32*$D$14 -> 0.090128968 | F32: =K31-B32*$E$14 -> 0.62899306 | H32: =C32/SUM(C32:G32) -> 0.19528822 | I32: =D32/SUM(C32:G32) -> 0.07802005 | J32: =E32/SUM(C32:G32) -> 0.091077694 | K32: =F32/SUM(C32:G32) -> 0.63561404 | M32: =SUMPRODUCT($B$16:$E$16,H32:K32) -> 0.32270961 | N32: =SUMPRODUCT($B$14:$E$14,$B$16:$E$16) -> 1.1504749 | O32: =P31/(M32+(1-N32)*B32) -> 0.11344573 | P32: =(P31-O32*B32)/(1-B32) -> 0.035621538 | Q32: =O32*$B$16 -> 0.14424263 | R32: =O32*$C$16 -> 0.060441537 | S32: =O32*$D$16 -> 0.023359554 | T32: =O32*$E$16 -> 0.0025140327 | U32: =O32*$F$16 -> 0 | V32: =H$21-SUMPRODUCT(Q32:U32,H32:L32,$B$20:$F$20)/SUMPRODUCT(Q32:U32,H32:L32) -> -0.049793397 | W32: =(X31*P31+P32*V32*(1-B32))/(B32*O32+P32*(1-B32)) -> 0.37757812 | X32: =W32-V32 -> 0.42737152 | Y32: =SUMPRODUCT($W$28:W32,$O$28:O32)/SUM($O$28:O32) -> 0.37538536 | Z32: =SUMPRODUCT(H31:K31,$B$17:$E$17) -> 0.20233183 | AA32: =SUMPRODUCT($B$14:$E$14,$B$17:$E$17) -> 0.72070119 | AB32: =AC31/(Z32+(1-AA32)*B32) -> 3.0909397 | AC32: =(AC31-B32*AB32)/(1-B32) -> 0.60852971 | AD32: =SUMPRODUCT(AB$28:AB32,$B$28:$B32)/SUM($B$28:$B32) -> 3.1770571 | AE32: =SUMPRODUCT(H31:K31,$B$18:$E$18) -> 0.38888707 | AF32: =SUMPRODUCT($B$14:$E$14,$B$18:$E$18) -> 1.3707292 | AG32: =AH31/(AE32+(1-AF32)*B32) -> 1.2063398 | AH32: =(AH31-B32*AG32)/(1-B32) -> 0.4566622 | AI32: =SUMPRODUCT(AG$28:AG32,$B$28:$B32)/SUM($B$28:$B32) -> 1.1836471 | AJ32: =AD32/AI32/0.254*0.17 -> 1.7964619 | AK32: =SUMPRODUCT($O$28:O32,$B$28:B32)/SUMPRODUCT($B$28:B32) -> 0.11184808
A33: 0.06 | B33: =$A$28/(1-A32) -> 0.010526316 | C33: =H32-$B$14*B33 -> 0.18676692 | D33: =I32-B33*$C$14 -> 0.074887218 | E33: =J32-B33*$D$14 -> 0.093082707 | F33: =K32-B33*$E$14 -> 0.63473684 | H33: =C33/SUM(C33:G33) -> 0.1887538 | I33: =D33/SUM(C33:G33) -> 0.075683891 | J33: =E33/SUM(C33:G33) -> 0.094072948 | K33: =F33/SUM(C33:G33) -> 0.64148936 | M33: =SUMPRODUCT($B$16:$E$16,H33:K33) -> 0.3139036 | N33: =SUMPRODUCT($B$14:$E$14,$B$16:$E$16) -> 1.1504749 | O33: =P32/(M33+(1-N33)*B33) -> 0.11405474 | P33: =(P32-O33*B33)/(1-B33) -> 0.034787142 | Q33: =O33*$B$16 -> 0.14501697 | R33: =O33*$C$16 -> 0.060766008 | S33: =O33*$D$16 -> 0.023484956 | T33: =O33*$E$16 -> 0.0025275289 | U33: =O33*$F$16 -> 0 | V33: =H$21-SUMPRODUCT(Q33:U33,H33:L33,$B$20:$F$20)/SUMPRODUCT(Q33:U33,H33:L33) -> -0.050299581 | W33: =(X32*P32+P33*V33*(1-B33))/(B33*O33+P33*(1-B33)) -> 0.37876722 | X33: =W33-V33 -> 0.4290668 | Y33: =SUMPRODUCT($W$28:W33,$O$28:O33)/SUM($O$28:O33) -> 0.37595833 | Z33: =SUMPRODUCT(H32:K32,$B$17:$E$17) -> 0.19687531 | AA33: =SUMPRODUCT($B$14:$E$14,$B$17:$E$17) -> 0.72070119 | AB33: =AC32/(Z33+(1-AA33)*B33) -> 3.0454611 | AC33: =(AC32-B33*AB33)/(1-B33) -> 0.58260491 | AD33: =SUMPRODUCT(AB$28:AB33,$B$28:$B33)/SUM($B$28:$B33) -> 3.1545542 | AE33: =SUMPRODUCT(H32:K32,$B$18:$E$18) -> 0.37855189 | AF33: =SUMPRODUCT($B$14:$E$14,$B$18:$E$18) -> 1.3707292 | AG33: =AH32/(AE33+(1-AF33)*B33) -> 1.2189052 | AH33: =(AH32-B33*AG33)/(1-B33) -> 0.44855323 | AI33: =SUMPRODUCT(AG$28:AG33,$B$28:$B33)/SUM($B$28:$B33) -> 1.1896762 | AJ33: =AD33/AI33/0.254*0.17 -> 1.7746978 | AK33: =SUMPRODUCT($O$28:O33,$B$28:B33)/SUMPRODUCT($B$28:B33) -> 0.11222542
A34: 0.07 | B34: =$A$28/(1-A33) -> 0.010638298 | C34: =H33-$B$14*B34 -> 0.18014184 | D34: =I33-B34*$C$14 -> 0.07251773 | E34: =J33-B34*$D$14 -> 0.096099291 | F34: =K33-B34*$E$14 -> 0.64060284 | H34: =C34/SUM(C34:G34) -> 0.18207885 | I34: =D34/SUM(C34:G34) -> 0.073297491 | J34: =E34/SUM(C34:G34) -> 0.097132616 | K34: =F34/SUM(C34:G34) -> 0.64749104 | M34: =SUMPRODUCT($B$16:$E$16,H34:K34) -> 0.30490821 | N34: =SUMPRODUCT($B$14:$E$14,$B$16:$E$16) -> 1.1504749 | O34: =P33/(M34+(1-N34)*B34) -> 0.11469269 | P34: =(P33-O34*B34)/(1-B34) -> 0.033927943 | Q34: =O34*$B$16 -> 0.1458281 | R34: =O34*$C$16 -> 0.061105891 | S34: =O34*$D$16 -> 0.023616315 | T34: =O34*$E$16 -> 0.0025416662 | U34: =O34*$F$16 -> 0 | V34: =H$21-SUMPRODUCT(Q34:U34,H34:L34,$B$20:$F$20)/SUMPRODUCT(Q34:U34,H34:L34) -> -0.050846839 | W34: =(X33*P33+P34*V34*(1-B34))/(B34*O34+P34*(1-B34)) -> 0.38000338 | X34: =W34-V34 -> 0.43085022 | Y34: =SUMPRODUCT($W$28:W34,$O$28:O34)/SUM($O$28:O34) -> 0.37654717 | Z34: =SUMPRODUCT(H33:K33,$B$17:$E$17) -> 0.19130269 | AA34: =SUMPRODUCT($B$14:$E$14,$B$17:$E$17) -> 0.72070119 | AB34: =AC33/(Z34+(1-AA34)*B34) -> 2.9988832 | AC34: =(AC33-B34*AB34)/(1-B34) -> 0.55662342 | AD34: =SUMPRODUCT(AB$28:AB34,$B$28:$B34)/SUM($B$28:$B34) -> 3.1316155 | AE34: =SUMPRODUCT(H33:K33,$B$18:$E$18) -> 0.36799681 | AF34: =SUMPRODUCT($B$14:$E$14,$B$18:$E$18) -> 1.3707292 | AG34: =AH33/(AE34+(1-AF34)*B34) -> 1.2321101 | AH34: =(AH33-B34*AG34)/(1-B34) -> 0.44012789 | AI34: =SUMPRODUCT(AG$28:AG34,$B$28:$B34)/SUM($B$28:$B34) -> 1.195929 | AJ34: =AD34/AI34/0.254*0.17 -> 1.7525816 | AK34: =SUMPRODUCT($O$28:O34,$B$28:B34)/SUMPRODUCT($B$28:B34) -> 0.11258898
A35: 0.08 | B35: =$A$28/(1-A34) -> 0.010752688 | C35: =H34-$B$14*B35 -> 0.1733743 | D35: =I34-B35*$C$14 -> 0.070097286 | E35: =J34-B35*$D$14 -> 0.099180748 | F35: =K34-B35*$E$14 -> 0.64659498 | H35: =C35/SUM(C35:G35) -> 0.1752588 | I35: =D35/SUM(C35:G35) -> 0.070859213 | J35: =E35/SUM(C35:G35) -> 0.1002588 | K35: =F35/SUM(C35:G35) -> 0.65362319 | M35: =SUMPRODUCT($B$16:$E$16,H35:K35) -> 0.29571727 | N35: =SUMPRODUCT($B$14:$E$14,$B$16:$E$16) -> 1.1504749 | O35: =P34/(M35+(1-N35)*B35) -> 0.11536222 | P35: =(P34-O35*B35)/(1-B35) -> 0.033042787 | Q35: =O35*$B$16 -> 0.14667938 | R35: =O35*$C$16 -> 0.061462603 | S35: =O35*$D$16 -> 0.023754178 | T35: =O35*$E$16 -> 0.0025565034 | U35: =O35*$F$16 -> 0 | V35: =H$21-SUMPRODUCT(Q35:U35,H35:L35,$B$20:$F$20)/SUMPRODUCT(Q35:U35,H35:L35) -> -0.051440381 | W35: =(X34*P34+P35*V35*(1-B35))/(B35*O35+P35*(1-B35)) -> 0.38129057 | X35: =W35-V35 -> 0.43273095 | Y35: =SUMPRODUCT($W$28:W35,$O$28:O35)/SUM($O$28:O35) -> 0.377153 | Z35: =SUMPRODUCT(H34:K34,$B$17:$E$17) -> 0.18561023 | AA35: =SUMPRODUCT($B$14:$E$14,$B$17:$E$17) -> 0.72070119 | AB35: =AC34/(Z35+(1-AA35)*B35) -> 2.9511333 | AC35: =(AC34-B35*AB35)/(1-B35) -> 0.53059614 | AD35: =SUMPRODUCT(AB$28:AB35,$B$28:$B35)/SUM($B$28:$B35) -> 3.1082194 | AE35: =SUMPRODUCT(H34:K34,$B$18:$E$18) -> 0.35721474 | AF35: =SUMPRODUCT($B$14:$E$14,$B$18:$E$18) -> 1.3707292 | AG35: =AH34/(AE35+(1-AF35)*B35) -> 1.246015 | AH35: =(AH34-B35*AG35)/(1-B35) -> 0.43136825 | AI35: =SUMPRODUCT(AG$28:AG35,$B$28:$B35)/SUM($B$28:$B35) -> 1.2024217 | AJ35: =AD35/AI35/0.254*0.17 -> 1.7300954 | AK35: =SUMPRODUCT($O$28:O35,$B$28:B35)/SUMPRODUCT($B$28:B35) -> 0.11294848
A36: 0.09 | B36: =$A$28/(1-A35) -> 0.010869565 | C36: =H35-$B$14*B36 -> 0.16645963 | D36: =I35-B36*$C$14 -> 0.067624224 | E36: =J35-B36*$D$14 -> 0.10232919 | F36: =K35-B36*$E$14 -> 0.65271739 | H36: =C36/SUM(C36:G36) -> 0.16828885 | I36: =D36/SUM(C36:G36) -> 0.068367347 | J36: =E36/SUM(C36:G36) -> 0.10345369 | K36: =F36/SUM(C36:G36) -> 0.65989011 | M36: =SUMPRODUCT($B$16:$E$16,H36:K36) -> 0.28632433 | N36: =SUMPRODUCT($B$14:$E$14,$B$16:$E$16) -> 1.1504749 | O36: =P35/(M36+(1-N36)*B36) -> 0.11606637 | P36: =(P35-O36*B36)/(1-B36) -> 0.03213044 | Q36: =O36*$B$16 -> 0.14757469 | R36: =O36*$C$16 -> 0.061837761 | S36: =O36*$D$16 -> 0.023899169 | T36: =O36*$E$16 -> 0.0025721079 | U36: =O36*$F$16 -> 0 | V36: =H$21-SUMPRODUCT(Q36:U36,H36:L36,$B$20:$F$20)/SUMPRODUCT(Q36:U36,H36:L36) -> -0.052086339 | W36: =(X35*P35+P36*V36*(1-B36))/(B36*O36+P36*(1-B36)) -> 0.38263329 | X36: =W36-V36 -> 0.43471963 | Y36: =SUMPRODUCT($W$28:W36,$O$28:O36)/SUM($O$28:O36) -> 0.37777702 | Z36: =SUMPRODUCT(H35:K35,$B$17:$E$17) -> 0.17979403 | AA36: =SUMPRODUCT($B$14:$E$14,$B$17:$E$17) -> 0.72070119 | AB36: =AC35/(Z36+(1-AA36)*B36) -> 2.9021303 | AC36: =(AC35-B36*AB36)/(1-B36) -> 0.50453532 | AD36: =SUMPRODUCT(AB$28:AB36,$B$28:$B36)/SUM($B$28:$B36) -> 3.0843423 | AE36: =SUMPRODUCT(H35:K35,$B$18:$E$18) -> 0.34619828 | AF36: =SUMPRODUCT($B$14:$E$14,$B$18:$E$18) -> 1.3707292 | AG36: =AH35/(AE36+(1-AF36)*B36) -> 1.2606891 | AH36: =(AH35-B36*AG36)/(1-B36) -> 0.42225483 | AI36: =SUMPRODUCT(AG$28:AG36,$B$28:$B36)/SUM($B$28:$B36) -> 1.2091725 | AJ36: =AD36/AI36/0.254*0.17 -> 1.7072201 | AK36: =SUMPRODUCT($O$28:O36,$B$28:B36)/SUMPRODUCT($B$28:B36) -> 0.11330971
A37: 0.1 | B37: =$A$28/(1-A36) -> 0.010989011 | C37: =H36-$B$14*B37 -> 0.15939299 | D37: =I36-B37*$C$14 -> 0.065096808 | E37: =J36-B37*$D$14 -> 0.10554683 | F37: =K36-B37*$E$14 -> 0.65897436 | H37: =C37/SUM(C37:G37) -> 0.16116402 | I37: =D37/SUM(C37:G37) -> 0.065820106 | J37: =E37/SUM(C37:G37) -> 0.10671958 | K37: =F37/SUM(C37:G37) -> 0.6662963 | M37: =SUMPRODUCT($B$16:$E$16,H37:K37) -> 0.27672265 | N37: =SUMPRODUCT($B$14:$E$14,$B$16:$E$16) -> 1.1504749 | O37: =P36/(M37+(1-N37)*B37) -> 0.11680862 | P37: =(P36-O37*B37)/(1-B37) -> 0.031189572 | Q37: =O37*$B$16 -> 0.14851844 | R37: =O37*$C$16 -> 0.062233217 | S37: =O37*$D$16 -> 0.024052006 | T37: =O37*$E$16 -> 0.0025885567 | U37: =O37*$F$16 -> 0 | V37: =H$21-SUMPRODUCT(Q37:U37,H37:L37,$B$20:$F$20)/SUMPRODUCT(Q37:U37,H37:L37) -> -0.052791977 | W37: =(X36*P36+P37*V37*(1-B37))/(B37*O37+P37*(1-B37)) -> 0.3840367 | X37: =W37-V37 -> 0.43682867 | Y37: =SUMPRODUCT($W$28:W37,$O$28:O37)/SUM($O$28:O37) -> 0.37842061 | Z37: =SUMPRODUCT(H36:K36,$B$17:$E$17) -> 0.17384999 | AA37: =SUMPRODUCT($B$14:$E$14,$B$17:$E$17) -> 0.72070119 | AB37: =AC36/(Z37+(1-AA37)*B37) -> 2.8517837 | AC37: =(AC36-B37*AB37)/(1-B37) -> 0.47845478 | AD37: =SUMPRODUCT(AB$28:AB37,$B$28:$B37)/SUM($B$28:$B37) -> 3.0599585 | AE37: =SUMPRODUCT(H36:K36,$B$18:$E$18) -> 0.3349397 | AF37: =SUMPRODUCT($B$14:$E$14,$B$18:$E$18) -> 1.3707292 | AG37: =AH36/(AE37+(1-AF37)*B37) -> 1.276212 | AH37: =(AH36-B37*AG37)/(1-B37) -> 0.41276642 | AI37: =SUMPRODUCT(AG$28:AG37,$B$28:$B37)/SUM($B$28:$B37) -> 1.2162015 | AJ37: =AD37/AI37/0.254*0.17 -> 1.6839345 | AK37: =SUMPRODUCT($O$28:O37,$B$28:B37)/SUMPRODUCT($B$28:B37) -> 0.11367657
A38: 0.11 | B38: =$A$28/(1-A37) -> 0.011111111 | C38: =H37-$B$14*B38 -> 0.15216931 | D38: =I37-B38*$C$14 -> 0.062513228 | E38: =J37-B38*$D$14 -> 0.10883598 | F38: =K37-B38*$E$14 -> 0.66537037 | H38: =C38/SUM(C38:G38) -> 0.15387908 | I38: =D38/SUM(C38:G38) -> 0.063215623 | J38: =E38/SUM(C38:G38) -> 0.11005886 | K38: =F38/SUM(C38:G38) -> 0.67284644 | M38: =SUMPRODUCT($B$16:$E$16,H38:K38) -> 0.26690521 | N38: =SUMPRODUCT($B$14:$E$14,$B$16:$E$16) -> 1.1504749 | O38: =P37/(M38+(1-N38)*B38) -> 0.11759298 | P38: =(P37-O38*B38)/(1-B38) -> 0.030218747 | Q38: =O38*$B$16 -> 0.14951573 | R38: =O38*$C$16 -> 0.06265111 | S38: =O38*$D$16 -> 0.024213514 | T38: =O38*$E$16 -> 0.0026059387 | U38: =O38*$F$16 -> 0 | V38: =H$21-SUMPRODUCT(Q38:U38,H38:L38,$B$20:$F$20)/SUMPRODUCT(Q38:U38,H38:L38) -> -0.053565964 | W38: =(X37*P37+P38*V38*(1-B38))/(B38*O38+P38*(1-B38)) -> 0.38550669 | X38: =W38-V38 -> 0.43907265 | Y38: =SUMPRODUCT($W$28:W38,$O$28:O38)/SUM($O$28:O38) -> 0.37908525 | Z38: =SUMPRODUCT(H37:K37,$B$17:$E$17) -> 0.16777387 | AA38: =SUMPRODUCT($B$14:$E$14,$B$17:$E$17) -> 0.72070119 | AB38: =AC37/(Z38+(1-AA38)*B38) -> 2.7999921 | AC38: =(AC37-B38*AB38)/(1-B38) -> 0.45237009 | AD38: =SUMPRODUCT(AB$28:AB38,$B$28:$B38)/SUM($B$28:$B38) -> 3.0350399 | AE38: =SUMPRODUCT(H37:K37,$B$18:$E$18) -> 0.32343093 | AF38: =SUMPRODUCT($B$14:$E$14,$B$18:$E$18) -> 1.3707292 | AG38: =AH37/(AE38+(1-AF38)*B38) -> 1.2926755 | AH38: =(AH37-B38*AG38)/(1-B38) -> 0.4028798 | AI38: =SUMPRODUCT(AG$28:AG38,$B$28:$B38)/SUM($B$28:$B38) -> 1.2235318 | AJ38: =AD38/AI38/0.254*0.17 -> 1.660215 | AK38: =SUMPRODUCT($O$28:O38,$B$28:B38)/SUMPRODUCT($B$28:B38) -> 0.11405197
A39: 0.12 | B39: =$A$28/(1-A38) -> 0.011235955 | C39: =H38-$B$14*B39 -> 0.14478331 | D39: =I38-B39*$C$14 -> 0.059871589 | E39: =J38-B39*$D$14 -> 0.11219904 | F39: =K38-B39*$E$14 -> 0.67191011 | H39: =C39/SUM(C39:G39) -> 0.14642857 | I39: =D39/SUM(C39:G39) -> 0.060551948 | J39: =E39/SUM(C39:G39) -> 0.11347403 | K39: =F39/SUM(C39:G39) -> 0.67954545 | M39: =SUMPRODUCT($B$16:$E$16,H39:K39) -> 0.25686465 | N39: =SUMPRODUCT($B$14:$E$14,$B$16:$E$16) -> 1.1504749 | O39: =P38/(M39+(1-N39)*B39) -> 0.11842412 | P39: =(P38-O39*B39)/(1-B39) -> 0.029216413 | Q39: =O39*$B$16 -> 0.1505725 | R39: =O39*$C$16 -> 0.063093922 | S39: =O39*$D$16 -> 0.024384653 | T39: =O39*$E$16 -> 0.0026243572 | U39: =O39*$F$16 -> 0 | V39: =H$21-SUMPRODUCT(Q39:U39,H39:L39,$B$20:$F$20)/SUMPRODUCT(Q39:U39,H39:L39) -> -0.054418739 | W39: =(X38*P38+P39*V39*(1-B39))/(B39*O39+P39*(1-B39)) -> 0.38705011 | X39: =W39-V39 -> 0.44146885 | Y39: =SUMPRODUCT($W$28:W39,$O$28:O39)/SUM($O$28:O39) -> 0.37977267 | Z39: =SUMPRODUCT(H38:K38,$B$17:$E$17) -> 0.1615612 | AA39: =SUMPRODUCT($B$14:$E$14,$B$17:$E$17) -> 0.72070119 | AB39: =AC38/(Z39+(1-AA39)*B39) -> 2.746641 | AC39: =(AC38-B39*AB39)/(1-B39) -> 0.42629883 | AD39: =SUMPRODUCT(AB$28:AB39,$B$28:$B39)/SUM($B$28:$B39) -> 3.0095555 | AE39: =SUMPRODUCT(H38:K38,$B$18:$E$18) -> 0.31166353 | AF39: =SUMPRODUCT($B$14:$E$14,$B$18:$E$18) -> 1.3707292 | AG39: =AH38/(AE39+(1-AF39)*B39) -> 1.3101866 | AH39: =(AH38-B39*AG39)/(1-B39) -> 0.39256949 | AI39: =SUMPRODUCT(AG$28:AG39,$B$28:$B39)/SUM($B$28:$B39) -> 1.2311891 | AJ39: =AD39/AI39/0.254*0.17 -> 1.6360359 | AK39: =SUMPRODUCT($O$28:O39,$B$28:B39)/SUMPRODUCT($B$28:B39) -> 0.11443832
A40: 0.13 | B40: =$A$28/(1-A39) -> 0.011363636 | C40: =H39-$B$14*B40 -> 0.13722944 | D40: =I39-B40*$C$14 -> 0.057169913 | E40: =J39-B40*$D$14 -> 0.11563853 | F40: =K39-B40*$E$14 -> 0.67859848 | H40: =C40/SUM(C40:G40) -> 0.13880679 | I40: =D40/SUM(C40:G40) -> 0.057827039 | J40: =E40/SUM(C40:G40) -> 0.11696771 | K40: =F40/SUM(C40:G40) -> 0.68639847 | M40: =SUMPRODUCT($B$16:$E$16,H40:K40) -> 0.24659327 | N40: =SUMPRODUCT($B$14:$E$14,$B$16:$E$16) -> 1.1504749 | O40: =P39/(M40+(1-N40)*B40) -> 0.11930748 | P40: =(P39-O40*B40)/(1-B40) -> 0.028180884 | Q40: =O40*$B$16 -> 0.15169566 | R40: =O40*$C$16 -> 0.063564559 | S40: =O40*$D$16 -> 0.024566545 | T40: =O40*$E$16 -> 0.0026439331 | U40: =O40*$F$16 -> 0 | V40: =H$21-SUMPRODUCT(Q40:U40,H40:L40,$B$20:$F$20)/SUMPRODUCT(Q40:U40,H40:L40) -> -0.055362976 | W40: =(X39*P39+P40*V40*(1-B40))/(B40*O40+P40*(1-B40)) -> 0.38867495 | X40: =W40-V40 -> 0.44403793 | Y40: =SUMPRODUCT($W$28:W40,$O$28:O40)/SUM($O$28:O40) -> 0.3804848 | Z40: =SUMPRODUCT(H39:K39,$B$17:$E$17) -> 0.15520734 | AA40: =SUMPRODUCT($B$14:$E$14,$B$17:$E$17) -> 0.72070119 | AB40: =AC39/(Z40+(1-AA40)*B40) -> 2.6916002 | AC40: =(AC39-B40*AB40)/(1-B40) -> 0.40026089 | AD40: =SUMPRODUCT(AB$28:AB40,$B$28:$B40)/SUM($B$28:$B40) -> 2.9834713 | AE40: =SUMPRODUCT(H39:K39,$B$18:$E$18) -> 0.29962869 | AF40: =SUMPRODUCT($B$14:$E$14,$B$18:$E$18) -> 1.3707292 | AG40: =AH39/(AE40+(1-AF40)*B40) -> 1.3288707 | AH40: =(AH39-B40*AG40)/(1-B40) -> 0.38180741 | AI40: =SUMPRODUCT(AG$28:AG40,$B$28:$B40)/SUM($B$28:$B40) -> 1.2392026 | AJ40: =AD40/AI40/0.254*0.17 -> 1.611368 | AK40: =SUMPRODUCT($O$28:O40,$B$28:B40)/SUMPRODUCT($B$28:B40) -> 0.11483777
... A52: 0.25 | B52: =$A$28/(1-A51) -> 0.013157895 | C52: =H51-$B$14*B52 -> 0.031077694 | D52: =I51-B52*$C$14 -> 0.019204261 | E52: =J51-B52*$D$14 -> 0.16397243 | F52: =K51-B52*$E$14 -> 0.77258772 | H52: =C52/SUM(C52:G52) -> 0.031492063 | I52: =D52/SUM(C52:G52) -> 0.019460317 | J52: =E52/SUM(C52:G52) -> 0.16615873 | K52: =F52/SUM(C52:G52) -> 0.78288889 | M52: =SUMPRODUCT($B$16:$E$16,H52:K52) -> 0.10197221 | N52: =SUMPRODUCT($B$14:$E$14,$B$16:$E$16) -> 1.1504749 | O52: =P51/(M52+(1-N52)*B52) -> 0.13890298 | P52: =(P51-O52*B52)/(1-B52) -> 0.012222376 | Q52: =O52*$B$16 -> 0.17661072 | R52: =O52*$C$16 -> 0.074004635 | S52: =O52*$D$16 -> 0.028601445 | T52: =O52*$E$16 -> 0.0030781824 | U52: =O52*$F$16 -> 0 | V52: =H$21-SUMPRODUCT(Q52:U52,H52:L52,$B$20:$F$20)/SUMPRODUCT(Q52:U52,H52:L52) -> -0.088852274 | W52: =(X51*P51+P52*V52*(1-B52))/(B52*O52+P52*(1-B52)) -> 0.42208979 | X52: =W52-V52 -> 0.51094206 | Y52: =SUMPRODUCT($W$28:W52,$O$28:O52)/SUM($O$28:O52) -> 0.39245513 | Z52: =SUMPRODUCT(H51:K51,$B$17:$E$17) -> 0.065918835 | AA52: =SUMPRODUCT($B$14:$E$14,$B$17:$E$17) -> 0.72070119 | AB52: =AC51/(Z52+(1-AA52)*B52) -> 1.8050387 | AC52: =(AC51-B52*AB52)/(1-B52) -> 0.10322728 | AD52: =SUMPRODUCT(AB$28:AB52,$B$28:$B52)/SUM($B$28:$B52) -> 2.60303 | AE52: =SUMPRODUCT(H51:K51,$B$18:$E$18) -> 0.13050757 | AF52: =SUMPRODUCT($B$14:$E$14,$B$18:$E$18) -> 1.3707292 | AG52: =AH51/(AE52+(1-AF52)*B52) -> 1.7582583 | AH52: =(AH51-B52*AG52)/(1-B52) -> 0.20039094 | AI52: =SUMPRODUCT(AG$28:AG52,$B$28:$B52)/SUM($B$28:$B52) -> 1.3845097 | AJ52: =AD52/AI52/0.254*0.17 -> 1.258341 | AK52: =SUMPRODUCT($O$28:O52,$B$28:B52)/SUMPRODUCT($B$28:B52) -> 0.12171
A53: Parameters sources: a. Davis et al. (2011); b. Walter (1998); c. Salters et al. (2002); d. Antonelli et al. (2019); e. Zhang et al. (2018); f. Sun and McDonough (1989); g. Kang et al. (2017).
A54: h. The subscript N denotes normalization of residual phases to 100%.
A56: References
A57: Antonelli, M.A., Schiller, M., Schauble, E.A., Mittal, T., DePaolo, D.J., Chacko, T., Grew, E.S., Tripoli, B. (2019) Kinetic and equilibrium Ca isotope effects in high-T rocks and minerals. Earth and Planetary Science Letters 517, 71–82.
A58: Davis F. A., Hirschmann M. M. and Humayun M. (2011) The composition of the incipient partial melt of garnet peridotite at 3 GPa and the origin of OIB. Earth and Planetary Science Letters 308, 380–390.
A59: Kang, J.-T., Ionov, D.A., Liu, F., Zhang, C.-L., Golovin, A.V., Qin, L.-P., Zhang, Z.-F., Huang, F. (2017) Calcium isotopic fractionation in mantle peridotites by melting and metasomatism and Ca isotope composition of the Bulk Silicate Earth. Earth and Planetary Science Letters 474, 128–137.
A60: Salters V. J. M., Longhi J. E. and Bizimis M. (2002) Near mantle solidus trace element partitioning at pressures up to 3.4 GPa. Geochem Geophys Geosyst 3, 1–23.
A61: Sun, S.-s., McDonough, W.F. (1989) Chemical and isotopic systematics of oceanic basalts: implications for mantle composition and processes. Geological Society, London, Special Publications 42, 313–345.
A62: Walter, M.J. (1998) Melting of Garnet Peridotite and the Origin of Komatiite and Depleted Lithosphere. Journal of Petrology 39, 29–60.
A63: Zhang, H., Wang, Y., He, Y., Teng, F., Jacobsen, S.B., Helz, R.T., Marsh, B.D., Huang, S. (2018) No Measurable Calcium Isotopic Fractionation During Crystallization of Kilauea Iki Lava Lake. Geochemistry, Geophysics, Geosystems 19, 3128–3139.
A66: Wang et al. (2026) Geochem. Persp. Let. 39, 54-59 | https://doi.org/10.7185/geochemlet.2613
A67: © 2026 The Authors
A68: Published by the European Association of Geochemistry under Creative Commons License CC-BY-NC-ND.

Sheet Table S-7
A8: Table S-7 Calcium isotopic compositions of high pressure eclogite-derived melt (HPEM).
A11: Input parameters for the eclogite melting model used in this study
B12: Cpx | C12: Grt | D12: Coe | E12: Sum | F12: Liquid
A13: Initial modea | B13: 0.4 | C13: 0.5 | D13: 0.1 | E13: =SUM(B13:D13) -> 1
A14: Melting modea | B14: 0.7 | C14: 0 | D14: 0.3 | E14: =SUM(B14:D14) -> 1
A15: CaOb | B15: 0.134 | C15: 0.094 | D15: 0 | E15: =SUMPRODUCT(B13:D13,B15:D15) -> 0.1006 | F15: 0.12
A16: DCab | B16: =B15/$F15 -> 1.1166667 | C16: =C15/$F15 -> 0.78333333 | D16: =D15/$F15 -> 0 | E16: =E15/$F15 -> 0.83833333
A17: DDya | B17: 0.44 | C17: 2.1 | D17: 0
A18: DYba | B18: 0.43 | C18: 2.6 | D18: 0
A19: 1000lnβ at 1000 Kc, d | B19: 1.32 | C19: 2.03 | F19: 1.19
A20: Δ44/42Camineral–cpx at 1673 Kc | B20: =(1.32-1.32)/2.048/(1673/1000)^2 -> 0 | C20: =(2.03-1.32)/2.048/(1673/1000)^2 -> 0.12386155 | D20: 0
A21: Δ44/42Camelt–cpx at 1673 Kc, d | F21: =(1.19-1.32)/2.048/(1673/1000)^2 -> -0.022678876
A22: Initial Dye | E22: 5.3346198
A23: Initial Ybe | E23: 3.1232903
A24: Initial δ44/42Caf | E24: 0.39
A26: Results of eclogite melting calculations using the non-modal batch melting model.
A27: F | B27: f | C27: cpxresidue | D27: grtresidue | E27: coeresidue | F27: (cpxresidue)Ng | G27: (grtresidue)N | H27: (coeresidue)N | I27: DCa | J27: PCa | K27: CaOinstant melt | L27: CaOresidue | M27: CaOcpx residue | N27: CaOgrt residue | O27: CaOco residue | P27: Δ44/42Camelt-residue | Q27: δ44/42Cainstant melt | R27: δ44/42Caresidue | S27: δ44/42Caaggregate melt | T27: DDy | U27: PDy | V27: Dyinstant melt | W27: DyResidue | X27: Dyaggregate melt | Y27: DYb | Z27: PYb | AA27: Ybinstant melt | AB27: Ybresidue | AC27: Ybaggregate melt | AD27: (Dy/Yb)N aggregate melt | AE27: CaOaggregate melt
A28: 0.01 | B28: =A28 -> 0.01 | C28: =$B$13-A28*$B$14 -> 0.393 | D28: =$C$13-A28*$C$14 -> 0.5 | E28: =$D$13-A28*$D$14 -> 0.097 | F28: =C28/SUM(C28:E28) -> 0.3969697 | G28: =D28/SUM(C28:E28) -> 0.50505051 | H28: =E28/SUM(C28:E28) -> 0.097979798 | I28: =SUMPRODUCT(B13:D13,B16:D16) -> 0.83833333 | J28: =SUMPRODUCT($B$14:$D$14,$B$16:$D$16) -> 0.78166667 | K28: =E15/(I28+(1-J28)*B28) -> 0.11968829 | L28: =(E15-K28*B28)/(1-B28) -> 0.10040719 | M28: =K28*$B$16 -> 0.13365192 | N28: =K28*$C$16 -> 0.093755825 | O28: =K28*$D$16 -> 0 | P28: =F$21-SUMPRODUCT(M28:O28,F28:H28,$B$20:$D$20)/SUMPRODUCT(M28:O28,F28:H28) -> -0.081091238 | Q28: =(E15*E24+L28*P28*(1-B28))/(B28*K28+L28*(1-B28)) -> 0.30987354 | R28: =Q28-P28 -> 0.39096478 | S28: =Q28 -> 0.30987354 | T28: =SUMPRODUCT(B13:C13,B17:C17) -> 1.226 | U28: =SUMPRODUCT($B$14:$D$14,$B$17:$D$17) -> 0.308 | V28: =E22/(T28+(1-U28)*B28) -> 4.3268175 | W28: =(E22-B28*V28)/(1-B28) -> 5.3447996 | X28: =V28 -> 4.3268175 | Y28: =SUMPRODUCT(B13:D13,B18:D18) -> 1.472 | Z28: =SUMPRODUCT($B$14:$C$14,$B$18:$C$18) -> 0.301 | AA28: =E23/(Y28+(1-Z28)*B28) -> 2.1117724 | AB28: =(E23-B28*AA28)/(1-B28) -> 3.1335076 | AC28: =AA28 -> 2.1117724 | AD28: =X28/AC28/0.254*0.17 -> 1.3713132 | AE28: =K28 -> 0.11968829
A29: 0.02 | B29: =$A$28/(1-A28) -> 0.01010101 | C29: =F28-$B$14*B29 -> 0.38989899 | D29: =G28-B29*$C$14 -> 0.50505051 | E29: =H28-B29*$D$14 -> 0.094949495 | F29: =C29/SUM(C29:E29) -> 0.39387755 | G29: =D29/SUM(C29:E29) -> 0.51020408 | H29: =E29/SUM(C29:E29) -> 0.095918367 | I29: =SUMPRODUCT($B$16:$D$16,F29:H29) -> 0.8394898 | J29: =SUMPRODUCT($B$14:$D$14,$B$16:$D$16) -> 0.78166667 | K29: =L28/(I29+(1-J29)*B29) -> 0.11929163 | L29: =(L28-K29*B29)/(1-B29) -> 0.10021449 | M29: =K29*$B$16 -> 0.13320899 | N29: =K29*$C$16 -> 0.093445109 | O29: =K29*$D$16 -> 0 | P29: =F$21-SUMPRODUCT(M29:O29,F29:H29,$B$20:$D$20)/SUMPRODUCT(M29:O29,F29:H29) -> -0.081646228 | Q29: =(R28*L28+L29*P29*(1-B29))/(B29*K29+L29*(1-B29)) -> 0.31029837 | R29: =Q29-P29 -> 0.3919446 | S29: =SUMPRODUCT($Q$28:Q29,$K$28:K29)/SUM($K$28:K29) -> 0.3100856 | T29: =SUMPRODUCT(F28:H28,$B$17:$D$17) -> 1.2352727 | U29: =SUMPRODUCT($B$14:$D$14,$B$17:$D$17) -> 0.308 | V29: =W28/(T29+(1-U29)*B29) -> 4.3024715 | W29: =(W28-B29*V29)/(1-B29) -> 5.3554356 | X29: =SUMPRODUCT(V$28:V29,$B$28:$B29)/SUM($B$28:$B29) -> 4.3145833 | Y29: =SUMPRODUCT(F28:H28,$B$18:$D$18) -> 1.4838283 | Z29: =SUMPRODUCT($B$14:$C$14,$B$18:$C$18) -> 0.301 | AA29: =AB28/(Y29+(1-Z29)*B29) -> 2.1017714 | AB29: =(AB28-B29*AA29)/(1-B29) -> 3.1440355 | AC29: =SUMPRODUCT(AA$28:AA29,$B$28:$B29)/SUM($B$28:$B29) -> 2.1067468 | AD29: =X29/AC29/0.254*0.17 -> 1.3706978 | AE29: =SUMPRODUCT($K$28:K29,$B$28:B29)/SUMPRODUCT($B$28:B29) -> 0.11948896
A30: 0.03 | B30: =$A$28/(1-A29) -> 0.010204082 | C30: =F29-$B$14*B30 -> 0.38673469 | D30: =G29-B30*$C$14 -> 0.51020408 | E30: =H29-B30*$D$14 -> 0.092857143 | F30: =C30/SUM(C30:E30) -> 0.39072165 | G30: =D30/SUM(C30:E30) -> 0.51546392 | H30: =E30/SUM(C30:E30) -> 0.093814433 | I30: =SUMPRODUCT($B$16:$D$16,F30:H30) -> 0.84008591 | J30: =SUMPRODUCT($B$14:$D$14,$B$16:$D$16) -> 0.78166667 | K30: =L29/(I30+(1-J30)*B30) -> 0.11897524 | L30: =(L29-K30*B30)/(1-B30) -> 0.10002108 | M30: =K30*$B$16 -> 0.13285569 | N30: =K30*$C$16 -> 0.093197275 | O30: =K30*$D$16 -> 0 | P30: =F$21-SUMPRODUCT(M30:O30,F30:H30,$B$20:$D$20)/SUMPRODUCT(M30:O30,F30:H30) -> -0.082211865 | Q30: =(R29*L29+L30*P30*(1-B30))/(B30*K30+L30*(1-B30)) -> 0.31072868 | R30: =Q30-P30 -> 0.39294054 | S30: =SUMPRODUCT($Q$28:Q30,$K$28:K30)/SUM($K$28:K30) -> 0.31029934 | T30: =SUMPRODUCT(F29:H29,$B$17:$D$17) -> 1.2447347 | U30: =SUMPRODUCT($B$14:$D$14,$B$17:$D$17) -> 0.308 | V30: =W29/(T30+(1-U30)*B30) -> 4.2782018 | W30: =(W29-B30*V30)/(1-B30) -> 5.3665411 | X30: =SUMPRODUCT(V$28:V30,$B$28:$B30)/SUM($B$28:$B30) -> 4.3023332 | Y30: =SUMPRODUCT(F29:H29,$B$18:$D$18) -> 1.495898 | Z30: =SUMPRODUCT($B$14:$C$14,$B$18:$C$18) -> 0.301 | AA30: =AB29/(Y30+(1-Z30)*B30) -> 2.0917974 | AB30: =(AB29-B30*AA30)/(1-B30) -> 3.1548834 | AC30: =SUMPRODUCT(AA$28:AA30,$B$28:$B30)/SUM($B$28:$B30) -> 2.1017131 | AD30: =X30/AC30/0.254*0.17 -> 1.3700796 | AE30: =SUMPRODUCT($K$28:K30,$B$28:B30)/SUMPRODUCT($B$28:B30) -> 0.11931599
A31: 0.04 | B31: =$A$28/(1-A30) -> 0.010309278 | C31: =F30-$B$14*B31 -> 0.38350515 | D31: =G30-B31*$C$14 -> 0.51546392 | E31: =H30-B31*$D$14 -> 0.090721649 | F31: =C31/SUM(C31:E31) -> 0.3875 | G31: =D31/SUM(C31:E31) -> 0.52083333 | H31: =E31/SUM(C31:E31) -> 0.091666667 | I31: =SUMPRODUCT($B$16:$D$16,F31:H31) -> 0.84069444 | J31: =SUMPRODUCT($B$14:$D$14,$B$16:$D$16) -> 0.78166667 | K31: =L30/(I31+(1-J31)*B31) -> 0.11865667 | L31: =(L30-K31*B31)/(1-B31) -> 0.09982696 | M31: =K31*$B$16 -> 0.13249995 | N31: =K31*$C$16 -> 0.092947723 | O31: =K31*$D$16 -> 0 | P31: =F$21-SUMPRODUCT(M31:O31,F31:H31,$B$20:$D$20)/SUMPRODUCT(M31:O31,F31:H31) -> -0.082788459 | Q31: =(R30*L30+L31*P31*(1-B31))/(B31*K31+L31*(1-B31)) -> 0.31116459 | R31: =Q31-P31 -> 0.39395305 | S31: =SUMPRODUCT($Q$28:Q31,$K$28:K31)/SUM($K$28:K31) -> 0.31051475 | T31: =SUMPRODUCT(F30:H30,$B$17:$D$17) -> 1.2543918 | U31: =SUMPRODUCT($B$14:$D$14,$B$17:$D$17) -> 0.308 | V31: =W30/(T31+(1-U31)*B31) -> 4.2540083 | W31: =(W30-B31*V31)/(1-B31) -> 5.37813 | X31: =SUMPRODUCT(V$28:V31,$B$28:$B31)/SUM($B$28:$B31) -> 4.2900668 | Y31: =SUMPRODUCT(F30:H30,$B$18:$D$18) -> 1.5082165 | Z31: =SUMPRODUCT($B$14:$C$14,$B$18:$C$18) -> 0.301 | AA31: =AB30/(Y31+(1-Z31)*B31) -> 2.0818504 | AB31: =(AB30-B31*AA31)/(1-B31) -> 3.1660608 | AC31: =SUMPRODUCT(AA$28:AA31,$B$28:$B31)/SUM($B$28:$B31) -> 2.0966713 | AD31: =X31/AC31/0.254*0.17 -> 1.3694586 | AE31: =SUMPRODUCT($K$28:K31,$B$28:B31)/SUMPRODUCT($B$28:B31) -> 0.11914863
A32: 0.05 | B32: =$A$28/(1-A31) -> 0.010416667 | C32: =F31-$B$14*B32 -> 0.38020833 | D32: =G31-B32*$C$14 -> 0.52083333 | E32: =H31-B32*$D$14 -> 0.088541667 | F32: =C32/SUM(C32:E32) -> 0.38421053 | G32: =D32/SUM(C32:E32) -> 0.52631579 | H32: =E32/SUM(C32:E32) -> 0.089473684 | I32: =SUMPRODUCT($B$16:$D$16,F32:H32) -> 0.84131579 | J32: =SUMPRODUCT($B$14:$D$14,$B$16:$D$16) -> 0.78166667 | K32: =L31/(I32+(1-J32)*B32) -> 0.11833586 | L32: =(L31-K32*B32)/(1-B32) -> 0.09963213 | M32: =K32*$B$16 -> 0.13214171 | N32: =K32*$C$16 -> 0.092696424 | O32: =K32*$D$16 -> 0 | P32: =F$21-SUMPRODUCT(M32:O32,F32:H32,$B$20:$D$20)/SUMPRODUCT(M32:O32,F32:H32) -> -0.083376331 | Q32: =(R31*L31+L32*P32*(1-B32))/(B32*K32+L32*(1-B32)) -> 0.31160625 | R32: =Q32-P32 -> 0.39498258 | S32: =SUMPRODUCT($Q$28:Q32,$K$28:K32)/SUM($K$28:K32) -> 0.31073185 | T32: =SUMPRODUCT(F31:H31,$B$17:$D$17) -> 1.26425 | U32: =SUMPRODUCT($B$14:$D$14,$B$17:$D$17) -> 0.308 | V32: =W31/(T32+(1-U32)*B32) -> 4.2298909 | W32: =(W31-B32*V32)/(1-B32) -> 5.3902167 | X32: =SUMPRODUCT(V$28:V32,$B$28:$B32)/SUM($B$28:$B32) -> 4.2777834 | Y32: =SUMPRODUCT(F31:H31,$B$18:$D$18) -> 1.5207917 | Z32: =SUMPRODUCT($B$14:$C$14,$B$18:$C$18) -> 0.301 | AA32: =AB31/(Y32+(1-Z32)*B32) -> 2.0719304 | AB32: =(AB31-B32*AA32)/(1-B32) -> 3.1775779 | AC32: =SUMPRODUCT(AA$28:AA32,$B$28:$B32)/SUM($B$28:$B32) -> 2.0916211 | AD32: =X32/AC32/0.254*0.17 -> 1.3688346 | AE32: =SUMPRODUCT($K$28:K32,$B$28:B32)/SUMPRODUCT($B$28:B32) -> 0.11898272
A33: 0.06 | B33: =$A$28/(1-A32) -> 0.010526316 | C33: =F32-$B$14*B33 -> 0.37684211 | D33: =G32-B33*$C$14 -> 0.52631579 | E33: =H32-B33*$D$14 -> 0.086315789 | F33: =C33/SUM(C33:E33) -> 0.38085106 | G33: =D33/SUM(C33:E33) -> 0.53191489 | H33: =E33/SUM(C33:E33) -> 0.087234043 | I33: =SUMPRODUCT($B$16:$D$16,F33:H33) -> 0.84195035 | J33: =SUMPRODUCT($B$14:$D$14,$B$16:$D$16) -> 0.78166667 | K33: =L32/(I33+(1-J33)*B33) -> 0.11801279 | L33: =(L32-K33*B33)/(1-B33) -> 0.099436591 | M33: =K33*$B$16 -> 0.13178094 | N33: =K33*$C$16 -> 0.092443349 | O33: =K33*$D$16 -> 0 | P33: =F$21-SUMPRODUCT(M33:O33,F33:H33,$B$20:$D$20)/SUMPRODUCT(M33:O33,F33:H33) -> -0.083975815 | Q33: =(R32*L32+L33*P33*(1-B33))/(B33*K33+L33*(1-B33)) -> 0.3120538 | R33: =Q33-P33 -> 0.39602961 | S33: =SUMPRODUCT($Q$28:Q33,$K$28:K33)/SUM($K$28:K33) -> 0.31095067 | T33: =SUMPRODUCT(F32:H32,$B$17:$D$17) -> 1.2743158 | U33: =SUMPRODUCT($B$14:$D$14,$B$17:$D$17) -> 0.308 | V33: =W32/(T33+(1-U33)*B33) -> 4.2058495 | W33: =(W32-B33*V33)/(1-B33) -> 5.4028164 | X33: =SUMPRODUCT(V$28:V33,$B$28:$B33)/SUM($B$28:$B33) -> 4.2654827 | Y33: =SUMPRODUCT(F32:H32,$B$18:$D$18) -> 1.5336316 | Z33: =SUMPRODUCT($B$14:$C$14,$B$18:$C$18) -> 0.301 | AA33: =AB32/(Y33+(1-Z33)*B33) -> 2.0620374 | AB33: =(AB32-B33*AA33)/(1-B33) -> 3.1894454 | AC33: =SUMPRODUCT(AA$28:AA33,$B$28:$B33)/SUM($B$28:$B33) -> 2.0865623 | AD33: =X33/AC33/0.254*0.17 -> 1.3682077 | AE33: =SUMPRODUCT($K$28:K33,$B$28:B33)/SUMPRODUCT($B$28:B33) -> 0.11881686
A34: 0.07 | B34: =$A$28/(1-A33) -> 0.010638298 | C34: =F33-$B$14*B34 -> 0.37340426 | D34: =G33-B34*$C$14 -> 0.53191489 | E34: =H33-B34*$D$14 -> 0.084042553 | F34: =C34/SUM(C34:E34) -> 0.37741935 | G34: =D34/SUM(C34:E34) -> 0.53763441 | H34: =E34/SUM(C34:E34) -> 0.084946237 | I34: =SUMPRODUCT($B$16:$D$16,F34:H34) -> 0.84259857 | J34: =SUMPRODUCT($B$14:$D$14,$B$16:$D$16) -> 0.78166667 | K34: =L33/(I34+(1-J34)*B34) -> 0.11768741 | L34: =(L33-K34*B34)/(1-B34) -> 0.099240345 | M34: =K34*$B$16 -> 0.1314176 | N34: =K34*$C$16 -> 0.092188467 | O34: =K34*$D$16 -> 0 | P34: =F$21-SUMPRODUCT(M34:O34,F34:H34,$B$20:$D$20)/SUMPRODUCT(M34:O34,F34:H34) -> -0.084587259 | Q34: =(R33*L33+L34*P34*(1-B34))/(B34*K34+L34*(1-B34)) -> 0.31250738 | R34: =Q34-P34 -> 0.39709464 | S34: =SUMPRODUCT($Q$28:Q34,$K$28:K34)/SUM($K$28:K34) -> 0.31117123 | T34: =SUMPRODUCT(F33:H33,$B$17:$D$17) -> 1.2845957 | U34: =SUMPRODUCT($B$14:$D$14,$B$17:$D$17) -> 0.308 | V34: =W33/(T34+(1-U34)*B34) -> 4.1818841 | W34: =(W33-B34*V34)/(1-B34) -> 5.4159447 | X34: =SUMPRODUCT(V$28:V34,$B$28:$B34)/SUM($B$28:$B34) -> 4.2531641 | Y34: =SUMPRODUCT(F33:H33,$B$18:$D$18) -> 1.5467447 | Z34: =SUMPRODUCT($B$14:$C$14,$B$18:$C$18) -> 0.301 | AA34: =AB33/(Y34+(1-Z34)*B34) -> 2.0521713 | AB34: =(AB33-B34*AA34)/(1-B34) -> 3.2016742 | AC34: =SUMPRODUCT(AA$28:AA34,$B$28:$B34)/SUM($B$28:$B34) -> 2.0814947 | AD34: =X34/AC34/0.254*0.17 -> 1.3675778 | AE34: =SUMPRODUCT($K$28:K34,$B$28:B34)/SUMPRODUCT($B$28:B34) -> 0.11865043
A35: 0.08 | B35: =$A$28/(1-A34) -> 0.010752688 | C35: =F34-$B$14*B35 -> 0.36989247 | D35: =G34-B35*$C$14 -> 0.53763441 | E35: =H34-B35*$D$14 -> 0.08172043 | F35: =C35/SUM(C35:E35) -> 0.37391304 | G35: =D35/SUM(C35:E35) -> 0.54347826 | H35: =E35/SUM(C35:E35) -> 0.082608696 | I35: =SUMPRODUCT($B$16:$D$16,F35:H35) -> 0.84326087 | J35: =SUMPRODUCT($B$14:$D$14,$B$16:$D$16) -> 0.78166667 | K35: =L34/(I35+(1-J35)*B35) -> 0.11735968 | L35: =(L34-K35*B35)/(1-B35) -> 0.099043396 | M35: =K35*$B$16 -> 0.13105164 | N35: =K35*$C$16 -> 0.091931747 | O35: =K35*$D$16 -> 0 | P35: =F$21-SUMPRODUCT(M35:O35,F35:H35,$B$20:$D$20)/SUMPRODUCT(M35:O35,F35:H35) -> -0.085211024 | Q35: =(R34*L34+L35*P35*(1-B35))/(B35*K35+L35*(1-B35)) -> 0.31296715 | R35: =Q35-P35 -> 0.39817818 | S35: =SUMPRODUCT($Q$28:Q35,$K$28:K35)/SUM($K$28:K35) -> 0.31139356 | T35: =SUMPRODUCT(F34:H34,$B$17:$D$17) -> 1.2950968 | U35: =SUMPRODUCT($B$14:$D$14,$B$17:$D$17) -> 0.308 | V35: =W34/(T35+(1-U35)*B35) -> 4.1579948 | W35: =(W34-B35*V35)/(1-B35) -> 5.429618 | X35: =SUMPRODUCT(V$28:V35,$B$28:$B35)/SUM($B$28:$B35) -> 4.2408272 | Y35: =SUMPRODUCT(F34:H34,$B$18:$D$18) -> 1.5601398 | Z35: =SUMPRODUCT($B$14:$C$14,$B$18:$C$18) -> 0.301 | AA35: =AB34/(Y35+(1-Z35)*B35) -> 2.0423322 | AB35: =(AB34-B35*AA35)/(1-B35) -> 3.2142757 | AC35: =SUMPRODUCT(AA$28:AA35,$B$28:$B35)/SUM($B$28:$B35) -> 2.076418 | AD35: =X35/AC35/0.254*0.17 -> 1.3669449 | AE35: =SUMPRODUCT($K$28:K35,$B$28:B35)/SUMPRODUCT($B$28:B35) -> 0.11848311
A36: 0.09 | B36: =$A$28/(1-A35) -> 0.010869565 | C36: =F35-$B$14*B36 -> 0.36630435 | D36: =G35-B36*$C$14 -> 0.54347826 | E36: =H35-B36*$D$14 -> 0.079347826 | F36: =C36/SUM(C36:E36) -> 0.37032967 | G36: =D36/SUM(C36:E36) -> 0.54945055 | H36: =E36/SUM(C36:E36) -> 0.08021978 | I36: =SUMPRODUCT($B$16:$D$16,F36:H36) -> 0.84393773 | J36: =SUMPRODUCT($B$14:$D$14,$B$16:$D$16) -> 0.78166667 | K36: =L35/(I36+(1-J36)*B36) -> 0.11702956 | L36: =(L35-K36*B36)/(1-B36) -> 0.098845746 | M36: =K36*$B$16 -> 0.13068301 | N36: =K36*$C$16 -> 0.091673157 | O36: =K36*$D$16 -> 0 | P36: =F$21-SUMPRODUCT(M36:O36,F36:H36,$B$20:$D$20)/SUMPRODUCT(M36:O36,F36:H36) -> -0.085847487 | Q36: =(R35*L35+L36*P36*(1-B36))/(B36*K36+L36*(1-B36)) -> 0.31343327 | R36: =Q36-P36 -> 0.39928076 | S36: =SUMPRODUCT($Q$28:Q36,$K$28:K36)/SUM($K$28:K36) -> 0.31161769 | T36: =SUMPRODUCT(F35:H35,$B$17:$D$17) -> 1.3058261 | U36: =SUMPRODUCT($B$14:$D$14,$B$17:$D$17) -> 0.308 | V36: =W35/(T36+(1-U36)*B36) -> 4.1341813 | W36: =(W35-B36*V36)/(1-B36) -> 5.4438536 | X36: =SUMPRODUCT(V$28:V36,$B$28:$B36)/SUM($B$28:$B36) -> 4.2284714 | Y36: =SUMPRODUCT(F35:H35,$B$18:$D$18) -> 1.5738261 | Z36: =SUMPRODUCT($B$14:$C$14,$B$18:$C$18) -> 0.301 | AA36: =AB35/(Y36+(1-Z36)*B36) -> 2.03252 | AB36: =(AB35-B36*AA36)/(1-B36) -> 3.227262 | AC36: =SUMPRODUCT(AA$28:AA36,$B$28:$B36)/SUM($B$28:$B36) -> 2.071332 | AD36: =X36/AC36/0.254*0.17 -> 1.3663088 | AE36: =SUMPRODUCT($K$28:K36,$B$28:B36)/SUMPRODUCT($B$28:B36) -> 0.11831471
A37: 0.1 | B37: =$A$28/(1-A36) -> 0.010989011 | C37: =F36-$B$14*B37 -> 0.36263736 | D37: =G36-B37*$C$14 -> 0.54945055 | E37: =H36-B37*$D$14 -> 0.076923077 | F37: =C37/SUM(C37:E37) -> 0.36666667 | G37: =D37/SUM(C37:E37) -> 0.55555556 | H37: =E37/SUM(C37:E37) -> 0.077777778 | I37: =SUMPRODUCT($B$16:$D$16,F37:H37) -> 0.84462963 | J37: =SUMPRODUCT($B$14:$D$14,$B$16:$D$16) -> 0.78166667 | K37: =L36/(I37+(1-J37)*B37) -> 0.11669702 | L37: =(L36-K37*B37)/(1-B37) -> 0.098647398 | M37: =K37*$B$16 -> 0.13031167 | N37: =K37*$C$16 -> 0.091412664 | O37: =K37*$D$16 -> 0 | P37: =F$21-SUMPRODUCT(M37:O37,F37:H37,$B$20:$D$20)/SUMPRODUCT(M37:O37,F37:H37) -> -0.086497039 | Q37: =(R36*L36+L37*P37*(1-B37))/(B37*K37+L37*(1-B37)) -> 0.3139059 | R37: =Q37-P37 -> 0.40040294 | S37: =SUMPRODUCT($Q$28:Q37,$K$28:K37)/SUM($K$28:K37) -> 0.31184365 | T37: =SUMPRODUCT(F36:H36,$B$17:$D$17) -> 1.3167912 | U37: =SUMPRODUCT($B$14:$D$14,$B$17:$D$17) -> 0.308 | V37: =W36/(T37+(1-U37)*B37) -> 4.1104437 | W37: =(W36-B37*V37)/(1-B37) -> 5.4586693 | X37: =SUMPRODUCT(V$28:V37,$B$28:$B37)/SUM($B$28:$B37) -> 4.2160962 | Y37: =SUMPRODUCT(F36:H36,$B$18:$D$18) -> 1.5878132 | Z37: =SUMPRODUCT($B$14:$C$14,$B$18:$C$18) -> 0.301 | AA37: =AB36/(Y37+(1-Z37)*B37) -> 2.0227347 | AB37: =(AB36-B37*AA37)/(1-B37) -> 3.2406457 | AC37: =SUMPRODUCT(AA$28:AA37,$B$28:$B37)/SUM($B$28:$B37) -> 2.0662366 | AD37: =X37/AC37/0.254*0.17 -> 1.3656697 | AE37: =SUMPRODUCT($K$28:K37,$B$28:B37)/SUMPRODUCT($B$28:B37) -> 0.11814509
A38: 0.11 | B38: =$A$28/(1-A37) -> 0.011111111 | C38: =F37-$B$14*B38 -> 0.35888889 | D38: =G37-B38*$C$14 -> 0.55555556 | E38: =H37-B38*$D$14 -> 0.074444444 | F38: =C38/SUM(C38:E38) -> 0.36292135 | G38: =D38/SUM(C38:E38) -> 0.56179775 | H38: =E38/SUM(C38:E38) -> 0.075280899 | I38: =SUMPRODUCT($B$16:$D$16,F38:H38) -> 0.84533708 | J38: =SUMPRODUCT($B$14:$D$14,$B$16:$D$16) -> 0.78166667 | K38: =L37/(I38+(1-J38)*B38) -> 0.116362 | L38: =(L37-K38*B38)/(1-B38) -> 0.098448358 | M38: =K38*$B$16 -> 0.12993757 | N38: =K38*$C$16 -> 0.091150233 | O38: =K38*$D$16 -> 0 | P38: =F$21-SUMPRODUCT(M38:O38,F38:H38,$B$20:$D$20)/SUMPRODUCT(M38:O38,F38:H38) -> -0.087160089 | Q38: =(R37*L37+L38*P38*(1-B38))/(B38*K38+L38*(1-B38)) -> 0.3143852 | R38: =Q38-P38 -> 0.40154529 | S38: =SUMPRODUCT($Q$28:Q38,$K$28:K38)/SUM($K$28:K38) -> 0.31207147 | T38: =SUMPRODUCT(F37:H37,$B$17:$D$17) -> 1.328 | U38: =SUMPRODUCT($B$14:$D$14,$B$17:$D$17) -> 0.308 | V38: =W37/(T38+(1-U38)*B38) -> 4.086782 | W38: =(W37-B38*V38)/(1-B38) -> 5.4740837 | X38: =SUMPRODUCT(V$28:V38,$B$28:$B38)/SUM($B$28:$B38) -> 4.203701 | Y38: =SUMPRODUCT(F37:H37,$B$18:$D$18) -> 1.6021111 | Z38: =SUMPRODUCT($B$14:$C$14,$B$18:$C$18) -> 0.301 | AA38: =AB37/(Y38+(1-Z38)*B38) -> 2.0129762 | AB38: =(AB37-B38*AA38)/(1-B38) -> 3.2544397 | AC38: =SUMPRODUCT(AA$28:AA38,$B$28:$B38)/SUM($B$28:$B38) -> 2.0611314 | AD38: =X38/AC38/0.254*0.17 -> 1.3650273 | AE38: =SUMPRODUCT($K$28:K38,$B$28:B38)/SUMPRODUCT($B$28:B38) -> 0.11797418
A39: 0.12 | B39: =$A$28/(1-A38) -> 0.011235955 | C39: =F38-$B$14*B39 -> 0.35505618 | D39: =G38-B39*$C$14 -> 0.56179775 | E39: =H38-B39*$D$14 -> 0.071910112 | F39: =C39/SUM(C39:E39) -> 0.35909091 | G39: =D39/SUM(C39:E39) -> 0.56818182 | H39: =E39/SUM(C39:E39) -> 0.072727273 | I39: =SUMPRODUCT($B$16:$D$16,F39:H39) -> 0.84606061 | J39: =SUMPRODUCT($B$14:$D$14,$B$16:$D$16) -> 0.78166667 | K39: =L38/(I39+(1-J39)*B39) -> 0.11602446 | L39: =(L38-K39*B39)/(1-B39) -> 0.09824863 | M39: =K39*$B$16 -> 0.12956065 | N39: =K39*$C$16 -> 0.09088583 | O39: =K39*$D$16 -> 0 | P39: =F$21-SUMPRODUCT(M39:O39,F39:H39,$B$20:$D$20)/SUMPRODUCT(M39:O39,F39:H39) -> -0.087837061 | Q39: =(R38*L38+L39*P39*(1-B39))/(B39*K39+L39*(1-B39)) -> 0.31487136 | R39: =Q39-P39 -> 0.40270842 | S39: =SUMPRODUCT($Q$28:Q39,$K$28:K39)/SUM($K$28:K39) -> 0.3123012 | T39: =SUMPRODUCT(F38:H38,$B$17:$D$17) -> 1.3394607 | U39: =SUMPRODUCT($B$14:$D$14,$B$17:$D$17) -> 0.308 | V39: =W38/(T39+(1-U39)*B39) -> 4.063196 | W39: =(W38-B39*V39)/(1-B39) -> 5.4901165 | X39: =SUMPRODUCT(V$28:V39,$B$28:$B39)/SUM($B$28:$B39) -> 4.1912853 | Y39: =SUMPRODUCT(F38:H38,$B$18:$D$18) -> 1.6167303 | Z39: =SUMPRODUCT($B$14:$C$14,$B$18:$C$18) -> 0.301 | AA39: =AB38/(Y39+(1-Z39)*B39) -> 2.0032446 | AB39: =(AB38-B39*AA39)/(1-B39) -> 3.2686578 | AC39: =SUMPRODUCT(AA$28:AA39,$B$28:$B39)/SUM($B$28:$B39) -> 2.0560163 | AD39: =X39/AC39/0.254*0.17 -> 1.3643817 | AE39: =SUMPRODUCT($K$28:K39,$B$28:B39)/SUMPRODUCT($B$28:B39) -> 0.11780189
A40: 0.13 | B40: =$A$28/(1-A39) -> 0.011363636 | C40: =F39-$B$14*B40 -> 0.35113636 | D40: =G39-B40*$C$14 -> 0.56818182 | E40: =H39-B40*$D$14 -> 0.069318182 | F40: =C40/SUM(C40:E40) -> 0.35517241 | G40: =D40/SUM(C40:E40) -> 0.57471264 | H40: =E40/SUM(C40:E40) -> 0.070114943 | I40: =SUMPRODUCT($B$16:$D$16,F40:H40) -> 0.84680077 | J40: =SUMPRODUCT($B$14:$D$14,$B$16:$D$16) -> 0.78166667 | K40: =L39/(I40+(1-J40)*B40) -> 0.11568437 | L40: =(L39-K40*B40)/(1-B40) -> 0.098048219 | M40: =K40*$B$16 -> 0.12918088 | N40: =K40*$C$16 -> 0.09061942 | O40: =K40*$D$16 -> 0 | P40: =F$21-SUMPRODUCT(M40:O40,F40:H40,$B$20:$D$20)/SUMPRODUCT(M40:O40,F40:H40) -> -0.088528398 | Q40: =(R39*L39+L40*P40*(1-B40))/(B40*K40+L40*(1-B40)) -> 0.31536456 | R40: =Q40-P40 -> 0.40389296 | S40: =SUMPRODUCT($Q$28:Q40,$K$28:K40)/SUM($K$28:K40) -> 0.31253285 | T40: =SUMPRODUCT(F39:H39,$B$17:$D$17) -> 1.3511818 | U40: =SUMPRODUCT($B$14:$D$14,$B$17:$D$17) -> 0.308 | V40: =W39/(T40+(1-U40)*B40) -> 4.0396857 | W40: =(W39-B40*V40)/(1-B40) -> 5.5067882 | X40: =SUMPRODUCT(V$28:V40,$B$28:$B40)/SUM($B$28:$B40) -> 4.1788485 | Y40: =SUMPRODUCT(F39:H39,$B$18:$D$18) -> 1.6316818 | Z40: =SUMPRODUCT($B$14:$C$14,$B$18:$C$18) -> 0.301 | AA40: =AB39/(Y40+(1-Z40)*B40) -> 1.9935399 | AB40: =(AB39-B40*AA40)/(1-B40) -> 3.2833144 | AC40: =SUMPRODUCT(AA$28:AA40,$B$28:$B40)/SUM($B$28:$B40) -> 2.0508909 | AD40: =X40/AC40/0.254*0.17 -> 1.3637328 | AE40: =SUMPRODUCT($K$28:K40,$B$28:B40)/SUMPRODUCT($B$28:B40) -> 0.11762817
... A60: 0.33 | B60: =$A$28/(1-A59) -> 0.014705882 | C60: =F59-$B$14*B60 -> 0.24852941 | D60: =G59-B60*$C$14 -> 0.73529412 | E60: =H59-B60*$D$14 -> 0.0014705882 | F60: =C60/SUM(C60:E60) -> 0.25223881 | G60: =D60/SUM(C60:E60) -> 0.74626866 | H60: =E60/SUM(C60:E60) -> 0.0014925373 | I60: =SUMPRODUCT($B$16:$D$16,F60:H60) -> 0.86624378 | J60: =SUMPRODUCT($B$14:$D$14,$B$16:$D$16) -> 0.78166667 | K60: =L59/(I60+(1-J60)*B60) -> 0.10825934 | L60: =(L59-K60*B60)/(1-B60) -> 0.093915641 | M60: =K60*$B$16 -> 0.1208896 | N60: =K60*$C$16 -> 0.08480315 | O60: =K60*$D$16 -> 0 | P60: =F$21-SUMPRODUCT(M60:O60,F60:H60,$B$20:$D$20)/SUMPRODUCT(M60:O60,F60:H60) -> -0.10626577 | Q60: =(R59*L59+L60*P60*(1-B60))/(B60*K60+L60*(1-B60)) -> 0.32706546 | R60: =Q60-P60 -> 0.43333123 | S60: =SUMPRODUCT($Q$28:Q60,$K$28:K60)/SUM($K$28:K60) -> 0.3176326 | T60: =SUMPRODUCT(F59:H59,$B$17:$D$17) -> 1.658 | U60: =SUMPRODUCT($B$14:$D$14,$B$17:$D$17) -> 0.308 | V60: =W59/(T60+(1-U60)*B60) -> 3.5853091 | W60: =(W59-B60*V60)/(1-B60) -> 6.0166838 | X60: =SUMPRODUCT(V$28:V60,$B$28:$B60)/SUM($B$28:$B60) -> 3.9245869 | Y60: =SUMPRODUCT(F59:H59,$B$18:$D$18) -> 2.0230588 | Z60: =SUMPRODUCT($B$14:$C$14,$B$18:$C$18) -> 0.301 | AA60: =AB59/(Y60+(1-Z60)*B60) -> 1.8050542 | AB60: =(AB59-B60*AA60)/(1-B60) -> 3.6981249 | AC60: =SUMPRODUCT(AA$28:AA60,$B$28:$B60)/SUM($B$28:$B60) -> 1.9457609 | AD60: =X60/AC60/0.254*0.17 -> 1.3499562 | AE60: =SUMPRODUCT($K$28:K60,$B$28:B60)/SUMPRODUCT($B$28:B60) -> 0.1137837
A61: 0.34 | B61: =$A$28/(1-A60) -> 0.014925373 | C61: =F60-$B$14*B61 -> 0.24179104 | D61: =G60-B61*$C$14 -> 0.74626866 | E61: 0 | F61: =C61/SUM(C61:E61) -> 0.24471299 | G61: =D61/SUM(C61:E61) -> 0.75528701 | H61: =E61/SUM(C61:E61) -> 0 | I61: =SUMPRODUCT($B$16:$D$16,F61:H61) -> 0.86490433 | J61: =SUMPRODUCT($B$14:$D$14,$B$16:$D$16) -> 0.78166667 | K61: =L60/(I61+(1-J61)*B61) -> 0.10817742 | L61: =(L60-K61*B61)/(1-B61) -> 0.093699553 | M61: =K61*$B$16 -> 0.12079812 | N61: =K61*$C$16 -> 0.084738982 | O61: =K61*$D$16 -> 0 | P61: =F$21-SUMPRODUCT(M61:O61,F61:H61,$B$20:$D$20)/SUMPRODUCT(M61:O61,F61:H61) -> -0.1074069 | Q61: =(R60*L60+L61*P61*(1-B61))/(B61*K61+L61*(1-B61)) -> 0.32777087 | R61: =Q61-P61 -> 0.43517776 | S61: =SUMPRODUCT($Q$28:Q61,$K$28:K61)/SUM($K$28:K61) -> 0.31791556 | T61: =SUMPRODUCT(F60:H60,$B$17:$D$17) -> 1.6781493 | U61: =SUMPRODUCT($B$14:$D$14,$B$17:$D$17) -> 0.308 | V61: =W60/(T61+(1-U61)*B61) -> 3.5633779 | W61: =(W60-B61*V61)/(1-B61) -> 6.0538551 | X61: =SUMPRODUCT(V$28:V61,$B$28:$B61)/SUM($B$28:$B61) -> 3.9115316 | Y61: =SUMPRODUCT(F60:H60,$B$18:$D$18) -> 2.0487612 | Z61: =SUMPRODUCT($B$14:$C$14,$B$18:$C$18) -> 0.301 | AA61: =AB60/(Y61+(1-Z61)*B61) -> 1.7959089 | AB61: =(AB60-B61*AA61)/(1-B61) -> 3.7269464 | AC61: =SUMPRODUCT(AA$28:AA61,$B$28:$B61)/SUM($B$28:$B61) -> 1.9403447 | AD61: =X61/AC61/0.254*0.17 -> 1.3492212 | AE61: =SUMPRODUCT($K$28:K61,$B$28:B61)/SUMPRODUCT($B$28:B61) -> 0.11358107
A62: Parameters sources: a. Sobolev et al. (2000); b. Thomson et al. (2016); c. Antonelli et al. (2019); d. Zhang et al. (2018); e. Arevalo and McDonough (2010); f. Eriksen and Jacobsen (2022).
A63: g. The subscript N denotes normalization of residual phases to 100%.
A65: References
A66: Antonelli, M.A., Schiller, M., Schauble, E.A., Mittal, T., DePaolo, D.J., Chacko, T., Grew, E.S., Tripoli, B. (2019) Kinetic and equilibrium Ca isotope effects in high-T rocks and minerals. Earth and Planetary Science Letters 517, 71–82.
A67: Arevalo, R., McDonough, W.F. (2010) Chemical variations and regional diversity observed in MORB. Chemical Geology 271, 70–85.
A68: Eriksen, Z.T., Jacobsen, S.B. (2022) Calcium isotope constraints on OIB and MORB petrogenesis: The importance of melt mixing. Earth and Planetary Science Letters 593, 117665.
A69: Sobolev, A.V., Hofmann, A.W., Nikogosian, I.K. (2000) Recycled oceanic crust observed in ‘ghost plagioclase’ within the source of Mauna Loa lavas. Nature 404, 986–990.
A70: Thomson, A.R., Walter, M.J., Kohn, S.C., Brooker, R.A. (2016) Slab melting as a barrier to deep carbon subduction. Nature 529, 76–79.
A71: Zhang, H., Wang, Y., He, Y., Teng, F., Jacobsen, S.B., Helz, R.T., Marsh, B.D., Huang, S. (2018) No Measurable Calcium Isotopic Fractionation During Crystallization of Kilauea Iki Lava Lake. Geochemistry, Geophysics, Geosystems 19, 3128–3139.
A74: Wang et al. (2026) Geochem. Persp. Let. 39, 54-59 | https://doi.org/10.7185/geochemlet.2613
A75: © 2026 The Authors
A76: Published by the European Association of Geochemistry under Creative Commons License CC-BY-NC-ND.

Sheet Table S-8
A8: Table S-8 Formation models for two types of secondary pyroxenite.
B10: CaO | C10: Dy | D10: Yb | E10: δ44/42Ca | F10: F | G10: (Dy/Yb)N
A11: Pyroxenite 1 = 5% HPEM + 95% UM
A12: HPEMa | B12: ='Table S-7'!AE57 -> 0.1144124 | C12: ='Table S-7'!X57 -> 3.9635233 | D12: ='Table S-7'!AC57 -> 1.9619034 | E12: 0.32 | F12: 0.05 | G12: =C12/D12/0.254*0.17 -> 1.3521317
A13: PMb | B13: 0.0355 | C13: 0.674 | D13: 0.441 | E13: 0.42 | F13: 0.95 | G13: =C13/D13/0.254*0.17 -> 1.0229079
A14: Pyroxenite | B14: =B12*F12+B13*F13 -> 0.03944562 | C14: =C12*F12+C13*F13 -> 0.83847616 | D14: =D12*F12+D13*F13 -> 0.51704517 | E14: =(B12*E12*F12+B13*E13*F13)/(B12*F12+B13*F13) -> 0.40549745 | G14: =C14/D14/0.254*0.17 -> 1.0853691
A16: Pyroxenite 2 = 50% HPEM + 50% UM
A17: HPEMa | B17: ='Table S-7'!AE57 -> 0.1144124 | C17: ='Table S-7'!X57 -> 3.9635233 | D17: ='Table S-7'!AC57 -> 1.9619034 | E17: 0.32 | F17: 0.5 | G17: =C17/D17/0.254*0.17 -> 1.3521317
A18: PMb | B18: 0.0355 | C18: 0.674 | D18: 0.441 | E18: 0.42 | F18: 0.5 | G18: =C18/D18/0.254*0.17 -> 1.0229079
A19: Pyroxenite | B19: =B17*F17+B18*F18 -> 0.074956199 | C19: =C17*F17+C18*F18 -> 2.3187616 | D19: =D17*F17+D18*F18 -> 1.2014517 | E19: =(B17*E17*F17+B18*E18*F18)/(B17*F17+B18*F18) -> 0.3436805 | G19: =C19/D19/0.254*0.17 -> 1.2917099
A20: a. HPEM = high pressure eclogite-derived melt, and its composition corresponds to the 30% partial melting result in Table S-7.
A21: b. PM = primitive mantle (Sun and McDonough, 1989)
A23: Reference
A24: Sun, S.-s., McDonough, W.F. (1989) Chemical and isotopic systematics of oceanic basalts: implications for mantle composition and processes. Geological Society, London, Special Publications 42, 313–345.
A28: Wang et al. (2026) Geochem. Persp. Let. 39, 54-59 | https://doi.org/10.7185/geochemlet.2613
A29: © 2026 The Authors
A30: Published by the European Association of Geochemistry under Creative Commons License CC-BY-NC-ND.

Sheet Table S-9
A8: Table S-9 Calcium isotopic compositions of melt from secondary pyroxenite 1.
A11: Input parameters for the melting model of secondary pyroxenite 1 used in this study
B12: Cpx | C12: Grt | D12: Opx | E12: Ol | F12: Spl | G12: Sum | H12: Liquid
A13: Initial modea | B13: 0.9 | C13: 0.1 | G13: =SUM(B13:F13) -> 1
A14: Melting modeb | B14: 0.5 | C14: 0.5 | G14: =SUM(B14:F14) -> 1
A15: CaOc | B15: =B16*G15/SUMPRODUCT(B16:C16,B13:C13) -> 0.042042354 | C15: =C16*G15/SUMPRODUCT(B16:C16,B13:C13) -> 0.016075018 | G15: ='Table S-8'!B14 -> 0.03944562
A16: DCad | B16: 2.38 | C16: 0.91 | G16: =SUMPRODUCT(B13:F13,B16:F16) -> 2.233
A17: DDye | B17: 0.42 | C17: 1.72 | D17: 0.065 | E17: 0.0027 | F17: 0
A18: DYbe | B18: 0.55 | C18: 5.71 | D18: 0.08 | E18: 0.02 | F18: 0
A19: 1000lnβ at 1000 Kf, g | B19: 1.32 | C19: 2.03 | D19: 1.85 | E19: 2.08 | F19: - | H19: 1.19
A20: Δ44/42Camineral–cpx at 1673 Kf | B20: =(1.32-1.32)/2.048/(1673/1000)^2 -> 0 | C20: =(2.03-1.32)/2.048/(1673/1000)^2 -> 0.12386155 | D20: =(1.85-1.32)/2.048/(1673/1000)^2 -> 0.092460031 | E20: =(2.08-1.32)/2.048/(1673/1000)^2 -> 0.1325842 | F20: 0
A21: Δ44/42Camelt–cpx at 1673 Kf, g | H21: =(1.19-1.32)/2.048/(1673/1000)^2 -> -0.022678876
A22: Initial Dyc | G22: 0.838
A23: Initial Ybc | G23: 0.517
A24: Initial δ44/42Cac | G24: 0.41
A26: Results of pyroxenite melting calculations using the non-modal batch melting model.
A27: F | B27: f | C27: cpxresidue | D27: grtresidue | E27: opxresidue | F27: olresidue | G27: splresidue | H27: (cpxresidue)Nh | I27: (grtresidue)N | J27: (opxresidue)N | K27: (olresidue)N | L27: (splresidue)N | M27: DCa | N27: PCa | O27: CaOinstant melt | P27: CaOresidue | Q27: CaOcpx residue | R27: CaOgrt residue | S27: CaOopx residue | T27: CaOol residue | U27: CaOsp residue | V27: Δ44/42Camelt-residue | W27: δ44/42Cainstant melt | X27: δ44/42Caresidue | Y27: δ44/42Caaggregate melt | Z27: DDy | AA27: PDy | AB27: Dyinstant melt | AC27: DyResidue | AD27: Dyaggregate melt | AE27: DYb | AF27: PYb | AG27: Ybinstant melt | AH27: Ybresidue | AI27: Ybaggregate melt | AJ27: (Dy/Yb)N aggregate melt | AK27: CaOaggregate melt
A28: 0.01 | B28: =A28 -> 0.01 | C28: =$B$13-A28*$B$14 -> 0.895 | D28: =$C$13-A28*$C$14 -> 0.095 | E28: =$D$13-A28*$D$14 -> 0 | F28: =$E$13-A28*$E$14 -> 0 | G28: =$F$13-A28*$F$14 -> 0 | H28: =C28/SUM(C28:G28) -> 0.9040404 | I28: =D28/SUM(C28:G28) -> 0.095959596 | J28: =E28/SUM(C28:G28) -> 0 | K28: =F28/SUM(C28:G28) -> 0 | L28: =G28/SUM(C28:G28) -> 0 | M28: =SUMPRODUCT(B13:F13,B16:F16) -> 2.233 | N28: =SUMPRODUCT($B$14:$F$14,$B$16:$F$16) -> 1.645 | O28: =G15/(M28+(1-N28)*B28) -> 0.017716027 | P28: =(G15-O28*B28)/(1-B28) -> 0.039665111 | Q28: =O28*$B$16 -> 0.042164144 | R28: =O28*$C$16 -> 0.016121585 | S28: =O28*$D$16 -> 0 | T28: =O28*$E$16 -> 0 | U28: =O28*$F$16 -> 0 | V28: =H$21-SUMPRODUCT(Q28:U28,H28:L28,$B$20:$F$20)/SUMPRODUCT(Q28:U28,H28:L28) -> -0.02750973 | W28: =(G15*G24+P28*V28*(1-B28))/(B28*O28+P28*(1-B28)) -> 0.38261382 | X28: =W28-V28 -> 0.41012355 | Y28: =W28 -> 0.38261382 | Z28: =SUMPRODUCT(B13:F13,B17:F17) -> 0.55 | AA28: =SUMPRODUCT($B$14:$F$14,$B$17:$F$17) -> 1.07 | AB28: =G22/(Z28+(1-AA28)*B28) -> 1.525578 | AC28: =(G22-B28*AB28)/(1-B28) -> 0.83105477 | AD28: =AB28 -> 1.525578 | AE28: =SUMPRODUCT(B13:F13,B18:F18) -> 1.066 | AF28: =SUMPRODUCT($B$14:$F$14,$B$18:$F$18) -> 3.13 | AG28: =G23/(AE28+(1-AF28)*B28) -> 0.49487891 | AH28: =(G23-B28*AG28)/(1-B28) -> 0.51722345 | AI28: =AG28 -> 0.49487891 | AJ28: =AD28/AI28/0.254*0.17 -> 2.0632444 | AK28: =O28 -> 0.017716027
A29: 0.02 | B29: =$A$28/(1-A28) -> 0.01010101 | C29: =H28-$B$14*B29 -> 0.8989899 | D29: =I28-B29*$C$14 -> 0.090909091 | E29: =J28-B29*$D$14 -> 0 | F29: =K28-B29*$E$14 -> 0 | G29: =L28-B29*$F$14 -> 0 | H29: =C29/SUM(C29:G29) -> 0.90816327 | I29: =D29/SUM(C29:G29) -> 0.091836735 | J29: =E29/SUM(C29:G29) -> 0 | K29: =F29/SUM(C29:G29) -> 0 | L29: =G29/SUM(C29:G29) -> 0 | M29: =SUMPRODUCT($B$16:$F$16,H29:L29) -> 2.245 | N29: =SUMPRODUCT($B$14:$F$14,$B$16:$F$16) -> 1.645 | O29: =P28/(M29+(1-N29)*B29) -> 0.017719624 | P29: =(P28-O29*B29)/(1-B29) -> 0.039889044 | Q29: =O29*$B$16 -> 0.042172706 | R29: =O29*$C$16 -> 0.016124858 | S29: =O29*$D$16 -> 0 | T29: =O29*$E$16 -> 0 | U29: =O29*$F$16 -> 0 | V29: =H$21-SUMPRODUCT(Q29:U29,H29:L29,$B$20:$F$20)/SUMPRODUCT(Q29:U29,H29:L29) -> -0.027289694 | W29: =(X28*P28+P29*V29*(1-B29))/(B29*O29+P29*(1-B29)) -> 0.382957 | X29: =W29-V29 -> 0.4102467 | Y29: =SUMPRODUCT($W$28:W29,$O$28:O29)/SUM($O$28:O29) -> 0.38278543 | Z29: =SUMPRODUCT(H28:L28,$B$17:$F$17) -> 0.54474747 | AA29: =SUMPRODUCT($B$14:$C$14,$B$17:$C$17) -> 1.07 | AB29: =AC28/(Z29+(1-AA29)*B29) -> 1.5275607 | AC29: =(AC28-B29*AB29)/(1-B29) -> 0.82394756 | AD29: =SUMPRODUCT(AB$28:AB29,$B$28:$B29)/SUM($B$28:$B29) -> 1.5265744 | AE29: =SUMPRODUCT(H28:L28,$B$18:$F$18) -> 1.0451515 | AF29: =SUMPRODUCT($B$14:$F$14,$B$18:$F$18) -> 3.13 | AG29: =AH28/(AE29+(1-AF29)*B29) -> 0.50528045 | AH29: =(AH28-B29*AG29)/(1-B29) -> 0.51734531 | AI29: =SUMPRODUCT(AG$28:AG29,$B$28:$B29)/SUM($B$28:$B29) -> 0.50010582 | AJ29: =AD29/AI29/0.254*0.17 -> 2.0430136 | AK29: =SUMPRODUCT($O$28:O29,$B$28:B29)/SUMPRODUCT($B$28:B29) -> 0.017717835
A30: 0.03 | B30: =$A$28/(1-A29) -> 0.010204082 | C30: =H29-$B$14*B30 -> 0.90306122 | D30: =I29-B30*$C$14 -> 0.086734694 | E30: =J29-B30*$D$14 -> 0 | F30: =K29-B30*$E$14 -> 0 | G30: =L29-B30*$F$14 -> 0 | H30: =C30/SUM(C30:G30) -> 0.91237113 | I30: =D30/SUM(C30:G30) -> 0.087628866 | J30: =E30/SUM(C30:G30) -> 0 | K30: =F30/SUM(C30:G30) -> 0 | L30: =G30/SUM(C30:G30) -> 0 | M30: =SUMPRODUCT($B$16:$F$16,H30:L30) -> 2.2511856 | N30: =SUMPRODUCT($B$14:$F$14,$B$16:$F$16) -> 1.645 | O30: =P29/(M30+(1-N30)*B30) -> 0.017771084 | P30: =(P29-O30*B30)/(1-B30) -> 0.040117065 | Q30: =O30*$B$16 -> 0.042295179 | R30: =O30*$C$16 -> 0.016171686 | S30: =O30*$D$16 -> 0 | T30: =O30*$E$16 -> 0 | U30: =O30*$F$16 -> 0 | V30: =H$21-SUMPRODUCT(Q30:U30,H30:L30,$B$20:$F$20)/SUMPRODUCT(Q30:U30,H30:L30) -> -0.027066342 | W30: =(X29*P29+P30*V30*(1-B30))/(B30*O30+P30*(1-B30)) -> 0.3833034 | X30: =W30-V30 -> 0.41036974 | Y30: =SUMPRODUCT($W$28:W30,$O$28:O30)/SUM($O$28:O30) -> 0.38295843 | Z30: =SUMPRODUCT(H29:L29,$B$17:$F$17) -> 0.53938776 | AA30: =SUMPRODUCT($B$14:$C$14,$B$17:$C$17) -> 1.07 | AB30: =AC29/(Z30+(1-AA30)*B30) -> 1.5295863 | AC30: =(AC29-B30*AB30)/(1-B30) -> 0.81667294 | AD30: =SUMPRODUCT(AB$28:AB30,$B$28:$B30)/SUM($B$28:$B30) -> 1.5275885 | AE30: =SUMPRODUCT(H29:L29,$B$18:$F$18) -> 1.0238776 | AF30: =SUMPRODUCT($B$14:$F$14,$B$18:$F$18) -> 3.13 | AG30: =AH29/(AE30+(1-AF30)*B30) -> 0.51623909 | AH30: =(AH29-B30*AG30)/(1-B30) -> 0.51735672 | AI30: =SUMPRODUCT(AG$28:AG30,$B$28:$B30)/SUM($B$28:$B30) -> 0.50553808 | AJ30: =AD30/AI30/0.254*0.17 -> 2.0224031 | AK30: =SUMPRODUCT($O$28:O30,$B$28:B30)/SUMPRODUCT($B$28:B30) -> 0.017735764
A31: 0.04 | B31: =$A$28/(1-A30) -> 0.010309278 | C31: =H30-$B$14*B31 -> 0.90721649 | D31: =I30-B31*$C$14 -> 0.082474227 | E31: =J30-B31*$D$14 -> 0 | F31: =K30-B31*$E$14 -> 0 | G31: =L30-B31*$F$14 -> 0 | H31: =C31/SUM(C31:G31) -> 0.91666667 | I31: =D31/SUM(C31:G31) -> 0.083333333 | J31: =E31/SUM(C31:G31) -> 0 | K31: =F31/SUM(C31:G31) -> 0 | L31: =G31/SUM(C31:G31) -> 0 | M31: =SUMPRODUCT($B$16:$F$16,H31:L31) -> 2.2575 | N31: =SUMPRODUCT($B$14:$F$14,$B$16:$F$16) -> 1.645 | O31: =P30/(M31+(1-N31)*B31) -> 0.017823069 | P31: =(P30-O31*B31)/(1-B31) -> 0.040349294 | Q31: =O31*$B$16 -> 0.042418905 | R31: =O31*$C$16 -> 0.016218993 | S31: =O31*$D$16 -> 0 | T31: =O31*$E$16 -> 0 | U31: =O31*$F$16 -> 0 | V31: =H$21-SUMPRODUCT(Q31:U31,H31:L31,$B$20:$F$20)/SUMPRODUCT(Q31:U31,H31:L31) -> -0.0268396 | W31: =(X30*P30+P31*V31*(1-B31))/(B31*O31+P31*(1-B31)) -> 0.38365307 | X31: =W31-V31 -> 0.41049267 | Y31: =SUMPRODUCT($W$28:W31,$O$28:O31)/SUM($O$28:O31) -> 0.38313273 | Z31: =SUMPRODUCT(H30:L30,$B$17:$F$17) -> 0.53391753 | AA31: =SUMPRODUCT($B$14:$C$14,$B$17:$C$17) -> 1.07 | AB31: =AC30/(Z31+(1-AA31)*B31) -> 1.5316565 | AC31: =(AC30-B31*AB31)/(1-B31) -> 0.80922519 | AD31: =SUMPRODUCT(AB$28:AB31,$B$28:$B31)/SUM($B$28:$B31) -> 1.5286211 | AE31: =SUMPRODUCT(H30:L30,$B$18:$F$18) -> 1.0021649 | AF31: =SUMPRODUCT($B$14:$F$14,$B$18:$F$18) -> 3.13 | AG31: =AH30/(AE31+(1-AF31)*B31) -> 0.52780397 | AH31: =(AH30-B31*AG31)/(1-B31) -> 0.51724789 | AI31: =SUMPRODUCT(AG$28:AG31,$B$28:$B31)/SUM($B$28:$B31) -> 0.5111899 | AJ31: =AD31/AI31/0.254*0.17 -> 2.0013949 | AK31: =SUMPRODUCT($O$28:O31,$B$28:B31)/SUMPRODUCT($B$28:B31) -> 0.017757925
A32: 0.05 | B32: =$A$28/(1-A31) -> 0.010416667 | C32: =H31-$B$14*B32 -> 0.91145833 | D32: =I31-B32*$C$14 -> 0.078125 | E32: =J31-B32*$D$14 -> 0 | F32: =K31-B32*$E$14 -> 0 | G32: =L31-B32*$F$14 -> 0 | H32: =C32/SUM(C32:G32) -> 0.92105263 | I32: =D32/SUM(C32:G32) -> 0.078947368 | J32: =E32/SUM(C32:G32) -> 0 | K32: =F32/SUM(C32:G32) -> 0 | L32: =G32/SUM(C32:G32) -> 0 | M32: =SUMPRODUCT($B$16:$F$16,H32:L32) -> 2.2639474 | N32: =SUMPRODUCT($B$14:$F$14,$B$16:$F$16) -> 1.645 | O32: =P31/(M32+(1-N32)*B32) -> 0.01787559 | P32: =(P31-O32*B32)/(1-B32) -> 0.040585859 | Q32: =O32*$B$16 -> 0.042543905 | R32: =O32*$C$16 -> 0.016266787 | S32: =O32*$D$16 -> 0 | T32: =O32*$E$16 -> 0 | U32: =O32*$F$16 -> 0 | V32: =H$21-SUMPRODUCT(Q32:U32,H32:L32,$B$20:$F$20)/SUMPRODUCT(Q32:U32,H32:L32) -> -0.026609389 | W32: =(X31*P31+P32*V32*(1-B32))/(B32*O32+P32*(1-B32)) -> 0.38400608 | X32: =W32-V32 -> 0.41061547 | Y32: =SUMPRODUCT($W$28:W32,$O$28:O32)/SUM($O$28:O32) -> 0.38330833 | Z32: =SUMPRODUCT(H31:L31,$B$17:$F$17) -> 0.52833333 | AA32: =SUMPRODUCT($B$14:$C$14,$B$17:$C$17) -> 1.07 | AB32: =AC31/(Z32+(1-AA32)*B32) -> 1.5337733 | AC32: =(AC31-B32*AB32)/(1-B32) -> 0.80159837 | AD32: =SUMPRODUCT(AB$28:AB32,$B$28:$B32)/SUM($B$28:$B32) -> 1.5296728 | AE32: =SUMPRODUCT(H31:L31,$B$18:$F$18) -> 0.98 | AF32: =SUMPRODUCT($B$14:$F$14,$B$18:$F$18) -> 3.13 | AG32: =AH31/(AE32+(1-AF32)*B32) -> 0.54003042 | AH32: =(AH31-B32*AG32)/(1-B32) -> 0.51700808 | AI32: =SUMPRODUCT(AG$28:AG32,$B$28:$B32)/SUM($B$28:$B32) -> 0.51707695 | AJ32: =AD32/AI32/0.254*0.17 -> 1.9799698 | AK32: =SUMPRODUCT($O$28:O32,$B$28:B32)/SUMPRODUCT($B$28:B32) -> 0.017781943
A33: 0.06 | B33: =$A$28/(1-A32) -> 0.010526316 | C33: =H32-$B$14*B33 -> 0.91578947 | D33: =I32-B33*$C$14 -> 0.073684211 | E33: =J32-B33*$D$14 -> 0 | F33: =K32-B33*$E$14 -> 0 | G33: =L32-B33*$F$14 -> 0 | H33: =C33/SUM(C33:G33) -> 0.92553191 | I33: =D33/SUM(C33:G33) -> 0.074468085 | J33: =E33/SUM(C33:G33) -> 0 | K33: =F33/SUM(C33:G33) -> 0 | L33: =G33/SUM(C33:G33) -> 0 | M33: =SUMPRODUCT($B$16:$F$16,H33:L33) -> 2.2705319 | N33: =SUMPRODUCT($B$14:$F$14,$B$16:$F$16) -> 1.645 | O33: =P32/(M33+(1-N33)*B33) -> 0.017928656 | P33: =(P32-O33*B33)/(1-B33) -> 0.040826893 | Q33: =O33*$B$16 -> 0.042670201 | R33: =O33*$C$16 -> 0.016315077 | S33: =O33*$D$16 -> 0 | T33: =O33*$E$16 -> 0 | U33: =O33*$F$16 -> 0 | V33: =H$21-SUMPRODUCT(Q33:U33,H33:L33,$B$20:$F$20)/SUMPRODUCT(Q33:U33,H33:L33) -> -0.026375629 | W33: =(X32*P32+P33*V33*(1-B33))/(B33*O33+P33*(1-B33)) -> 0.38436248 | X33: =W33-V33 -> 0.41073811 | Y33: =SUMPRODUCT($W$28:W33,$O$28:O33)/SUM($O$28:O33) -> 0.38348524 | Z33: =SUMPRODUCT(H32:L32,$B$17:$F$17) -> 0.52263158 | AA33: =SUMPRODUCT($B$14:$C$14,$B$17:$C$17) -> 1.07 | AB33: =AC32/(Z33+(1-AA33)*B33) -> 1.5359388 | AC33: =(AC32-B33*AB33)/(1-B33) -> 0.79378624 | AD33: =SUMPRODUCT(AB$28:AB33,$B$28:$B33)/SUM($B$28:$B33) -> 1.5307443 | AE33: =SUMPRODUCT(H32:L32,$B$18:$F$18) -> 0.95736842 | AF33: =SUMPRODUCT($B$14:$F$14,$B$18:$F$18) -> 3.13 | AG33: =AH32/(AE33+(1-AF33)*B33) -> 0.55298094 | AH33: =(AH32-B33*AG33)/(1-B33) -> 0.51662539 | AI33: =SUMPRODUCT(AG$28:AG33,$B$28:$B33)/SUM($B$28:$B33) -> 0.52321654 | AJ33: =AD33/AI33/0.254*0.17 -> 1.9581069 | AK33: =SUMPRODUCT($O$28:O33,$B$28:B33)/SUMPRODUCT($B$28:B33) -> 0.017807031
A34: 0.07 | B34: =$A$28/(1-A33) -> 0.010638298 | C34: =H33-$B$14*B34 -> 0.92021277 | D34: =I33-B34*$C$14 -> 0.069148936 | E34: =J33-B34*$D$14 -> 0 | F34: =K33-B34*$E$14 -> 0 | G34: =L33-B34*$F$14 -> 0 | H34: =C34/SUM(C34:G34) -> 0.93010753 | I34: =D34/SUM(C34:G34) -> 0.069892473 | J34: =E34/SUM(C34:G34) -> 0 | K34: =F34/SUM(C34:G34) -> 0 | L34: =G34/SUM(C34:G34) -> 0 | M34: =SUMPRODUCT($B$16:$F$16,H34:L34) -> 2.2772581 | N34: =SUMPRODUCT($B$14:$F$14,$B$16:$F$16) -> 1.645 | O34: =P33/(M34+(1-N34)*B34) -> 0.017982276 | P34: =(P33-O34*B34)/(1-B34) -> 0.041072534 | Q34: =O34*$B$16 -> 0.042797816 | R34: =O34*$C$16 -> 0.016363871 | S34: =O34*$D$16 -> 0 | T34: =O34*$E$16 -> 0 | U34: =O34*$F$16 -> 0 | V34: =H$21-SUMPRODUCT(Q34:U34,H34:L34,$B$20:$F$20)/SUMPRODUCT(Q34:U34,H34:L34) -> -0.026138238 | W34: =(X33*P33+P34*V34*(1-B34))/(B34*O34+P34*(1-B34)) -> 0.38472235 | X34: =W34-V34 -> 0.41086059 | Y34: =SUMPRODUCT($W$28:W34,$O$28:O34)/SUM($O$28:O34) -> 0.38366347 | Z34: =SUMPRODUCT(H33:L33,$B$17:$F$17) -> 0.51680851 | AA34: =SUMPRODUCT($B$14:$C$14,$B$17:$C$17) -> 1.07 | AB34: =AC33/(Z34+(1-AA34)*B34) -> 1.5381551 | AC34: =(AC33-B34*AB34)/(1-B34) -> 0.78578227 | AD34: =SUMPRODUCT(AB$28:AB34,$B$28:$B34)/SUM($B$28:$B34) -> 1.5318363 | AE34: =SUMPRODUCT(H33:L33,$B$18:$F$18) -> 0.93425532 | AF34: =SUMPRODUCT($B$14:$F$14,$B$18:$F$18) -> 3.13 | AG34: =AH33/(AE34+(1-AF34)*B34) -> 0.56672641 | AH34: =(AH33-B34*AG34)/(1-B34) -> 0.51608666 | AI34: =SUMPRODUCT(AG$28:AG34,$B$28:$B34)/SUM($B$28:$B34) -> 0.52962788 | AJ34: =AD34/AI34/0.254*0.17 -> 1.9357832 | AK34: =SUMPRODUCT($O$28:O34,$B$28:B34)/SUMPRODUCT($B$28:B34) -> 0.017832854
A35: 0.08 | B35: =$A$28/(1-A34) -> 0.010752688 | C35: =H34-$B$14*B35 -> 0.92473118 | D35: =I34-B35*$C$14 -> 0.064516129 | E35: =J34-B35*$D$14 -> 0 | F35: =K34-B35*$E$14 -> 0 | G35: =L34-B35*$F$14 -> 0 | H35: =C35/SUM(C35:G35) -> 0.93478261 | I35: =D35/SUM(C35:G35) -> 0.065217391 | J35: =E35/SUM(C35:G35) -> 0 | K35: =F35/SUM(C35:G35) -> 0 | L35: =G35/SUM(C35:G35) -> 0 | M35: =SUMPRODUCT($B$16:$F$16,H35:L35) -> 2.2841304 | N35: =SUMPRODUCT($B$14:$F$14,$B$16:$F$16) -> 1.645 | O35: =P34/(M35+(1-N35)*B35) -> 0.018036459 | P35: =(P34-O35*B35)/(1-B35) -> 0.041322926 | Q35: =O35*$B$16 -> 0.042926773 | R35: =O35*$C$16 -> 0.016413178 | S35: =O35*$D$16 -> 0 | T35: =O35*$E$16 -> 0 | U35: =O35*$F$16 -> 0 | V35: =H$21-SUMPRODUCT(Q35:U35,H35:L35,$B$20:$F$20)/SUMPRODUCT(Q35:U35,H35:L35) -> -0.02589713 | W35: =(X34*P34+P35*V35*(1-B35))/(B35*O35+P35*(1-B35)) -> 0.38508574 | X35: =W35-V35 -> 0.41098287 | Y35: =SUMPRODUCT($W$28:W35,$O$28:O35)/SUM($O$28:O35) -> 0.38384304 | Z35: =SUMPRODUCT(H34:L34,$B$17:$F$17) -> 0.51086022 | AA35: =SUMPRODUCT($B$14:$C$14,$B$17:$C$17) -> 1.07 | AB35: =AC34/(Z35+(1-AA35)*B35) -> 1.5404248 | AC35: =(AC34-B35*AB35)/(1-B35) -> 0.77757963 | AD35: =SUMPRODUCT(AB$28:AB35,$B$28:$B35)/SUM($B$28:$B35) -> 1.5329496 | AE35: =SUMPRODUCT(H34:L34,$B$18:$F$18) -> 0.91064516 | AF35: =SUMPRODUCT($B$14:$F$14,$B$18:$F$18) -> 3.13 | AG35: =AH34/(AE35+(1-AF35)*B35) -> 0.58134762 | AH35: =(AH34-B35*AG35)/(1-B35) -> 0.51537731 | AI35: =SUMPRODUCT(AG$28:AG35,$B$28:$B35)/SUM($B$28:$B35) -> 0.53633237 | AJ35: =AD35/AI35/0.254*0.17 -> 1.9129741 | AK35: =SUMPRODUCT($O$28:O35,$B$28:B35)/SUMPRODUCT($B$28:B35) -> 0.017859248
A36: 0.09 | B36: =$A$28/(1-A35) -> 0.010869565 | C36: =H35-$B$14*B36 -> 0.92934783 | D36: =I35-B36*$C$14 -> 0.059782609 | E36: =J35-B36*$D$14 -> 0 | F36: =K35-B36*$E$14 -> 0 | G36: =L35-B36*$F$14 -> 0 | H36: =C36/SUM(C36:G36) -> 0.93956044 | I36: =D36/SUM(C36:G36) -> 0.06043956 | J36: =E36/SUM(C36:G36) -> 0 | K36: =F36/SUM(C36:G36) -> 0 | L36: =G36/SUM(C36:G36) -> 0 | M36: =SUMPRODUCT($B$16:$F$16,H36:L36) -> 2.2911538 | N36: =SUMPRODUCT($B$14:$F$14,$B$16:$F$16) -> 1.645 | O36: =P35/(M36+(1-N36)*B36) -> 0.018091217 | P36: =(P35-O36*B36)/(1-B36) -> 0.04157822 | Q36: =O36*$B$16 -> 0.043057096 | R36: =O36*$C$16 -> 0.016463007 | S36: =O36*$D$16 -> 0 | T36: =O36*$E$16 -> 0 | U36: =O36*$F$16 -> 0 | V36: =H$21-SUMPRODUCT(Q36:U36,H36:L36,$B$20:$F$20)/SUMPRODUCT(Q36:U36,H36:L36) -> -0.025652218 | W36: =(X35*P35+P36*V36*(1-B36))/(B36*O36+P36*(1-B36)) -> 0.38545273 | X36: =W36-V36 -> 0.41110494 | Y36: =SUMPRODUCT($W$28:W36,$O$28:O36)/SUM($O$28:O36) -> 0.38402398 | Z36: =SUMPRODUCT(H35:L35,$B$17:$F$17) -> 0.50478261 | AA36: =SUMPRODUCT($B$14:$C$14,$B$17:$C$17) -> 1.07 | AB36: =AC35/(Z36+(1-AA36)*B36) -> 1.5427502 | AC36: =(AC35-B36*AB36)/(1-B36) -> 0.76917117 | AD36: =SUMPRODUCT(AB$28:AB36,$B$28:$B36)/SUM($B$28:$B36) -> 1.5340851 | AE36: =SUMPRODUCT(H35:L35,$B$18:$F$18) -> 0.88652174 | AF36: =SUMPRODUCT($B$14:$F$14,$B$18:$F$18) -> 3.13 | AG36: =AH35/(AE36+(1-AF36)*B36) -> 0.59693708 | AH36: =(AH35-B36*AG36)/(1-B36) -> 0.51448105 | AI36: =SUMPRODUCT(AG$28:AG36,$B$28:$B36)/SUM($B$28:$B36) -> 0.54335392 | AJ36: =AD36/AI36/0.254*0.17 -> 1.8896521 | AK36: =SUMPRODUCT($O$28:O36,$B$28:B36)/SUMPRODUCT($B$28:B36) -> 0.017886123
A37: 0.1 | B37: =$A$28/(1-A36) -> 0.010989011 | C37: =H36-$B$14*B37 -> 0.93406593 | D37: =I36-B37*$C$14 -> 0.054945055 | E37: =J36-B37*$D$14 -> 0 | F37: =K36-B37*$E$14 -> 0 | G37: =L36-B37*$F$14 -> 0 | H37: =C37/SUM(C37:G37) -> 0.94444444 | I37: =D37/SUM(C37:G37) -> 0.055555556 | J37: =E37/SUM(C37:G37) -> 0 | K37: =F37/SUM(C37:G37) -> 0 | L37: =G37/SUM(C37:G37) -> 0 | M37: =SUMPRODUCT($B$16:$F$16,H37:L37) -> 2.2983333 | N37: =SUMPRODUCT($B$14:$F$14,$B$16:$F$16) -> 1.645 | O37: =P36/(M37+(1-N37)*B37) -> 0.018146559 | P37: =(P36-O37*B37)/(1-B37) -> 0.041838571 | Q37: =O37*$B$16 -> 0.04318881 | R37: =O37*$C$16 -> 0.016513368 | S37: =O37*$D$16 -> 0 | T37: =O37*$E$16 -> 0 | U37: =O37*$F$16 -> 0 | V37: =H$21-SUMPRODUCT(Q37:U37,H37:L37,$B$20:$F$20)/SUMPRODUCT(Q37:U37,H37:L37) -> -0.025403411 | W37: =(X36*P36+P37*V37*(1-B37))/(B37*O37+P37*(1-B37)) -> 0.38582337 | X37: =W37-V37 -> 0.41122678 | Y37: =SUMPRODUCT($W$28:W37,$O$28:O37)/SUM($O$28:O37) -> 0.38420631 | Z37: =SUMPRODUCT(H36:L36,$B$17:$F$17) -> 0.49857143 | AA37: =SUMPRODUCT($B$14:$C$14,$B$17:$C$17) -> 1.07 | AB37: =AC36/(Z37+(1-AA37)*B37) -> 1.5451341 | AC37: =(AC36-B37*AB37)/(1-B37) -> 0.76054936 | AD37: =SUMPRODUCT(AB$28:AB37,$B$28:$B37)/SUM($B$28:$B37) -> 1.5352436 | AE37: =SUMPRODUCT(H36:L36,$B$18:$F$18) -> 0.86186813 | AF37: =SUMPRODUCT($B$14:$F$14,$B$18:$F$18) -> 3.13 | AG37: =AH36/(AE37+(1-AF37)*B37) -> 0.61360125 | AH37: =(AH36-B37*AG37)/(1-B37) -> 0.51337971 | AI37: =SUMPRODUCT(AG$28:AG37,$B$28:$B37)/SUM($B$28:$B37) -> 0.55071935 | AJ37: =AD37/AI37/0.254*0.17 -> 1.8657874 | AK37: =SUMPRODUCT($O$28:O37,$B$28:B37)/SUMPRODUCT($B$28:B37) -> 0.01791343
A38: 0.11 | B38: =$A$28/(1-A37) -> 0.011111111 | C38: =H37-$B$14*B38 -> 0.93888889 | D38: =I37-B38*$C$14 -> 0.05 | E38: =J37-B38*$D$14 -> 0 | F38: =K37-B38*$E$14 -> 0 | G38: =L37-B38*$F$14 -> 0 | H38: =C38/SUM(C38:G38) -> 0.9494382 | I38: =D38/SUM(C38:G38) -> 0.050561798 | J38: =E38/SUM(C38:G38) -> 0 | K38: =F38/SUM(C38:G38) -> 0 | L38: =G38/SUM(C38:G38) -> 0 | M38: =SUMPRODUCT($B$16:$F$16,H38:L38) -> 2.3056742 | N38: =SUMPRODUCT($B$14:$F$14,$B$16:$F$16) -> 1.645 | O38: =P37/(M38+(1-N38)*B38) -> 0.018202495 | P38: =(P37-O38*B38)/(1-B38) -> 0.042104145 | Q38: =O38*$B$16 -> 0.043321938 | R38: =O38*$C$16 -> 0.016564271 | S38: =O38*$D$16 -> 0 | T38: =O38*$E$16 -> 0 | U38: =O38*$F$16 -> 0 | V38: =H$21-SUMPRODUCT(Q38:U38,H38:L38,$B$20:$F$20)/SUMPRODUCT(Q38:U38,H38:L38) -> -0.025150614 | W38: =(X37*P37+P38*V38*(1-B38))/(B38*O38+P38*(1-B38)) -> 0.38619775 | X38: =W38-V38 -> 0.41134836 | Y38: =SUMPRODUCT($W$28:W38,$O$28:O38)/SUM($O$28:O38) -> 0.38439004 | Z38: =SUMPRODUCT(H37:L37,$B$17:$F$17) -> 0.49222222 | AA38: =SUMPRODUCT($B$14:$C$14,$B$17:$C$17) -> 1.07 | AB38: =AC37/(Z38+(1-AA38)*B38) -> 1.5475795 | AC38: =(AC37-B38*AB38)/(1-B38) -> 0.75170632 | AD38: =SUMPRODUCT(AB$28:AB38,$B$28:$B38)/SUM($B$28:$B38) -> 1.536426 | AE38: =SUMPRODUCT(H37:L37,$B$18:$F$18) -> 0.83666667 | AF38: =SUMPRODUCT($B$14:$F$14,$B$18:$F$18) -> 3.13 | AG38: =AH37/(AE38+(1-AF38)*B38) -> 0.63146336 | AH38: =(AH37-B38*AG38)/(1-B38) -> 0.51205293 | AI38: =SUMPRODUCT(AG$28:AG38,$B$28:$B38)/SUM($B$28:$B38) -> 0.55845892 | AJ38: =AD38/AI38/0.254*0.17 -> 1.841347 | AK38: =SUMPRODUCT($O$28:O38,$B$28:B38)/SUMPRODUCT($B$28:B38) -> 0.017941138
A39: 0.12 | B39: =$A$28/(1-A38) -> 0.011235955 | C39: =H38-$B$14*B39 -> 0.94382022 | D39: =I38-B39*$C$14 -> 0.04494382 | E39: =J38-B39*$D$14 -> 0 | F39: =K38-B39*$E$14 -> 0 | G39: =L38-B39*$F$14 -> 0 | H39: =C39/SUM(C39:G39) -> 0.95454545 | I39: =D39/SUM(C39:G39) -> 0.045454545 | J39: =E39/SUM(C39:G39) -> 0 | K39: =F39/SUM(C39:G39) -> 0 | L39: =G39/SUM(C39:G39) -> 0 | M39: =SUMPRODUCT($B$16:$F$16,H39:L39) -> 2.3131818 | N39: =SUMPRODUCT($B$14:$F$14,$B$16:$F$16) -> 1.645 | O39: =P38/(M39+(1-N39)*B39) -> 0.018259037 | P39: =(P38-O39*B39)/(1-B39) -> 0.042375113 | Q39: =O39*$B$16 -> 0.043456508 | R39: =O39*$C$16 -> 0.016615724 | S39: =O39*$D$16 -> 0 | T39: =O39*$E$16 -> 0 | U39: =O39*$F$16 -> 0 | V39: =H$21-SUMPRODUCT(Q39:U39,H39:L39,$B$20:$F$20)/SUMPRODUCT(Q39:U39,H39:L39) -> -0.024893731 | W39: =(X38*P38+P39*V39*(1-B39))/(B39*O39+P39*(1-B39)) -> 0.38657593 | X39: =W39-V39 -> 0.41146966 | Y39: =SUMPRODUCT($W$28:W39,$O$28:O39)/SUM($O$28:O39) -> 0.3845752 | Z39: =SUMPRODUCT(H38:L38,$B$17:$F$17) -> 0.48573034 | AA39: =SUMPRODUCT($B$14:$C$14,$B$17:$C$17) -> 1.07 | AB39: =AC38/(Z39+(1-AA39)*B39) -> 1.5500895 | AC39: =(AC38-B39*AB39)/(1-B39) -> 0.74263378 | AD39: =SUMPRODUCT(AB$28:AB39,$B$28:$B39)/SUM($B$28:$B39) -> 1.5376334 | AE39: =SUMPRODUCT(H38:L38,$B$18:$F$18) -> 0.81089888 | AF39: =SUMPRODUCT($B$14:$F$14,$B$18:$F$18) -> 3.13 | AG39: =AH38/(AE39+(1-AF39)*B39) -> 0.65066691 | AH39: =(AH38-B39*AG39)/(1-B39) -> 0.51047777 | AI39: =SUMPRODUCT(AG$28:AG39,$B$28:$B39)/SUM($B$28:$B39) -> 0.56660688 | AJ39: =AD39/AI39/0.254*0.17 -> 1.8162941 | AK39: =SUMPRODUCT($O$28:O39,$B$28:B39)/SUMPRODUCT($B$28:B39) -> 0.017969229
A40: 0.13 | B40: =$A$28/(1-A39) -> 0.011363636 | C40: =H39-$B$14*B40 -> 0.94886364 | D40: =I39-B40*$C$14 -> 0.039772727 | E40: =J39-B40*$D$14 -> 0 | F40: =K39-B40*$E$14 -> 0 | G40: =L39-B40*$F$14 -> 0 | H40: =C40/SUM(C40:G40) -> 0.95977011 | I40: =D40/SUM(C40:G40) -> 0.040229885 | J40: =E40/SUM(C40:G40) -> 0 | K40: =F40/SUM(C40:G40) -> 0 | L40: =G40/SUM(C40:G40) -> 0 | M40: =SUMPRODUCT($B$16:$F$16,H40:L40) -> 2.3208621 | N40: =SUMPRODUCT($B$14:$F$14,$B$16:$F$16) -> 1.645 | O40: =P39/(M40+(1-N40)*B40) -> 0.018316195 | P40: =(P39-O40*B40)/(1-B40) -> 0.042651652 | Q40: =O40*$B$16 -> 0.043592544 | R40: =O40*$C$16 -> 0.016667737 | S40: =O40*$D$16 -> 0 | T40: =O40*$E$16 -> 0 | U40: =O40*$F$16 -> 0 | V40: =H$21-SUMPRODUCT(Q40:U40,H40:L40,$B$20:$F$20)/SUMPRODUCT(Q40:U40,H40:L40) -> -0.024632663 | W40: =(X39*P39+P40*V40*(1-B40))/(B40*O40+P40*(1-B40)) -> 0.38695799 | X40: =W40-V40 -> 0.41159065 | Y40: =SUMPRODUCT($W$28:W40,$O$28:O40)/SUM($O$28:O40) -> 0.38476182 | Z40: =SUMPRODUCT(H39:L39,$B$17:$F$17) -> 0.47909091 | AA40: =SUMPRODUCT($B$14:$C$14,$B$17:$C$17) -> 1.07 | AB40: =AC39/(Z40+(1-AA40)*B40) -> 1.5526675 | AC40: =(AC39-B40*AB40)/(1-B40) -> 0.73332305 | AD40: =SUMPRODUCT(AB$28:AB40,$B$28:$B40)/SUM($B$28:$B40) -> 1.5388668 | AE40: =SUMPRODUCT(H39:L39,$B$18:$F$18) -> 0.78454545 | AF40: =SUMPRODUCT($B$14:$F$14,$B$18:$F$18) -> 3.13 | AG40: =AH39/(AE40+(1-AF40)*B40) -> 0.67138012 | AH40: =(AH39-B40*AG40)/(1-B40) -> 0.50862832 | AI40: =SUMPRODUCT(AG$28:AG40,$B$28:$B40)/SUM($B$28:$B40) -> 0.57520221 | AJ40: =AD40/AI40/0.254*0.17 -> 1.790588 | AK40: =SUMPRODUCT($O$28:O40,$B$28:B40)/SUMPRODUCT($B$28:B40) -> 0.017997693
... A47: 0.2 | B47: =$A$28/(1-A46) -> 0.012345679 | C47: =H46-$B$14*B47 -> 0.98765432 | D47: =I46-B47*$C$14 -> 2.7755576e-17 | E47: =J46-B47*$D$14 -> 0 | F47: =K46-B47*$E$14 -> 0 | G47: =L46-B47*$F$14 -> 0 | H47: =C47/SUM(C47:G47) -> 1 | I47: =D47/SUM(C47:G47) -> 2.810252e-17 | J47: =E47/SUM(C47:G47) -> 0 | K47: =F47/SUM(C47:G47) -> 0 | L47: =G47/SUM(C47:G47) -> 0 | M47: =SUMPRODUCT($B$16:$F$16,H47:L47) -> 2.38 | N47: =SUMPRODUCT($B$14:$F$14,$B$16:$F$16) -> 1.645 | O47: =P46/(M47+(1-N47)*B47) -> 0.018734537 | P47: =(P46-O47*B47)/(1-B47) -> 0.044760321 | Q47: =O47*$B$16 -> 0.044588198 | R47: =O47*$C$16 -> 0.017048429 | S47: =O47*$D$16 -> 0 | T47: =O47*$E$16 -> 0 | U47: =O47*$F$16 -> 0 | V47: =H$21-SUMPRODUCT(Q47:U47,H47:L47,$B$20:$F$20)/SUMPRODUCT(Q47:U47,H47:L47) -> -0.022678876 | W47: =(X46*P46+P47*V47*(1-B47))/(B47*O47+P47*(1-B47)) -> 0.38974775 | X47: =W47-V47 -> 0.41242663 | Y47: =SUMPRODUCT($W$28:W47,$O$28:O47)/SUM($O$28:O47) -> 0.3861109 | Z47: =SUMPRODUCT(H46:L46,$B$17:$F$17) -> 0.42802469 | AA47: =SUMPRODUCT($B$14:$C$14,$B$17:$C$17) -> 1.07 | AB47: =AC46/(Z47+(1-AA47)*B47) -> 1.5729669 | AC47: =(AC46-B47*AB47)/(1-B47) -> 0.66064609 | AD47: =SUMPRODUCT(AB$28:AB47,$B$28:$B47)/SUM($B$28:$B47) -> 1.5483323 | AE47: =SUMPRODUCT(H46:L46,$B$18:$F$18) -> 0.58185185 | AF47: =SUMPRODUCT($B$14:$F$14,$B$18:$F$18) -> 3.13 | AG47: =AH46/(AE47+(1-AF47)*B47) -> 0.88160351 | AH47: =(AH46-B47*AG47)/(1-B47) -> 0.48488193 | AI47: =SUMPRODUCT(AG$28:AG47,$B$28:$B47)/SUM($B$28:$B47) -> 0.65272142 | AJ47: =AD47/AI47/0.254*0.17 -> 1.5876381 | AK47: =SUMPRODUCT($O$28:O47,$B$28:B47)/SUMPRODUCT($B$28:B47) -> 0.01820727
A48: 0.21 | B48: =$A$28/(1-A47) -> 0.0125 | C48: =H47-$B$14*B48 -> 0.99375 | D48: 0 | E48: =J47-B48*$D$14 -> 0 | F48: =K47-B48*$E$14 -> 0 | G48: =L47-B48*$F$14 -> 0 | H48: =C48/SUM(C48:G48) -> 1 | I48: =D48/SUM(C48:G48) -> 0 | J48: =E48/SUM(C48:G48) -> 0 | K48: =F48/SUM(C48:G48) -> 0 | L48: =G48/SUM(C48:G48) -> 0 | M48: =SUMPRODUCT($B$16:$F$16,H48:L48) -> 2.38 | N48: =SUMPRODUCT($B$14:$F$14,$B$16:$F$16) -> 1.645 | O48: =P47/(M48+(1-N48)*B48) -> 0.018870785 | P48: =(P47-O48*B48)/(1-B48) -> 0.045088037 | Q48: =O48*$B$16 -> 0.044912467 | R48: =O48*$C$16 -> 0.017172414 | S48: =O48*$D$16 -> 0 | T48: =O48*$E$16 -> 0 | U48: =O48*$F$16 -> 0 | V48: =H$21-SUMPRODUCT(Q48:U48,H48:L48,$B$20:$F$20)/SUMPRODUCT(Q48:U48,H48:L48) -> -0.022678876 | W48: =(X47*P47+P48*V48*(1-B48))/(B48*O48+P48*(1-B48)) -> 0.38986727 | X48: =W48-V48 -> 0.41254614 | Y48: =SUMPRODUCT($W$28:W48,$O$28:O48)/SUM($O$28:O48) -> 0.38629617 | Z48: =SUMPRODUCT(H47:L47,$B$17:$F$17) -> 0.42 | AA48: =SUMPRODUCT($B$14:$C$14,$B$17:$C$17) -> 1.07 | AB48: =AC47/(Z48+(1-AA48)*B48) -> 1.5762507 | AC48: =(AC47-B48*AB48)/(1-B48) -> 0.64905616 | AD48: =SUMPRODUCT(AB$28:AB48,$B$28:$B48)/SUM($B$28:$B48) -> 1.5498211 | AE48: =SUMPRODUCT(H47:L47,$B$18:$F$18) -> 0.55 | AF48: =SUMPRODUCT($B$14:$F$14,$B$18:$F$18) -> 3.13 | AG48: =AH47/(AE48+(1-AF48)*B48) -> 0.92645222 | AH48: =(AH47-B48*AG48)/(1-B48) -> 0.47929243 | AI48: =SUMPRODUCT(AG$28:AG48,$B$28:$B48)/SUM($B$28:$B48) -> 0.66731895 | AJ48: =AD48/AI48/0.254*0.17 -> 1.5544019 | AK48: =SUMPRODUCT($O$28:O48,$B$28:B48)/SUMPRODUCT($B$28:B48) -> 0.018242654
A49: Parameters sources: a. Sobolev et al. (2005); b. Delavault et al. (2015); c. Table S-8; d. Yaxley and Green (1998); e. Pertermann et al. (2004); f. Antonelli et al. (2019); g. Zhang et al. (2018).
A50: h. The subscript N denotes normalisation of residual phases to 100%.
A52: References
A53: Antonelli, M.A., Schiller, M., Schauble, E.A., Mittal, T., DePaolo, D.J., Chacko, T., Grew, E.S., Tripoli, B. (2019) Kinetic and equilibrium Ca isotope effects in high-T rocks and minerals. Earth and Planetary Science Letters 517, 71–82.
A54: Delavault, H., Chauvel, C., Sobolev, A., Batanova, V. (2015) Combined petrological, geochemical and isotopic modeling of a plume source: Example of Gambier Island, Pitcairn chain. Earth and Planetary Science Letters 426, 23–35.
A55: Pertermann, M., Hirschmann, M.M., Hametner, K., Günther, D., Schmidt, M.W. (2004) Experimental determination of trace element partitioning between garnet and silica‐rich liquid during anhydrous partial melting of MORB‐like eclogite. Geochemistry, Geophysics, Geosystems 5, 2003GC000638.
A56: Sobolev, A.V., Hofmann, A.W., Sobolev, S.V., Nikogosian, I.K. (2005) An olivine-free mantle source of Hawaiian shield basalts. Nature 434, 590–597.
A57: Yaxley, G.M., Green, D.H. (1998) Reactions between eclogite and peridotite: Mantle refertilisation by subduction of oceanic crust. Schweizerische mineralogische und petrographische Mitteilungen 78, 243–255.
A58: Zhang, H., Wang, Y., He, Y., Teng, F., Jacobsen, S.B., Helz, R.T., Marsh, B.D., Huang, S. (2018) No Measurable Calcium Isotopic Fractionation During Crystallization of Kilauea Iki Lava Lake. Geochemistry, Geophysics, Geosystems 19, 3128–3139.
A61: Wang et al. (2026) Geochem. Persp. Let. 39, 54-59 | https://doi.org/10.7185/geochemlet.2613
A62: © 2026 The Authors
A63: Published by the European Association of Geochemistry under Creative Commons License CC-BY-NC-ND.

Sheet Table S-10
A8: Table S-10 Calcium isotopic compositions of melt from secondary pyroxenite 2.
A11: Input parameters for the melting model of secondary pyroxenite 2 used in this study
B12: Cpx | C12: Grt | D12: Opx | E12: Ol | F12: Spl | G12: Sum | H12: Liquid
A13: Initial modea | B13: 0.739 | C13: 0.243 | G13: =SUM(B13:F13) -> 0.982
A14: Melting modeb | B14: 0.5 | C14: 0.5 | G14: =SUM(B14:F14) -> 1
A15: CaOc | B15: =B16*G15/SUMPRODUCT(B16:C16,B13:C13) -> 0.090101141 | C15: =C16*G15/SUMPRODUCT(B16:C16,B13:C13) -> 0.034450436 | G15: ='Table S-8'!B19 -> 0.074956199
A16: DCad | B16: 2.38 | C16: 0.91 | G16: =SUMPRODUCT(B13:F13,B16:F16) -> 1.97995
A17: DDye | B17: 0.42 | C17: 1.72 | D17: 0.065 | E17: 0.0027 | F17: 0
A18: DYbe | B18: 0.55 | C18: 5.71 | D18: 0.08 | E18: 0.02 | F18: 0
A19: 1000lnβ at 1000 Kf, g | B19: 1.32 | C19: 2.03 | D19: 1.85 | E19: 2.08 | F19: - | H19: 1.19
A20: Δ44/42Camineral–cpx at 1673 Kf | B20: =(1.32-1.32)/2.048/(1673/1000)^2 -> 0 | C20: =(2.03-1.32)/2.048/(1673/1000)^2 -> 0.12386155 | D20: =(1.85-1.32)/2.048/(1673/1000)^2 -> 0.092460031 | E20: =(2.08-1.32)/2.048/(1673/1000)^2 -> 0.1325842 | F20: 0
A21: Δ44/42Camelt–cpx at 1673 Kf, g | H21: =(1.19-1.32)/2.048/(1673/1000)^2 -> -0.022678876
A22: Initial Dyc | G22: 2.319
A23: Initial Ybc | G23: 1.201
A24: Initial δ44/42Cac | G24: 0.34
A26: Results of pyroxenite melting calculations using the non-modal batch melting model.
A27: F | B27: f | C27: cpxresidue | D27: grtresidue | E27: opxresidue | F27: olresidue | G27: splresidue | H27: (cpxresidue)Nh | I27: (grtresidue)N | J27: (opxresidue)N | K27: (olresidue)N | L27: (splresidue)N | M27: DCa | N27: PCa | O27: CaOinstant melt | P27: CaOresidue | Q27: CaOcpx residue | R27: CaOgrt residue | S27: CaOopx residue | T27: CaOol residue | U27: CaOsp residue | V27: Δ44/42Camelt-residue | W27: δ44/42Cainstant melt | X27: δ44/42Caresidue | Y27: δ44/42Caaggregate melt | Z27: DDy | AA27: PDy | AB27: Dyinstant melt | AC27: DyResidue | AD27: Dyaggregate melt | AE27: DYb | AF27: PYb | AG27: Ybinstant melt | AH27: Ybresidue | AI27: Ybaggregate melt | AJ27: (Dy/Yb)N aggregate melt | AK27: CaOaggregate melt
A28: 0.01 | B28: =A28 -> 0.01 | C28: =$B$13-A28*$B$14 -> 0.734 | D28: =$C$13-A28*$C$14 -> 0.238 | E28: =$D$13-A28*$D$14 -> 0 | F28: =$E$13-A28*$E$14 -> 0 | G28: =$F$13-A28*$F$14 -> 0 | H28: =C28/SUM(C28:G28) -> 0.75514403 | I28: =D28/SUM(C28:G28) -> 0.24485597 | J28: =E28/SUM(C28:G28) -> 0 | K28: =F28/SUM(C28:G28) -> 0 | L28: =G28/SUM(C28:G28) -> 0 | M28: =SUMPRODUCT(B13:F13,B16:F16) -> 1.97995 | N28: =SUMPRODUCT($B$14:$F$14,$B$16:$F$16) -> 1.645 | O28: =G15/(M28+(1-N28)*B28) -> 0.037981353 | P28: =(G15-O28*B28)/(1-B28) -> 0.075329683 | Q28: =O28*$B$16 -> 0.090395619 | R28: =O28*$C$16 -> 0.034563031 | S28: =O28*$D$16 -> 0 | T28: =O28*$E$16 -> 0 | U28: =O28*$F$16 -> 0 | V28: =H$21-SUMPRODUCT(Q28:U28,H28:L28,$B$20:$F$20)/SUMPRODUCT(Q28:U28,H28:L28) -> -0.03634118 | W28: =(G15*G24+P28*V28*(1-B28))/(B28*O28+P28*(1-B28)) -> 0.30384297 | X28: =W28-V28 -> 0.34018415 | Y28: =W28 -> 0.30384297 | Z28: =SUMPRODUCT(B13:F13,B17:F17) -> 0.72834 | AA28: =SUMPRODUCT($B$14:$F$14,$B$17:$F$17) -> 1.07 | AB28: =G22/(Z28+(1-AA28)*B28) -> 3.1870156 | AC28: =(G22-B28*AB28)/(1-B28) -> 2.3102322 | AD28: =AB28 -> 3.1870156 | AE28: =SUMPRODUCT(B13:F13,B18:F18) -> 1.79398 | AF28: =SUMPRODUCT($B$14:$F$14,$B$18:$F$18) -> 3.13 | AG28: =G23/(AE28+(1-AF28)*B28) -> 0.67750525 | AH28: =(G23-B28*AG28)/(1-B28) -> 1.2062878 | AI28: =AG28 -> 0.67750525 | AJ28: =AD28/AI28/0.254*0.17 -> 3.148377 | AK28: =O28 -> 0.037981353
A29: 0.02 | B29: =$A$28/(1-A28) -> 0.01010101 | C29: =H28-$B$14*B29 -> 0.75009353 | D29: =I28-B29*$C$14 -> 0.23980546 | E29: =J28-B29*$D$14 -> 0 | F29: =K28-B29*$E$14 -> 0 | G29: =L28-B29*$F$14 -> 0 | H29: =C29/SUM(C29:G29) -> 0.75774754 | I29: =D29/SUM(C29:G29) -> 0.24225246 | J29: =E29/SUM(C29:G29) -> 0 | K29: =F29/SUM(C29:G29) -> 0 | L29: =G29/SUM(C29:G29) -> 0 | M29: =SUMPRODUCT($B$16:$F$16,H29:L29) -> 2.0238889 | N29: =SUMPRODUCT($B$14:$F$14,$B$16:$F$16) -> 1.645 | O29: =P28/(M29+(1-N29)*B29) -> 0.03734047 | P29: =(P28-O29*B29)/(1-B29) -> 0.075717328 | Q29: =O29*$B$16 -> 0.088870318 | R29: =O29*$C$16 -> 0.033979827 | S29: =O29*$D$16 -> 0 | T29: =O29*$E$16 -> 0 | U29: =O29*$F$16 -> 0 | V29: =H$21-SUMPRODUCT(Q29:U29,H29:L29,$B$20:$F$20)/SUMPRODUCT(Q29:U29,H29:L29) -> -0.03617035 | W29: =(X28*P28+P29*V29*(1-B29))/(B29*O29+P29*(1-B29)) -> 0.3041949 | X29: =W29-V29 -> 0.34036525 | Y29: =SUMPRODUCT($W$28:W29,$O$28:O29)/SUM($O$28:O29) -> 0.30401744 | Z29: =SUMPRODUCT(H28:L28,$B$17:$F$17) -> 0.73831276 | AA29: =SUMPRODUCT($B$14:$C$14,$B$17:$C$17) -> 1.07 | AB29: =AC28/(Z29+(1-AA29)*B29) -> 3.1320694 | AC29: =(AC28-B29*AB29)/(1-B29) -> 2.3018461 | AD29: =SUMPRODUCT(AB$28:AB29,$B$28:$B29)/SUM($B$28:$B29) -> 3.1594044 | AE29: =SUMPRODUCT(H28:L28,$B$18:$F$18) -> 1.8134568 | AF29: =SUMPRODUCT($B$14:$F$14,$B$18:$F$18) -> 3.13 | AG29: =AH28/(AE29+(1-AF29)*B29) -> 0.67317361 | AH29: =(AH28-B29*AG29)/(1-B29) -> 1.2117278 | AI29: =SUMPRODUCT(AG$28:AG29,$B$28:$B29)/SUM($B$28:$B29) -> 0.67532855 | AJ29: =AD29/AI29/0.254*0.17 -> 3.1311604 | AK29: =SUMPRODUCT($O$28:O29,$B$28:B29)/SUMPRODUCT($B$28:B29) -> 0.037659301
A30: 0.03 | B30: =$A$28/(1-A29) -> 0.010204082 | C30: =H29-$B$14*B30 -> 0.7526455 | D30: =I29-B30*$C$14 -> 0.23715042 | E30: =J29-B30*$D$14 -> 0 | F30: =K29-B30*$E$14 -> 0 | G30: =L29-B30*$F$14 -> 0 | H30: =C30/SUM(C30:G30) -> 0.76040473 | I30: =D30/SUM(C30:G30) -> 0.23959527 | J30: =E30/SUM(C30:G30) -> 0 | K30: =F30/SUM(C30:G30) -> 0 | L30: =G30/SUM(C30:G30) -> 0 | M30: =SUMPRODUCT($B$16:$F$16,H30:L30) -> 2.027795 | N30: =SUMPRODUCT($B$14:$F$14,$B$16:$F$16) -> 1.645 | O30: =P29/(M30+(1-N30)*B30) -> 0.037461324 | P30: =(P29-O30*B30)/(1-B30) -> 0.076111719 | Q30: =O30*$B$16 -> 0.089157952 | R30: =O30*$C$16 -> 0.034089805 | S30: =O30*$D$16 -> 0 | T30: =O30*$E$16 -> 0 | U30: =O30*$F$16 -> 0 | V30: =H$21-SUMPRODUCT(Q30:U30,H30:L30,$B$20:$F$20)/SUMPRODUCT(Q30:U30,H30:L30) -> -0.035996664 | W30: =(X29*P29+P30*V30*(1-B30))/(B30*O30+P30*(1-B30)) -> 0.30455032 | X30: =W30-V30 -> 0.34054698 | Y30: =SUMPRODUCT($W$28:W30,$O$28:O30)/SUM($O$28:O30) -> 0.30419443 | Z30: =SUMPRODUCT(H29:L29,$B$17:$F$17) -> 0.73492819 | AA30: =SUMPRODUCT($B$14:$C$14,$B$17:$C$17) -> 1.07 | AB30: =AC29/(Z30+(1-AA30)*B30) -> 3.1351164 | AC30: =(AC29-B30*AB30)/(1-B30) -> 2.2932557 | AD30: =SUMPRODUCT(AB$28:AB30,$B$28:$B30)/SUM($B$28:$B30) -> 3.1512263 | AE30: =SUMPRODUCT(H29:L29,$B$18:$F$18) -> 1.8000227 | AF30: =SUMPRODUCT($B$14:$F$14,$B$18:$F$18) -> 3.13 | AG30: =AH29/(AE30+(1-AF30)*B30) -> 0.68140131 | AH30: =(AH29-B30*AG30)/(1-B30) -> 1.217195 | AI30: =SUMPRODUCT(AG$28:AG30,$B$28:$B30)/SUM($B$28:$B30) -> 0.67737332 | AJ30: =AD30/AI30/0.254*0.17 -> 3.113628 | AK30: =SUMPRODUCT($O$28:O30,$B$28:B30)/SUMPRODUCT($B$28:B30) -> 0.03759264
A31: 0.04 | B31: =$A$28/(1-A30) -> 0.010309278 | C31: =H30-$B$14*B31 -> 0.7552501 | D31: =I30-B31*$C$14 -> 0.23444063 | E31: =J30-B31*$D$14 -> 0 | F31: =K30-B31*$E$14 -> 0 | G31: =L30-B31*$F$14 -> 0 | H31: =C31/SUM(C31:G31) -> 0.76311728 | I31: =D31/SUM(C31:G31) -> 0.23688272 | J31: =E31/SUM(C31:G31) -> 0 | K31: =F31/SUM(C31:G31) -> 0 | L31: =G31/SUM(C31:G31) -> 0 | M31: =SUMPRODUCT($B$16:$F$16,H31:L31) -> 2.0317824 | N31: =SUMPRODUCT($B$14:$F$14,$B$16:$F$16) -> 1.645 | O31: =P30/(M31+(1-N31)*B31) -> 0.037583567 | P31: =(P30-O31*B31)/(1-B31) -> 0.076513054 | Q31: =O31*$B$16 -> 0.08944889 | R31: =O31*$C$16 -> 0.034201046 | S31: =O31*$D$16 -> 0 | T31: =O31*$E$16 -> 0 | U31: =O31*$F$16 -> 0 | V31: =H$21-SUMPRODUCT(Q31:U31,H31:L31,$B$20:$F$20)/SUMPRODUCT(Q31:U31,H31:L31) -> -0.035820047 | W31: =(X30*P30+P31*V31*(1-B31))/(B31*O31+P31*(1-B31)) -> 0.30490928 | X31: =W31-V31 -> 0.34072933 | Y31: =SUMPRODUCT($W$28:W31,$O$28:O31)/SUM($O$28:O31) -> 0.30437311 | Z31: =SUMPRODUCT(H30:L30,$B$17:$F$17) -> 0.73147384 | AA31: =SUMPRODUCT($B$14:$C$14,$B$17:$C$17) -> 1.07 | AB31: =AC30/(Z31+(1-AA31)*B31) -> 3.1382125 | AC31: =(AC30-B31*AB31)/(1-B31) -> 2.284454 | AD31: =SUMPRODUCT(AB$28:AB31,$B$28:$B31)/SUM($B$28:$B31) -> 3.147923 | AE31: =SUMPRODUCT(H30:L30,$B$18:$F$18) -> 1.7863116 | AF31: =SUMPRODUCT($B$14:$F$14,$B$18:$F$18) -> 3.13 | AG31: =AH30/(AE31+(1-AF31)*B31) -> 0.68988189 | AH31: =(AH30-B31*AG31)/(1-B31) -> 1.2226879 | AI31: =SUMPRODUCT(AG$28:AG31,$B$28:$B31)/SUM($B$28:$B31) -> 0.68054841 | AJ31: =AD31/AI31/0.254*0.17 -> 3.0958526 | AK31: =SUMPRODUCT($O$28:O31,$B$28:B31)/SUMPRODUCT($B$28:B31) -> 0.037590337
A32: 0.05 | B32: =$A$28/(1-A31) -> 0.010416667 | C32: =H31-$B$14*B32 -> 0.75790895 | D32: =I31-B32*$C$14 -> 0.23167438 | E32: =J31-B32*$D$14 -> 0 | F32: =K31-B32*$E$14 -> 0 | G32: =L31-B32*$F$14 -> 0 | H32: =C32/SUM(C32:G32) -> 0.76588694 | I32: =D32/SUM(C32:G32) -> 0.23411306 | J32: =E32/SUM(C32:G32) -> 0 | K32: =F32/SUM(C32:G32) -> 0 | L32: =G32/SUM(C32:G32) -> 0 | M32: =SUMPRODUCT($B$16:$F$16,H32:L32) -> 2.0358538 | N32: =SUMPRODUCT($B$14:$F$14,$B$16:$F$16) -> 1.645 | O32: =P31/(M32+(1-N32)*B32) -> 0.037707226 | P32: =(P31-O32*B32)/(1-B32) -> 0.076921537 | Q32: =O32*$B$16 -> 0.089743198 | R32: =O32*$C$16 -> 0.034313576 | S32: =O32*$D$16 -> 0 | T32: =O32*$E$16 -> 0 | U32: =O32*$F$16 -> 0 | V32: =H$21-SUMPRODUCT(Q32:U32,H32:L32,$B$20:$F$20)/SUMPRODUCT(Q32:U32,H32:L32) -> -0.035640426 | W32: =(X31*P31+P32*V32*(1-B32))/(B32*O32+P32*(1-B32)) -> 0.30527186 | X32: =W32-V32 -> 0.34091229 | Y32: =SUMPRODUCT($W$28:W32,$O$28:O32)/SUM($O$28:O32) -> 0.3045533 | Z32: =SUMPRODUCT(H31:L31,$B$17:$F$17) -> 0.72794753 | AA32: =SUMPRODUCT($B$14:$C$14,$B$17:$C$17) -> 1.07 | AB32: =AC31/(Z32+(1-AA32)*B32) -> 3.1413591 | AC32: =(AC31-B32*AB32)/(1-B32) -> 2.275434 | AD32: =SUMPRODUCT(AB$28:AB32,$B$28:$B32)/SUM($B$28:$B32) -> 3.1465831 | AE32: =SUMPRODUCT(H31:L31,$B$18:$F$18) -> 1.7723148 | AF32: =SUMPRODUCT($B$14:$F$14,$B$18:$F$18) -> 3.13 | AG32: =AH31/(AE32+(1-AF32)*B32) -> 0.69862797 | AH32: =(AH31-B32*AG32)/(1-B32) -> 1.2282043 | AI32: =SUMPRODUCT(AG$28:AG32,$B$28:$B32)/SUM($B$28:$B32) -> 0.68423888 | AJ32: =AD32/AI32/0.254*0.17 -> 3.0778444 | AK32: =SUMPRODUCT($O$28:O32,$B$28:B32)/SUMPRODUCT($B$28:B32) -> 0.037614197
A33: 0.06 | B33: =$A$28/(1-A32) -> 0.010526316 | C33: =H32-$B$14*B33 -> 0.76062378 | D33: =I32-B33*$C$14 -> 0.2288499 | E33: =J32-B33*$D$14 -> 0 | F33: =K32-B33*$E$14 -> 0 | G33: =L32-B33*$F$14 -> 0 | H33: =C33/SUM(C33:G33) -> 0.76871552 | I33: =D33/SUM(C33:G33) -> 0.23128448 | J33: =E33/SUM(C33:G33) -> 0 | K33: =F33/SUM(C33:G33) -> 0 | L33: =G33/SUM(C33:G33) -> 0 | M33: =SUMPRODUCT($B$16:$F$16,H33:L33) -> 2.0400118 | N33: =SUMPRODUCT($B$14:$F$14,$B$16:$F$16) -> 1.645 | O33: =P32/(M33+(1-N33)*B33) -> 0.037832329 | P33: =(P32-O33*B33)/(1-B33) -> 0.077337379 | Q33: =O33*$B$16 -> 0.090040943 | R33: =O33*$C$16 -> 0.034427419 | S33: =O33*$D$16 -> 0 | T33: =O33*$E$16 -> 0 | U33: =O33*$F$16 -> 0 | V33: =H$21-SUMPRODUCT(Q33:U33,H33:L33,$B$20:$F$20)/SUMPRODUCT(Q33:U33,H33:L33) -> -0.035457724 | W33: =(X32*P32+P33*V33*(1-B33))/(B33*O33+P33*(1-B33)) -> 0.30563814 | X33: =W33-V33 -> 0.34109586 | Y33: =SUMPRODUCT($W$28:W33,$O$28:O33)/SUM($O$28:O33) -> 0.30473498 | Z33: =SUMPRODUCT(H32:L32,$B$17:$F$17) -> 0.72434698 | AA33: =SUMPRODUCT($B$14:$C$14,$B$17:$C$17) -> 1.07 | AB33: =AC32/(Z33+(1-AA33)*B33) -> 3.1445579 | AC33: =(AC32-B33*AB33)/(1-B33) -> 2.266188 | AD33: =SUMPRODUCT(AB$28:AB33,$B$28:$B33)/SUM($B$28:$B33) -> 3.1462368 | AE33: =SUMPRODUCT(H32:L32,$B$18:$F$18) -> 1.7580234 | AF33: =SUMPRODUCT($B$14:$F$14,$B$18:$F$18) -> 3.13 | AG33: =AH32/(AE33+(1-AF33)*B33) -> 0.70765307 | AH33: =(AH32-B33*AG33)/(1-B33) -> 1.2337421 | AI33: =SUMPRODUCT(AG$28:AG33,$B$28:$B33)/SUM($B$28:$B33) -> 0.68824271 | AJ33: =AD33/AI33/0.254*0.17 -> 3.0596024 | AK33: =SUMPRODUCT($O$28:O33,$B$28:B33)/SUMPRODUCT($B$28:B33) -> 0.037651497
A34: 0.07 | B34: =$A$28/(1-A33) -> 0.010638298 | C34: =H33-$B$14*B34 -> 0.76339638 | D34: =I33-B34*$C$14 -> 0.22596533 | E34: =J33-B34*$D$14 -> 0 | F34: =K33-B34*$E$14 -> 0 | G34: =L33-B34*$F$14 -> 0 | H34: =C34/SUM(C34:G34) -> 0.77160494 | I34: =D34/SUM(C34:G34) -> 0.22839506 | J34: =E34/SUM(C34:G34) -> 0 | K34: =F34/SUM(C34:G34) -> 0 | L34: =G34/SUM(C34:G34) -> 0 | M34: =SUMPRODUCT($B$16:$F$16,H34:L34) -> 2.0442593 | N34: =SUMPRODUCT($B$14:$F$14,$B$16:$F$16) -> 1.645 | O34: =P33/(M34+(1-N34)*B34) -> 0.037958905 | P34: =(P33-O34*B34)/(1-B34) -> 0.077760804 | Q34: =O34*$B$16 -> 0.090342193 | R34: =O34*$C$16 -> 0.034542603 | S34: =O34*$D$16 -> 0 | T34: =O34*$E$16 -> 0 | U34: =O34*$F$16 -> 0 | V34: =H$21-SUMPRODUCT(Q34:U34,H34:L34,$B$20:$F$20)/SUMPRODUCT(Q34:U34,H34:L34) -> -0.035271859 | W34: =(X33*P33+P34*V34*(1-B34))/(B34*O34+P34*(1-B34)) -> 0.30600817 | X34: =W34-V34 -> 0.34128003 | Y34: =SUMPRODUCT($W$28:W34,$O$28:O34)/SUM($O$28:O34) -> 0.30491814 | Z34: =SUMPRODUCT(H33:L33,$B$17:$F$17) -> 0.72066982 | AA34: =SUMPRODUCT($B$14:$C$14,$B$17:$C$17) -> 1.07 | AB34: =AC33/(Z34+(1-AA34)*B34) -> 3.1478106 | AC34: =(AC33-B34*AB34)/(1-B34) -> 2.2567082 | AD34: =SUMPRODUCT(AB$28:AB34,$B$28:$B34)/SUM($B$28:$B34) -> 3.1464687 | AE34: =SUMPRODUCT(H33:L33,$B$18:$F$18) -> 1.7434279 | AF34: =SUMPRODUCT($B$14:$F$14,$B$18:$F$18) -> 3.13 | AG34: =AH33/(AE34+(1-AF34)*B34) -> 0.71697165 | AH34: =(AH33-B34*AG34)/(1-B34) -> 1.2392988 | AI34: =SUMPRODUCT(AG$28:AG34,$B$28:$B34)/SUM($B$28:$B34) -> 0.69247603 | AJ34: =AD34/AI34/0.254*0.17 -> 3.0411223 | AK34: =SUMPRODUCT($O$28:O34,$B$28:B34)/SUMPRODUCT($B$28:B34) -> 0.037696795
A35: 0.08 | B35: =$A$28/(1-A34) -> 0.010752688 | C35: =H34-$B$14*B35 -> 0.76622859 | D35: =I34-B35*$C$14 -> 0.22301872 | E35: =J34-B35*$D$14 -> 0 | F35: =K34-B35*$E$14 -> 0 | G35: =L34-B35*$F$14 -> 0 | H35: =C35/SUM(C35:G35) -> 0.77455717 | I35: =D35/SUM(C35:G35) -> 0.22544283 | J35: =E35/SUM(C35:G35) -> 0 | K35: =F35/SUM(C35:G35) -> 0 | L35: =G35/SUM(C35:G35) -> 0 | M35: =SUMPRODUCT($B$16:$F$16,H35:L35) -> 2.048599 | N35: =SUMPRODUCT($B$14:$F$14,$B$16:$F$16) -> 1.645 | O35: =P34/(M35+(1-N35)*B35) -> 0.038086982 | P35: =(P34-O35*B35)/(1-B35) -> 0.078192041 | Q35: =O35*$B$16 -> 0.090647018 | R35: =O35*$C$16 -> 0.034659154 | S35: =O35*$D$16 -> 0 | T35: =O35*$E$16 -> 0 | U35: =O35*$F$16 -> 0 | V35: =H$21-SUMPRODUCT(Q35:U35,H35:L35,$B$20:$F$20)/SUMPRODUCT(Q35:U35,H35:L35) -> -0.03508275 | W35: =(X34*P34+P35*V35*(1-B35))/(B35*O35+P35*(1-B35)) -> 0.30638205 | X35: =W35-V35 -> 0.3414648 | Y35: =SUMPRODUCT($W$28:W35,$O$28:O35)/SUM($O$28:O35) -> 0.30510279 | Z35: =SUMPRODUCT(H34:L34,$B$17:$F$17) -> 0.71691358 | AA35: =SUMPRODUCT($B$14:$C$14,$B$17:$C$17) -> 1.07 | AB35: =AC34/(Z35+(1-AA35)*B35) -> 3.1511189 | AC35: =(AC34-B35*AB35)/(1-B35) -> 2.2469863 | AD35: =SUMPRODUCT(AB$28:AB35,$B$28:$B35)/SUM($B$28:$B35) -> 3.1470715 | AE35: =SUMPRODUCT(H34:L34,$B$18:$F$18) -> 1.7285185 | AF35: =SUMPRODUCT($B$14:$F$14,$B$18:$F$18) -> 3.13 | AG35: =AH34/(AE35+(1-AF35)*B35) -> 0.72659923 | AH35: =(AH34-B35*AG35)/(1-B35) -> 1.2448716 | AI35: =SUMPRODUCT(AG$28:AG35,$B$28:$B35)/SUM($B$28:$B35) -> 0.69689946 | AJ35: =AD35/AI35/0.254*0.17 -> 3.0223983 | AK35: =SUMPRODUCT($O$28:O35,$B$28:B35)/SUMPRODUCT($B$28:B35) -> 0.037747375
A36: 0.09 | B36: =$A$28/(1-A35) -> 0.010869565 | C36: =H35-$B$14*B36 -> 0.76912238 | D36: =I35-B36*$C$14 -> 0.22000805 | E36: =J35-B36*$D$14 -> 0 | F36: =K35-B36*$E$14 -> 0 | G36: =L35-B36*$F$14 -> 0 | H36: =C36/SUM(C36:G36) -> 0.77757428 | I36: =D36/SUM(C36:G36) -> 0.22242572 | J36: =E36/SUM(C36:G36) -> 0 | K36: =F36/SUM(C36:G36) -> 0 | L36: =G36/SUM(C36:G36) -> 0 | M36: =SUMPRODUCT($B$16:$F$16,H36:L36) -> 2.0530342 | N36: =SUMPRODUCT($B$14:$F$14,$B$16:$F$16) -> 1.645 | O36: =P35/(M36+(1-N36)*B36) -> 0.038216593 | P36: =(P35-O36*B36)/(1-B36) -> 0.078631332 | Q36: =O36*$B$16 -> 0.090955492 | R36: =O36*$C$16 -> 0.0347771 | S36: =O36*$D$16 -> 0 | T36: =O36*$E$16 -> 0 | U36: =O36*$F$16 -> 0 | V36: =H$21-SUMPRODUCT(Q36:U36,H36:L36,$B$20:$F$20)/SUMPRODUCT(Q36:U36,H36:L36) -> -0.034890311 | W36: =(X35*P35+P36*V36*(1-B36))/(B36*O36+P36*(1-B36)) -> 0.30675984 | X36: =W36-V36 -> 0.34165016 | Y36: =SUMPRODUCT($W$28:W36,$O$28:O36)/SUM($O$28:O36) -> 0.30528895 | Z36: =SUMPRODUCT(H35:L35,$B$17:$F$17) -> 0.71307568 | AA36: =SUMPRODUCT($B$14:$C$14,$B$17:$C$17) -> 1.07 | AB36: =AC35/(Z36+(1-AA36)*B36) -> 3.1544849 | AC36: =(AC35-B36*AB36)/(1-B36) -> 2.2370138 | AD36: =SUMPRODUCT(AB$28:AB36,$B$28:$B36)/SUM($B$28:$B36) -> 3.1479304 | AE36: =SUMPRODUCT(H35:L35,$B$18:$F$18) -> 1.713285 | AF36: =SUMPRODUCT($B$14:$F$14,$B$18:$F$18) -> 3.13 | AG36: =AH35/(AE36+(1-AF36)*B36) -> 0.73655251 | AH36: =(AH35-B36*AG36)/(1-B36) -> 1.2504575 | AI36: =SUMPRODUCT(AG$28:AG36,$B$28:$B36)/SUM($B$28:$B36) -> 0.70149359 | AJ36: =AD36/AI36/0.254*0.17 -> 3.0034239 | AK36: =SUMPRODUCT($O$28:O36,$B$28:B36)/SUMPRODUCT($B$28:B36) -> 0.037801738
A37: 0.1 | B37: =$A$28/(1-A36) -> 0.010989011 | C37: =H36-$B$14*B37 -> 0.77207977 | D37: =I36-B37*$C$14 -> 0.21693122 | E37: =J36-B37*$D$14 -> 0 | F37: =K36-B37*$E$14 -> 0 | G37: =L36-B37*$F$14 -> 0 | H37: =C37/SUM(C37:G37) -> 0.78065844 | I37: =D37/SUM(C37:G37) -> 0.21934156 | J37: =E37/SUM(C37:G37) -> 0 | K37: =F37/SUM(C37:G37) -> 0 | L37: =G37/SUM(C37:G37) -> 0 | M37: =SUMPRODUCT($B$16:$F$16,H37:L37) -> 2.0575679 | N37: =SUMPRODUCT($B$14:$F$14,$B$16:$F$16) -> 1.645 | O37: =P36/(M37+(1-N37)*B37) -> 0.038347768 | P37: =(P36-O37*B37)/(1-B37) -> 0.079078927 | Q37: =O37*$B$16 -> 0.091267689 | R37: =O37*$C$16 -> 0.034896469 | S37: =O37*$D$16 -> 0 | T37: =O37*$E$16 -> 0 | U37: =O37*$F$16 -> 0 | V37: =H$21-SUMPRODUCT(Q37:U37,H37:L37,$B$20:$F$20)/SUMPRODUCT(Q37:U37,H37:L37) -> -0.034694454 | W37: =(X36*P36+P37*V37*(1-B37))/(B37*O37+P37*(1-B37)) -> 0.30714164 | X37: =W37-V37 -> 0.34183609 | Y37: =SUMPRODUCT($W$28:W37,$O$28:O37)/SUM($O$28:O37) -> 0.30547665 | Z37: =SUMPRODUCT(H36:L36,$B$17:$F$17) -> 0.70915344 | AA37: =SUMPRODUCT($B$14:$C$14,$B$17:$C$17) -> 1.07 | AB37: =AC36/(Z37+(1-AA37)*B37) -> 3.1579103 | AC37: =(AC36-B37*AB37)/(1-B37) -> 2.2267816 | AD37: =SUMPRODUCT(AB$28:AB37,$B$28:$B37)/SUM($B$28:$B37) -> 3.1489768 | AE37: =SUMPRODUCT(H36:L36,$B$18:$F$18) -> 1.6977167 | AF37: =SUMPRODUCT($B$14:$F$14,$B$18:$F$18) -> 3.13 | AG37: =AH36/(AE37+(1-AF37)*B37) -> 0.7468494 | AH37: =(AH36-B37*AG37)/(1-B37) -> 1.2560532 | AI37: =SUMPRODUCT(AG$28:AG37,$B$28:$B37)/SUM($B$28:$B37) -> 0.70624915 | AJ37: =AD37/AI37/0.254*0.17 -> 2.9841918 | AK37: =SUMPRODUCT($O$28:O37,$B$28:B37)/SUMPRODUCT($B$28:B37) -> 0.037858989
A38: 0.11 | B38: =$A$28/(1-A37) -> 0.011111111 | C38: =H37-$B$14*B38 -> 0.77510288 | D38: =I37-B38*$C$14 -> 0.21378601 | E38: =J37-B38*$D$14 -> 0 | F38: =K37-B38*$E$14 -> 0 | G38: =L37-B38*$F$14 -> 0 | H38: =C38/SUM(C38:G38) -> 0.7838119 | I38: =D38/SUM(C38:G38) -> 0.2161881 | J38: =E38/SUM(C38:G38) -> 0 | K38: =F38/SUM(C38:G38) -> 0 | L38: =G38/SUM(C38:G38) -> 0 | M38: =SUMPRODUCT($B$16:$F$16,H38:L38) -> 2.0622035 | N38: =SUMPRODUCT($B$14:$F$14,$B$16:$F$16) -> 1.645 | O38: =P37/(M38+(1-N38)*B38) -> 0.03848054 | P38: =(P37-O38*B38)/(1-B38) -> 0.079535089 | Q38: =O38*$B$16 -> 0.091583685 | R38: =O38*$C$16 -> 0.035017291 | S38: =O38*$D$16 -> 0 | T38: =O38*$E$16 -> 0 | U38: =O38*$F$16 -> 0 | V38: =H$21-SUMPRODUCT(Q38:U38,H38:L38,$B$20:$F$20)/SUMPRODUCT(Q38:U38,H38:L38) -> -0.034495085 | W38: =(X37*P37+P38*V38*(1-B38))/(B38*O38+P38*(1-B38)) -> 0.30752751 | X38: =W38-V38 -> 0.3420226 | Y38: =SUMPRODUCT($W$28:W38,$O$28:O38)/SUM($O$28:O38) -> 0.3056659 | Z38: =SUMPRODUCT(H37:L37,$B$17:$F$17) -> 0.70514403 | AA38: =SUMPRODUCT($B$14:$C$14,$B$17:$C$17) -> 1.07 | AB38: =AC37/(Z38+(1-AA38)*B38) -> 3.1613973 | AC38: =(AC37-B38*AB38)/(1-B38) -> 2.2162803 | AD38: =SUMPRODUCT(AB$28:AB38,$B$28:$B38)/SUM($B$28:$B38) -> 3.1501674 | AE38: =SUMPRODUCT(H37:L37,$B$18:$F$18) -> 1.6818025 | AF38: =SUMPRODUCT($B$14:$F$14,$B$18:$F$18) -> 3.13 | AG38: =AH37/(AE38+(1-AF38)*B38) -> 0.75750922 | AH38: =(AH37-B38*AG38)/(1-B38) -> 1.2616548 | AI38: =SUMPRODUCT(AG$28:AG38,$B$28:$B38)/SUM($B$28:$B38) -> 0.71116259 | AJ38: =AD38/AI38/0.254*0.17 -> 2.9646944 | AK38: =SUMPRODUCT($O$28:O38,$B$28:B38)/SUMPRODUCT($B$28:B38) -> 0.037918567
A39: 0.12 | B39: =$A$28/(1-A38) -> 0.011235955 | C39: =H38-$B$14*B39 -> 0.77819392 | D39: =I38-B39*$C$14 -> 0.21057012 | E39: =J38-B39*$D$14 -> 0 | F39: =K38-B39*$E$14 -> 0 | G39: =L38-B39*$F$14 -> 0 | H39: =C39/SUM(C39:G39) -> 0.78703704 | I39: =D39/SUM(C39:G39) -> 0.21296296 | J39: =E39/SUM(C39:G39) -> 0 | K39: =F39/SUM(C39:G39) -> 0 | L39: =G39/SUM(C39:G39) -> 0 | M39: =SUMPRODUCT($B$16:$F$16,H39:L39) -> 2.0669444 | N39: =SUMPRODUCT($B$14:$F$14,$B$16:$F$16) -> 1.645 | O39: =P38/(M39+(1-N39)*B39) -> 0.038614941 | P39: =(P38-O39*B39)/(1-B39) -> 0.08000009 | Q39: =O39*$B$16 -> 0.09190356 | R39: =O39*$C$16 -> 0.035139597 | S39: =O39*$D$16 -> 0 | T39: =O39*$E$16 -> 0 | U39: =O39*$F$16 -> 0 | V39: =H$21-SUMPRODUCT(Q39:U39,H39:L39,$B$20:$F$20)/SUMPRODUCT(Q39:U39,H39:L39) -> -0.03429211 | W39: =(X38*P38+P39*V39*(1-B39))/(B39*O39+P39*(1-B39)) -> 0.30791756 | X39: =W39-V39 -> 0.34220967 | Y39: =SUMPRODUCT($W$28:W39,$O$28:O39)/SUM($O$28:O39) -> 0.30585674 | Z39: =SUMPRODUCT(H38:L38,$B$17:$F$17) -> 0.70104453 | AA39: =SUMPRODUCT($B$14:$C$14,$B$17:$C$17) -> 1.07 | AB39: =AC38/(Z39+(1-AA39)*B39) -> 3.1649482 | AC39: =(AC38-B39*AB39)/(1-B39) -> 2.2055 | AD39: =SUMPRODUCT(AB$28:AB39,$B$28:$B39)/SUM($B$28:$B39) -> 3.1514735 | AE39: =SUMPRODUCT(H38:L38,$B$18:$F$18) -> 1.6655306 | AF39: =SUMPRODUCT($B$14:$F$14,$B$18:$F$18) -> 3.13 | AG39: =AH38/(AE39+(1-AF39)*B39) -> 0.76855282 | AH39: =(AH38-B39*AG39)/(1-B39) -> 1.2672582 | AI39: =SUMPRODUCT(AG$28:AG39,$B$28:$B39)/SUM($B$28:$B39) -> 0.71623387 | AJ39: =AD39/AI39/0.254*0.17 -> 2.9449234 | AK39: =SUMPRODUCT($O$28:O39,$B$28:B39)/SUMPRODUCT($B$28:B39) -> 0.037980102
A40: 0.13 | B40: =$A$28/(1-A39) -> 0.011363636 | C40: =H39-$B$14*B40 -> 0.78135522 | D40: =I39-B40*$C$14 -> 0.20728114 | E40: =J39-B40*$D$14 -> 0 | F40: =K39-B40*$E$14 -> 0 | G40: =L39-B40*$F$14 -> 0 | H40: =C40/SUM(C40:G40) -> 0.79033631 | I40: =D40/SUM(C40:G40) -> 0.20966369 | J40: =E40/SUM(C40:G40) -> 0 | K40: =F40/SUM(C40:G40) -> 0 | L40: =G40/SUM(C40:G40) -> 0 | M40: =SUMPRODUCT($B$16:$F$16,H40:L40) -> 2.0717944 | N40: =SUMPRODUCT($B$14:$F$14,$B$16:$F$16) -> 1.645 | O40: =P39/(M40+(1-N40)*B40) -> 0.038751006 | P40: =(P39-O40*B40)/(1-B40) -> 0.080474218 | Q40: =O40*$B$16 -> 0.092227395 | R40: =O40*$C$16 -> 0.035263416 | S40: =O40*$D$16 -> 0 | T40: =O40*$E$16 -> 0 | U40: =O40*$F$16 -> 0 | V40: =H$21-SUMPRODUCT(Q40:U40,H40:L40,$B$20:$F$20)/SUMPRODUCT(Q40:U40,H40:L40) -> -0.03408543 | W40: =(X39*P39+P40*V40*(1-B40))/(B40*O40+P40*(1-B40)) -> 0.30831186 | X40: =W40-V40 -> 0.34239729 | Y40: =SUMPRODUCT($W$28:W40,$O$28:O40)/SUM($O$28:O40) -> 0.30604919 | Z40: =SUMPRODUCT(H39:L39,$B$17:$F$17) -> 0.69685185 | AA40: =SUMPRODUCT($B$14:$C$14,$B$17:$C$17) -> 1.07 | AB40: =AC39/(Z40+(1-AA40)*B40) -> 3.1685651 | AC40: =(AC39-B40*AB40)/(1-B40) -> 2.1944303 | AD40: =SUMPRODUCT(AB$28:AB40,$B$28:$B40)/SUM($B$28:$B40) -> 3.1528756 | AE40: =SUMPRODUCT(H39:L39,$B$18:$F$18) -> 1.6488889 | AF40: =SUMPRODUCT($B$14:$F$14,$B$18:$F$18) -> 3.13 | AG40: =AH39/(AE40+(1-AF40)*B40) -> 0.78000272 | AH40: =(AH39-B40*AG40)/(1-B40) -> 1.2728588 | AI40: =SUMPRODUCT(AG$28:AG40,$B$28:$B40)/SUM($B$28:$B40) -> 0.72146531 | AJ40: =AD40/AI40/0.254*0.17 -> 2.9248702 | AK40: =SUMPRODUCT($O$28:O40,$B$28:B40)/SUMPRODUCT($B$28:B40) -> 0.038043345
... A76: 0.49 | B76: =$A$28/(1-A75) -> 0.019230769 | C76: =H75-$B$14*B76 -> 0.9761396 | D76: =I75-B76*$C$14 -> 0.0046296296 | E76: =J75-B76*$D$14 -> 0 | F76: =K75-B76*$E$14 -> 0 | G76: =L75-B76*$F$14 -> 0 | H76: =C76/SUM(C76:G76) -> 0.99527959 | I76: =D76/SUM(C76:G76) -> 0.0047204067 | J76: =E76/SUM(C76:G76) -> 0 | K76: =F76/SUM(C76:G76) -> 0 | L76: =G76/SUM(C76:G76) -> 0 | M76: =SUMPRODUCT($B$16:$F$16,H76:L76) -> 2.373061 | N76: =SUMPRODUCT($B$14:$F$14,$B$16:$F$16) -> 1.645 | O76: =P75/(M76+(1-N76)*B76) -> 0.045155886 | P76: =(P75-O76*B76)/(1-B76) -> 0.1078023 | Q76: =O76*$B$16 -> 0.10747101 | R76: =O76*$C$16 -> 0.041091856 | S76: =O76*$D$16 -> 0 | T76: =O76*$E$16 -> 0 | U76: =O76*$F$16 -> 0 | V76: =H$21-SUMPRODUCT(Q76:U76,H76:L76,$B$20:$F$20)/SUMPRODUCT(Q76:U76,H76:L76) -> -0.022903082 | W76: =(X75*P75+P76*V76*(1-B76))/(B76*O76+P76*(1-B76)) -> 0.3264101 | X76: =W76-V76 -> 0.34931318 | Y76: =SUMPRODUCT($W$28:W76,$O$28:O76)/SUM($O$28:O76) -> 0.314369 | Z76: =SUMPRODUCT(H75:L75,$B$17:$F$17) -> 0.43851852 | AA76: =SUMPRODUCT($B$14:$C$14,$B$17:$C$17) -> 1.07 | AB76: =AC75/(Z76+(1-AA76)*B76) -> 3.3839266 | AC76: =(AC75-B76*AB76)/(1-B76) -> 1.4420147 | AD76: =SUMPRODUCT(AB$28:AB76,$B$28:$B76)/SUM($B$28:$B76) -> 3.2455671 | AE76: =SUMPRODUCT(H75:L75,$B$18:$F$18) -> 0.62350427 | AF76: =SUMPRODUCT($B$14:$F$14,$B$18:$F$18) -> 3.13 | AG76: =AH75/(AE76+(1-AF76)*B76) -> 2.2621449 | AH76: =(AH75-B76*AG76)/(1-B76) -> 1.2992794 | AI76: =SUMPRODUCT(AG$28:AG76,$B$28:$B76)/SUM($B$28:$B76) -> 1.1760049 | AJ76: =AD76/AI76/0.254*0.17 -> 1.8471266 | AK76: =SUMPRODUCT($O$28:O76,$B$28:B76)/SUMPRODUCT($B$28:B76) -> 0.041214587
A77: 0.5 | B77: =$A$28/(1-A76) -> 0.019607843 | C77: =H76-$B$14*B77 -> 0.98547567 | D77: 0 | E77: =J76-B77*$D$14 -> 0 | F77: =K76-B77*$E$14 -> 0 | G77: =L76-B77*$F$14 -> 0 | H77: =C77/SUM(C77:G77) -> 1 | I77: =D77/SUM(C77:G77) -> 0 | J77: =E77/SUM(C77:G77) -> 0 | K77: =F77/SUM(C77:G77) -> 0 | L77: =G77/SUM(C77:G77) -> 0 | M77: =SUMPRODUCT($B$16:$F$16,H77:L77) -> 2.38 | N77: =SUMPRODUCT($B$14:$F$14,$B$16:$F$16) -> 1.645 | O77: =P76/(M77+(1-N77)*B77) -> 0.045537065 | P77: =(P76-O77*B77)/(1-B77) -> 0.10904761 | Q77: =O77*$B$16 -> 0.10837821 | R77: =O77*$C$16 -> 0.041438729 | S77: =O77*$D$16 -> 0 | T77: =O77*$E$16 -> 0 | U77: =O77*$F$16 -> 0 | V77: =H$21-SUMPRODUCT(Q77:U77,H77:L77,$B$20:$F$20)/SUMPRODUCT(Q77:U77,H77:L77) -> -0.022678876 | W77: =(X76*P76+P77*V77*(1-B77))/(B77*O77+P77*(1-B77)) -> 0.32682215 | X77: =W77-V77 -> 0.34950102 | Y77: =SUMPRODUCT($W$28:W77,$O$28:O77)/SUM($O$28:O77) -> 0.31464654 | Z77: =SUMPRODUCT(H76:L76,$B$17:$F$17) -> 0.42613653 | AA77: =SUMPRODUCT($B$14:$C$14,$B$17:$C$17) -> 1.07 | AB77: =AC76/(Z77+(1-AA77)*B77) -> 3.3948611 | AC77: =(AC76-B77*AB77)/(1-B77) -> 1.4029578 | AD77: =SUMPRODUCT(AB$28:AB77,$B$28:$B77)/SUM($B$28:$B77) -> 3.2498209 | AE77: =SUMPRODUCT(H76:L76,$B$18:$F$18) -> 0.5743573 | AF77: =SUMPRODUCT($B$14:$F$14,$B$18:$F$18) -> 3.13 | AG77: =AH76/(AE77+(1-AF77)*B77) -> 2.4395372 | AH77: =(AH76-B77*AG77)/(1-B77) -> 1.2764743 | AI77: =SUMPRODUCT(AG$28:AG77,$B$28:$B77)/SUM($B$28:$B77) -> 1.2120063 | AJ77: =AD77/AI77/0.254*0.17 -> 1.7946087 | AK77: =SUMPRODUCT($O$28:O77,$B$28:B77)/SUMPRODUCT($B$28:B77) -> 0.041337746
A78: Parameters sources: a. Sobolev et al. (2005); b. Delavault et al. (2015); c. Table S-8; d. Yaxley and Green (1998); e. Pertermann et al. (2004); f. Antonelli et al. (2019); g. Zhang et al. (2018).
A79: h. The subscript N denotes normalization of residual phases to 100%.
A81: References
A82: Antonelli, M.A., Schiller, M., Schauble, E.A., Mittal, T., DePaolo, D.J., Chacko, T., Grew, E.S., Tripoli, B. (2019) Kinetic and equilibrium Ca isotope effects in high-T rocks and minerals. Earth and Planetary Science Letters 517, 71–82.
A83: Delavault, H., Chauvel, C., Sobolev, A., Batanova, V. (2015) Combined petrological, geochemical and isotopic modeling of a plume source: Example of Gambier Island, Pitcairn chain. Earth and Planetary Science Letters 426, 23–35.
A84: Pertermann, M., Hirschmann, M.M., Hametner, K., Günther, D., Schmidt, M.W. (2004) Experimental determination of trace element partitioning between garnet and silica‐rich liquid during anhydrous partial melting of MORB‐like eclogite. Geochemistry, Geophysics, Geosystems 5, 2003GC000638.
A85: Sobolev, A.V., Hofmann, A.W., Sobolev, S.V., Nikogosian, I.K. (2005) An olivine-free mantle source of Hawaiian shield basalts. Nature 434, 590–597.
A86: Yaxley, G.M., Green, D.H. (1998) Reactions between eclogite and peridotite: Mantle refertilisation by subduction of oceanic crust. Schweizerische mineralogische und petrographische Mitteilungen 78, 243–255.
A87: Zhang, H., Wang, Y., He, Y., Teng, F., Jacobsen, S.B., Helz, R.T., Marsh, B.D., Huang, S. (2018) No Measurable Calcium Isotopic Fractionation During Crystallization of Kilauea Iki Lava Lake. Geochemistry, Geophysics, Geosystems 19, 3128–3139.
A90: Wang et al. (2026) Geochem. Persp. Let. 39, 54-59 | https://doi.org/10.7185/geochemlet.2613
A91: © 2026 The Authors
A92: Published by the European Association of Geochemistry under Creative Commons License CC-BY-NC-ND.
