Workbook

Sheet Table S-1
A8: Table S-1 Calcium isotopic compositions for Pitcairn Island and seamount basalts.
A10: Samples | B10: Type | C10: δ44/40Ca | D10: 2 s.e.a | E10: δ44/42Ca | F10: 2 s.e. | G10: ε40/44Cab | H10: 2 s.e. | I10: n
A11: 45DS1 | B11: Seamount | C11: 0.78 | D11: 0.03 | E11: 0.4 | F11: 0.02 | G11: 0.4 | H11: 0.3 | I11: 10
A12: 51DS4 | B12: Seamount | C12: 0.83 | D12: 0.03 | E12: 0.39 | F12: 0.01 | G12: -0.4 | H12: 0.4 | I12: 6
A13: 46DS2 | B13: Seamount | C13: 0.84 | D13: 0.03 | E13: 0.35 | F13: 0.03 | G13: -1.2 | H13: 0.5 | I13: 7
A14: 48DS6 | B14: Seamount | C14: 0.73 | D14: 0.04 | E14: 0.33 | F14: 0.03 | G14: -0.5 | H14: 0.6 | I14: 8
A15: 51DS2 | B15: Seamount | C15: 0.8 | D15: 0.04 | E15: 0.33 | F15: 0.02 | G15: -1.3 | H15: 0.5 | I15: 7
A16: 33GTV2 | B16: Seamount | C16: 0.68 | D16: 0.08 | E16: 0.3 | F16: 0.02 | G16: -0.6 | H16: 0.7 | I16: 4
A17: 55SLS6 | B17: Seamount | C17: 0.76 | D17: 0.03 | E17: 0.33 | F17: 0.04 | G17: -0.8 | H17: 0.9 | I17: 6
A18: P5 | B18: Tedside | C18: 0.76 | D18: 0.03 | E18: 0.38 | F18: 0.05 | G18: 0.2 | H18: 0.9 | I18: 7
A19: P7 | B19: Tedside | C19: 0.84 | D19: 0.04 | E19: 0.39 | F19: 0.03 | G19: -0.4 | H19: 0.7 | I19: 7
A20: P8 | B20: Tedside | C20: 0.81 | D20: 0.03 | E20: 0.37 | F20: 0.03 | G20: -0.4 | H20: 0.7 | I20: 7
A21: P9 | B21: Tedside | C21: 0.77 | D21: 0.01 | E21: 0.36 | F21: 0.02 | G21: -0.2 | H21: 0.6 | I21: 9
A22: P10 | B22: Tedside | C22: 0.77 | D22: 0.04 | E22: 0.36 | F22: 0.03 | G22: -0.3 | H22: 0.6 | I22: 8
... A25: P1 | B25: Post-erosional | C25: 0.81 | D25: 0.02 | E25: 0.37 | F25: 0.04 | G25: -0.5 | H25: 0.7 | I25: 6
A26: a. 2 s.e. denotes two standard errors of the mean, 2 s.e. = 2 s.d./sqrt(n).
A27: b. ε40/44Ca is calculated from independently obtained δ44/42Ca and δ44/40Ca, following the method of Farkaš et al. (2011).
A28: c. n denotes number of analyses of Ca isotopes.
A30: Reference
A31: Farkaš, J., Déjeant, A., Novák, M., Jacobsen, S.B. (2011) Calcium isotope constraints on the uptake and sources of Ca2+ in a base-poor forest: A new concept of combining stable (δ44/42Ca) and radiogenic (εCa) signals. Geochimica et Cosmochimica Acta 75, 7031–7046.
A33: Wang et al. (2026) Geochem. Persp. Let. 39, 54-59 | https://doi.org/10.7185/geochemlet.2613
A34: © 2026 The Authors
A35: Published by the European Association of Geochemistry under Creative Commons License CC-BY-NC-ND.

Sheet Table S-2
A8: Table S-2 Calcium isotopic compositions of standard materials.
A10: Standards | B10: Referencesa | C10: δ44/40Ca | D10: 2 s.d.b | E10: δ44/42Ca | F10: 2 s.d. | G10: nc
A11: SRM915a | B11: This study | C11: -0.01 | D11: 0.15 | E11: 0 | F11: 0.11 | G11: 69
B12: Zhu et al. (2020) | C12: 0.03 | D12: 0.12 | G12: 34
B13: Eriksen and Jacobsen (2022) | C13: 0 | D13: 0.03 | E13: 0 | F13: 0.03
A15: SRM915b | B15: This study | C15: 0.78 | D15: 0.14 | E15: 0.35 | F15: 0.09 | G15: 9
B16: Dai et al. (2022) | C16: 0.72 | D16: 0.07 | E16: 0.35 | F16: 0.08
A18: Atlantic seawater | B18: This study | C18: 1.89 | D18: 0.13 | E18: 0.91 | F18: 0.11 | G18: 21
B19: Zhu et al. (2020) | C19: 1.81 | D19: 0.11 | G19: 30
A21: BHVO-2 | B21: This study | C21: 0.8 | D21: 0.1 | E21: 0.35 | F21: 0.08 | G21: 14
B22: Zhu et al. (2020) | C22: 0.79 | D22: 0.13 | G22: 6
B23: Eriksen and Jacobsen (2022) | C23: 0.852 | D23: 0.03 | E23: 0.392 | F23: 0.03
A24: a. Reference sources: Zhu et al. (2020); Dai et al. (2022); Eriksen and Jacobsen (2022).
A25: b. 2 s.d. denotes two standard deviations.
A26: c. n denotes number of analyses of Ca isotopes.
A28: References
A29: Dai, W., Moynier, F., Paquet, M., Moureau, J., Debret, B., Siebert, J., Gerard, Y., Zhao, Y. (2022) Calcium isotope measurements using a collision cell (CC)-MC-ICP-MS. Chemical Geology 590, 120688.
A30: Eriksen, Z.T., Jacobsen, S.B. (2022) Calcium isotope constraints on OIB and MORB petrogenesis: The importance of melt mixing. Earth and Planetary Science Letters 593, 117665.
A31: Zhu, H., Liu, F., Li, X., An, Y., Nan, X., Du, L., Huang, F., Sun, W., Zhang, Z. (2020) Significant δ44/40Ca variations between carbonate- and clay-rich marine sediments from the Lesser Antilles forearc and implications for mantle heterogeneity. Geochimica et Cosmochimica Acta 276, 239–257.
A33: Wang et al. (2026) Geochem. Persp. Let. 39, 54-59 | https://doi.org/10.7185/geochemlet.2613
A34: © 2026 The Authors
A35: Published by the European Association of Geochemistry under Creative Commons License CC-BY-NC-ND.

Sheet Table S-3
A8: Table S-3 Major and trace element concentrations for Pitcairn Island and seamount basalts.
A10: Samples | B10: Type | C10: SiO2 | D10: TiO2 | E10: Al2O3 | F10: FeOT | G10: MnO | H10: MgO | I10: CaO | J10: Na2O | K10: K2O | L10: P2O5 | M10: LOI | N10: Total | P10: Cu | Q10: Zn | R10: Ga | S10: Rb | T10: Sr | U10: Y | V10: Zr | W10: Nb | X10: Cs | Y10: Ba | Z10: La | AA10: Ce | AB10: Pr | AC10: Nd | AD10: Sm | AE10: Eu | AF10: Gd | AG10: Tb | AH10: Dy | AI10: Ho | AJ10: Er | AK10: Yb | AL10: Lu | AM10: Hf | AN10: Ta | AO10: Pb | AP10: Th | AQ10: U
A11: 45DS1 | B11: Seamount | C11: 53.5 | D11: 2.57 | E11: 16.72 | F11: 8.92 | G11: 0.12 | H11: 3.37 | I11: 6.72 | J11: 4.46 | K11: 2.38 | L11: 0.77 | M11: 0.47 | N11: =SUM(C11:M11) -> 100 | P11: 30.1382 | Q11: 132.0249 | R11: 27.3967 | S11: 46.566 | T11: 560.791 | U11: 46.6023 | V11: 543.0209 | W11: 59.9259 | X11: 0.4192 | Y11: 575.6973 | Z11: 68.7148 | AA11: 144.4004 | AB11: 17.8702 | AC11: 71.1814 | AD11: 14.3263 | AE11: 4.0521 | AF11: 12.1505 | AG11: 1.7276 | AH11: 9.1328 | AI11: 1.6704 | AJ11: 4.2339 | AK11: 3.2755 | AL11: 0.4687 | AM11: 11.6525 | AN11: 3.6634 | AO11: 7.4431 | AP11: 8.8612 | AQ11: 1.9051
A12: 51DS4 | B12: Seamount | C12: 54.21 | D12: 2.15 | E12: 15.97 | F12: 10.67 | G12: 0.16 | H12: 2.76 | I12: 6.07 | J12: 4.73 | K12: 2.29 | L12: 0.95 | M12: 0.04 | N12: =SUM(C12:M12) -> 100 | P12: 12.1096 | Q12: 155.8419 | R12: 27.2238 | S12: 36.5929 | T12: 521.7928 | U12: 55.0399 | V12: 537.0911 | W12: 51.3512 | X12: 0.3529 | Y12: 435.9873 | Z12: 54.0153 | AA12: 118.9764 | AB12: 15.5358 | AC12: 64.8597 | AD12: 14.3516 | AE12: 4.2716 | AF12: 12.907 | AG12: 1.9129 | AH12: 10.3533 | AI12: 1.9796 | AJ12: 5.0755 | AK12: 4.0908 | AL12: 0.5929 | AM12: 11.7392 | AN12: 3.0723 | AO12: 5.2537 | AP12: 6.1268 | AQ12: 1.5093
A13: 46DS2 | B13: Seamount | C13: 48.41 | D13: 3.35 | E13: 14.93 | F13: 11.82 | G13: 0.14 | H13: 7.37 | I13: 8.43 | J13: 3.35 | K13: 1.28 | L13: 0.66 | M13: 0.26 | N13: =SUM(C13:M13) -> 100 | P13: 38.8522 | Q13: 127.2606 | R13: 21.5084 | S13: 21.7998 | T13: 583.0863 | U13: 31.4827 | V13: 296.3414 | W13: 35.5205 | X13: 0.214 | Y13: 290.7158 | Z13: 33.276 | AA13: 73.3459 | AB13: 9.5834 | AC13: 40.4944 | AD13: 8.9527 | AE13: 2.8178 | AF13: 8.0671 | AG13: 1.1421 | AH13: 6.1491 | AI13: 1.1363 | AJ13: 2.822 | AK13: 2.1598 | AL13: 0.2987 | AM13: 6.8518 | AN13: 2.2604 | AO13: 3.3811 | AP13: 3.7745 | AQ13: 0.881
A14: 48DS6 | B14: Seamount | C14: 49.01 | D14: 3.13 | E14: 16.25 | F14: 10.74 | G14: 0.14 | H14: 5.74 | I14: 9.25 | J14: 3.59 | K14: 1.48 | L14: 0.64 | M14: 0.03 | N14: =SUM(C14:M14) -> 100 | P14: 39.94 | Q14: 170.4855 | R14: 21.3412 | S14: 21.7937 | T14: 574.3616 | U14: 30.9785 | V14: 296.7088 | W14: 35.315 | X14: 0.2124 | Y14: 284.6048 | Z14: 33.0462 | AA14: 72.1443 | AB14: 9.4398 | AC14: 39.9161 | AD14: 8.9068 | AE14: 2.7901 | AF14: 7.9935 | AG14: 1.1597 | AH14: 6.116 | AI14: 1.1199 | AJ14: 2.8006 | AK14: 2.0957 | AL14: 0.2989 | AM14: 6.6016 | AN14: 2.2157 | AO14: 3.3643 | AP14: 3.6725 | AQ14: 0.9113
A15: 51DS2 | B15: Seamount | C15: 50.01 | D15: 2.81 | E15: 14.11 | F15: 11.87 | G15: 0.15 | H15: 9.5 | I15: 8.19 | J15: 2.95 | K15: 0.82 | L15: 0.43 | M15: -0.84 | N15: =SUM(C15:M15) -> 100 | P15: 45.2356 | Q15: 119.9844 | R15: 20.7236 | S15: 12.553 | T15: 466.7026 | U15: 28.0288 | V15: 207.123 | W15: 21.884 | X15: 0.1102 | Y15: 186.037 | Z15: 21.3966 | AA15: 47.6902 | AB15: 6.4041 | AC15: 28.119 | AD15: 6.7816 | AE15: 2.2226 | AF15: 6.5195 | AG15: 0.9654 | AH15: 5.2249 | AI15: 0.9993 | AJ15: 2.5295 | AK15: 1.9976 | AL15: 0.2834 | AM15: 4.9915 | AN15: 1.4049 | AO15: 2.4055 | AP15: 2.249 | AQ15: 0.5495
A16: 33GTV2 | B16: Seamount | C16: 49.63 | D16: 3.56 | E16: 15.85 | F16: 11.13 | G16: 0.14 | H16: 5.7 | I16: 8.04 | J16: 3.87 | K16: 1.6 | L16: 0.78 | M16: -0.3 | N16: =SUM(C16:M16) -> 100 | P16: 52.6029 | Q16: 116.8543 | R16: 22.1667 | S16: 26.4904 | T16: 684.7899 | U16: 33.3781 | V16: 347.616 | W16: 40.8229 | X16: 0.2666 | Y16: 347.27 | Z16: 39.7404 | AA16: 86.4314 | AB16: 11.2335 | AC16: 47.0452 | AD16: 10.0722 | AE16: 3.1352 | AF16: 8.7921 | AG16: 1.2374 | AH16: 6.5934 | AI16: 1.1833 | AJ16: 2.9421 | AK16: 2.2034 | AL16: 0.305 | AM16: 7.6499 | AN16: 2.5703 | AO16: 3.8677 | AP16: 4.3819 | AQ16: 1.0901
A17: 55SLS6 | B17: Seamount | C17: 48.81 | D17: 3.46 | E17: 15.29 | F17: 11.69 | G17: 0.14 | H17: 6.49 | I17: 8.61 | J17: 3.62 | K17: 1.31 | L17: 0.66 | M17: -0.08 | N17: =SUM(C17:M17) -> 100 | P17: 37.1263 | Q17: 134.4222 | R17: 22.6455 | S17: 23.1017 | T17: 606.5895 | U17: 33.1098 | V17: 309.1092 | W17: 37.2627 | X17: 0.2287 | Y17: 318.7409 | Z17: 35.6068 | AA17: 77.7326 | AB17: 10.1596 | AC17: 42.7236 | AD17: 9.3646 | AE17: 2.9437 | AF17: 8.4081 | AG17: 1.2126 | AH17: 6.4316 | AI17: 1.185 | AJ17: 2.959 | AK17: 2.317 | AL17: 0.3208 | AM17: 7.2078 | AN17: 2.3823 | AO17: 3.5907 | AP17: 4.0922 | AQ17: 0.8913
A18: P5 | B18: Tedside | C18: 48.76 | D18: 4.27 | E18: 15.36 | F18: 12.5 | G18: 0.18 | H18: 3.86 | I18: 8.29 | J18: 3.62 | K18: 2.26 | L18: 0.88 | M18: 0.02 | N18: =SUM(C18:M18) -> 100 | P18: 54.9 | Q18: 116.76667 | R18: 44.73 | S18: 37.16 | T18: 692.46667 | U18: 41.776667 | V18: 443.76667 | W18: 66.616667 | X18: 0.11333333 | Y18: 610.93333 | Z18: 66.916667 | AA18: 129.48 | AB18: 15.41 | AC18: 62.76 | AD18: 12.733333 | AE18: 3.7246667 | AF18: 11.48 | AG18: 1.6023333 | AH18: 8.9966667 | AI18: 1.6006667 | AJ18: 4.1533333 | AK18: 3.3866667 | AL18: 0.46566667 | AM18: 10.346667 | AN18: 4.1243333 | AO18: 5.4533333 | AP18: 9.2133333 | AQ18: 0.893
A19: P7 | B19: Tedside | C19: 47.88 | D19: 3.75 | E19: 14.93 | F19: 12.21 | G19: 0.17 | H19: 6.54 | I19: 8.44 | J19: 3.68 | K19: 1.64 | L19: 0.57 | M19: 0.19 | N19: =SUM(C19:M19) -> 100 | P19: 31.863333 | Q19: 107.46667 | R19: 35.636667 | S19: 26.163333 | T19: 588 | U19: 31.57 | V19: 317.1 | W19: 46.783333 | X19: 0.13933333 | Y19: 415.63333 | Z19: 48.273333 | AA19: 94.583333 | AB19: 11.413333 | AC19: 46.853333 | AD19: 9.55 | AE19: 2.8356667 | AF19: 8.59 | AG19: 1.217 | AH19: 6.79 | AI19: 1.2553333 | AJ19: 3.168 | AK19: 2.5133333 | AL19: 0.33766667 | AM19: 7.74 | AN19: 2.9766667 | AO19: 3.6946667 | AP19: 6.7733333 | AQ19: 0.841
A20: P8 | B20: Tedside | C20: 48.74 | D20: 3.59 | E20: 15.93 | F20: 10.98 | G20: 0.15 | H20: 5.55 | I20: 8.97 | J20: 3.81 | K20: 1.65 | L20: 0.61 | M20: 0.02 | N20: =SUM(C20:M20) -> 100 | P20: 26.766667 | Q20: 95.5 | R20: 36.576667 | S20: 27.173333 | T20: 738.1 | U20: 29.453333 | V20: 314.56667 | W20: 47.663333 | X20: 0.074666667 | Y20: 467.96667 | Z20: 51.436667 | AA20: 98.366667 | AB20: 11.713333 | AC20: 46.916667 | AD20: 9.43 | AE20: 2.9003333 | AF20: 8.3466667 | AG20: 1.1633333 | AH20: 6.4466667 | AI20: 1.156 | AJ20: 2.9463333 | AK20: 2.3933333 | AL20: 0.30766667 | AM20: 7.46 | AN20: 2.959 | AO20: 3.9633333 | AP20: 7.3866667 | AQ20: 0.68566667
A21: P9 | B21: Tedside | C21: 47.37 | D21: 3.57 | E21: 15.06 | F21: 12.68 | G21: 0.17 | H21: 7.09 | I21: 8.82 | J21: 3.24 | K21: 1.43 | L21: 0.53 | M21: 0.04 | N21: =SUM(C21:M21) -> 100 | P21: 69.5 | Q21: 105.86667 | R21: 34.32 | S21: 20.593333 | T21: 605.06667 | U21: 28.73 | V21: 293.03333 | W21: 42.703333 | X21: 0.16433333 | Y21: 394.56667 | Z21: 42.88 | AA21: 84.643333 | AB21: 10.306667 | AC21: 42.386667 | AD21: 8.5866667 | AE21: 2.6086667 | AF21: 7.58 | AG21: 1.1066667 | AH21: 6.2233333 | AI21: 1.1406667 | AJ21: 2.9233333 | AK21: 2.2866667 | AL21: 0.31133333 | AM21: 7.0666667 | AN21: 2.6846667 | AO21: 3.341 | AP21: 5.9 | AQ21: 1.0263333
A22: P10 | B22: Tedside | C22: 49.92 | D22: 3.95 | E22: 16.17 | F22: 10.8 | G22: 0.15 | H22: 3.82 | I22: 8.54 | J22: 3.99 | K22: 1.63 | L22: 0.71 | M22: 0.32 | N22: =SUM(C22:M22) -> 100 | P22: 24.58 | Q22: 106.73333 | R22: 40.483333 | S22: 32.09 | T22: 652.4 | U22: 35.976667 | V22: 379.76667 | W22: 53.716667 | X22: 0.094333333 | Y22: 510.1 | Z22: 62.283333 | AA22: 121.59 | AB22: 14.493333 | AC22: 57.586667 | AD22: 11.24 | AE22: 3.318 | AF22: 9.81 | AG22: 1.4313333 | AH22: 7.8233333 | AI22: 1.4413333 | AJ22: 3.5356667 | AK22: 2.81 | AL22: 0.39433333 | AM22: 9.2633333 | AN22: 3.349 | AO22: 4.5866667 | AP22: 9.0633333 | AQ22: 1.1016667
... A25: P1 | B25: Post-erosional | C25: 57.53 | D25: 0.98 | E25: 17.32 | F25: 8.97 | G25: 0.22 | H25: 1.18 | I25: 3.43 | J25: 6.34 | K25: 3.67 | L25: 0.37 | M25: -0.01 | N25: =SUM(C25:M25) -> 100 | P25: 46.303333 | Q25: 160.2 | R25: 61.266667 | S25: 70.783333 | T25: 454.73333 | U25: 52.733333 | V25: 733.2 | W25: 121.13333 | X25: 0.511 | Y25: 965.76667 | Z25: 84.706667 | AA25: 167.43333 | AB25: 19.62 | AC25: 76.523333 | AD25: 15.723333 | AE25: 4.44 | AF25: 13.166667 | AG25: 1.9173333 | AH25: 11.18 | AI25: 2.0873333 | AJ25: 5.48 | AK25: 4.8033333 | AL25: 0.66833333 | AM25: 17.056667 | AN25: 7.33 | AO25: 5.8866667 | AP25: 12.546667 | AQ25: 2.526
A26: Major and trace element concentration data are from Woodhead and McCulloch (1989), and Woodhead and Devey (1993).
A28: References
A29: Woodhead, J.D., Devey, C.W. (1993) Geochemistry of the Pitcairn seamounts, I: source character and temporal trends. Earth and Planetary Science Letters 116, 81-99.
A30: Woodhead, J.D., McCulloch, M.T. (1989) Ancient seafloor signals in Pitcairn Island lavas and evidence for large amplitude, small length-scale mantle heterogeneities. Earth and Planetary Science Letters 94, 257-273.
A33: Wang et al. (2026) Geochem. Persp. Let. 39, 54-59 | https://doi.org/10.7185/geochemlet.2613
A34: © 2026 The Authors
A35: Published by the European Association of Geochemistry under Creative Commons License CC-BY-NC-ND.

Sheet Table S-4
A8: Table S-4 Trace element concentrations corrected for the olivine accumulation for Pitcairn Island and seamount basalts.
A10: Samples | B10: Type | C10: Rb | D10: Sr | E10: Nb | F10: La | G10: Nd | H10: Sm | I10: Eu | J10: Gd | K10: Dy | L10: Yb | M10: Pb | N10: Th | O10: U
A11: 45DS1* | B11: Seamount | C11: 46.566 | D11: 560.791 | E11: 59.9259 | F11: 68.7148 | G11: 71.1814 | H11: 14.3263 | I11: 4.0521 | J11: 12.1505 | K11: 9.1328 | L11: 3.2755 | M11: 7.4431 | N11: 8.8612 | O11: 1.9051
A12: 51DS4* | B12: Seamount | C12: 36.5929 | D12: 521.7928 | E12: 51.3512 | F12: 54.0153 | G12: 64.8597 | H12: 14.3516 | I12: 4.2716 | J12: 12.907 | K12: 10.3533 | L12: 4.0908 | M12: 5.2537 | N12: 6.1268 | O12: 1.5093
A13: 46DS2 | B13: Seamount | C13: 20.026394 | D13: 534.12563 | E13: 32.53313 | F13: 30.504096 | G13: 37.101797 | H13: 8.2013036 | I13: 2.5822391 | J13: 7.3905335 | K13: 5.6364783 | L13: 1.983343 | M13: 3.0970908 | N13: 3.4584247 | O13: 0.80731776
A14: 48DS6 | B14: Seamount | C14: 18.750222 | D14: 491.7514 | E14: 30.225224 | F14: 28.328838 | G14: 34.184359 | H14: 7.6254394 | I14: 2.3903721 | J14: 6.8443688 | K14: 5.2423972 | L14: 1.8025623 | M14: 2.8800909 | N14: 3.1473899 | O14: 0.78176386
A15: 51DS2 | B15: Seamount | C15: 12.553 | D15: 466.7026 | E15: 21.884 | F15: 21.3966 | G15: 28.119 | H15: 6.7816 | I15: 2.2226 | J15: 6.5195 | K15: 5.2249 | L15: 1.9976 | M15: 2.4055 | N15: 2.249 | O15: 0.5495
A16: 33GTV2 | B16: Seamount | C16: 22.7252 | D16: 584.55525 | E16: 34.835111 | F16: 33.966962 | G16: 40.170048 | H16: 8.5974976 | I16: 2.6780742 | J16: 7.5057596 | K16: 5.6349337 | L16: 1.8897556 | M16: 3.3011852 | N16: 3.7444128 | O16: 0.93249982
A17: 55SLS6 | B17: Seamount | C17: 20.458877 | D17: 535.04394 | E17: 32.859642 | F17: 31.439657 | G17: 37.694387 | H17: 8.2602262 | I17: 2.5979553 | J17: 7.4172567 | K17: 5.6783707 | L17: 2.0511733 | M17: 3.1669728 | N17: 3.6115 | O17: 0.78691038
A18: P5 | B18: Tedside | C18: 29.144152 | D18: 539.28261 | E18: 51.836134 | F18: 52.198992 | G18: 48.871645 | H18: 9.9099379 | I18: 2.9024566 | J18: 8.9362618 | K18: 7.0173144 | L18: 2.6579531 | M18: 4.2450228 | N18: 7.2159126 | O18: 0.70811424
A19: P7 | B19: Tedside | C19: 23.192613 | D19: 519.16026 | E19: 41.296328 | F19: 42.66567 | G19: 41.378943 | H19: 8.4321313 | I19: 2.5050813 | J19: 7.5852431 | K19: 6.0006855 | L19: 2.2270996 | M19: 3.2619034 | N19: 5.9834618 | O19: 0.74319711
A20: P8 | B20: Tedside | C20: 23.198953 | D20: 626.94935 | E20: 40.470413 | F20: 43.748235 | G20: 39.862187 | H20: 8.0094179 | I20: 2.4652385 | J20: 7.0901986 | K20: 5.4824864 | L20: 2.0428528 | M20: 3.3660612 | N20: 6.2815944 | O20: 0.58381659
A21: P9 | B21: Tedside | C21: 18.664417 | D21: 546.58996 | E21: 38.569381 | F21: 38.768573 | G21: 38.299077 | H21: 7.757113 | I21: 2.3576489 | J21: 6.8482412 | K21: 5.6261771 | L21: 2.0716561 | M21: 3.0179775 | N21: 5.3315533 | O21: 0.92761411
A22: P10 | B22: Tedside | C22: 25.411652 | D22: 513.15403 | E22: 42.217028 | F22: 49.066234 | G22: 45.290615 | H22: 8.835209 | I22: 2.6112913 | J22: 7.7126077 | K22: 6.1626328 | L22: 2.2267069 | M22: 3.6060894 | N22: 7.1685917 | O22: 0.88216783
... A25: P1* | B25: Post-erosional | C25: 70.783333 | D25: 454.73333 | E25: 121.13333 | F25: 84.706667 | G25: 76.523333 | H25: 15.723333 | I25: 4.44 | J25: 13.166667 | K25: 11.18 | L25: 4.8033333 | M25: 5.8866667 | N25: 12.546667 | O25: 2.526
A26: Trace element concentrations (Woodhead and Devey, 1993; Woodhead and McCulloch, 1989) are corrected for the olivine accumulation to 9.5 wt. % MgO. Three evolved samples with MgO < 3.8 wt.% (denoted by *) were excluded from this correction. Partition coefficients used in the correction are from Bédard (2005).
A28: References
A29: Bédard, J.H. (2005) Partitioning coefficients between olivine and silicate melts. Lithos 83, 394–419.
A30: Woodhead, J.D., Devey, C.W. (1993) Geochemistry of the Pitcairn seamounts, I: source character and temporal trends. Earth and Planetary Science Letters 116, 81-99.
A31: Woodhead, J.D., McCulloch, M.T. (1989) Ancient seafloor signals in Pitcairn Island lavas and evidence for large amplitude, small length-scale mantle heterogeneities. Earth and Planetary Science Letters 94, 257-273.
A33: Wang et al. (2026) Geochem. Persp. Let. 39, 54-59 | https://doi.org/10.7185/geochemlet.2613
A34: © 2026 The Authors
A35: Published by the European Association of Geochemistry under Creative Commons License CC-BY-NC-ND.

Sheet Table S-5
A8: Table S-5 Calcium isotopic compositions of spinel peridotite melt.
A11: Input parameters for the spinel peridotite melting model used in this study
B12: Cpx | C12: Grt | D12: Opx | E12: Ol | F12: Spl | G12: Sum | H12: Liquid
A13: Initial modea | B13: 0.13 | D13: 0.28 | E13: 0.57 | G13: =SUM(B13:F13) -> 0.98
A14: Melting modea | B14: 0.49 | D14: 0.68 | E14: -0.18 | G14: =SUM(B14:F14) -> 0.99
A15: CaOa | B15: 0.1952 | D15: 0.0218 | E15: 0.0005 | G15: =SUMPRODUCT(B13:F13,B15:F15) -> 0.031765 | H15: 0.086
A16: DCaa | B16: =B15/$H$15 -> 2.2697674 | D16: =D15/$H$15 -> 0.25348837 | E16: =E15/$H$15 -> 0.0058139535 | G16: =SUMPRODUCT(B13:F13,B16:F16) -> 0.36936047
A17: DDyb | B17: 0.4 | D17: 0.011 | E17: 0.0027 | F17: 0
A18: DYbb | B18: 0.45 | D18: 0.08 | E18: 0.02 | F18: 0
A19: 1000lnβ at 1000 Kc, d | B19: 1.32 | C19: 2.03 | D19: 1.85 | E19: 2.08 | F19: - | H19: 1.19
A20: Δ44/42Camineral–cpx at 1673Kc | B20: =(1.32-1.32)/2.048/(1673/1000)^2 -> 0 | C20: =(2.03-1.32)/2.048/(1673/1000)^2 -> 0.12386155 | D20: =(1.85-1.32)/2.048/(1673/1000)^2 -> 0.092460031 | E20: =(2.08-1.32)/2.048/(1673/1000)^2 -> 0.1325842 | F20: 0
A21: Δ44/42Camelt–cpx at 1673Kc, d | H21: =(1.19-1.32)/2.048/(1673/1000)^2 -> -0.022678876
A22: Initial Dye | G22: 0.737
A23: Initial Ybe | G23: 0.493
A24: Initial δ44/42Caf | G24: 0.42
A26: Results of spinel peridotite melting calculations using the non-modal batch melting model.
A27: F | B27: f | C27: cpxresidue | D27: grtresidue | E27: opxresidue | F27: olresidue | G27: splresidue | H27: (cpxresidue)Ng | I27: (grtresidue)N | J27: (opxresidue)N | K27: (olresidue)N | L27: (splresidue)N | M27: DCa | N27: PCa | O27: CaOinstant melt | P27: CaOresidue | Q27: CaOcpx residue | R27: CaOgrt residue | S27: CaOopx residue | T27: CaOol residue | U27: CaOsp residue | V27: Δ44/42Camelt-residue | W27: δ44/42Cainstant melt | X27: δ44/42Caresidue | Y27: δ44/42Caaggregate melt | Z27: DDy | AA27: PDy | AB27: Dyinstant melt | AC27: DyResidue | AD27: Dyaggregate melt | AE27: DYb | AF27: PYb | AG27: Ybinstant melt | AH27: Ybresidue | AI27: Ybaggregate melt | AJ27: (Dy/Yb)N aggregate melt | AK27: CaOaggregate melt
A28: 0.01 | B28: =A28 -> 0.01 | C28: =$B$13-A28*$B$14 -> 0.1251 | D28: =$C$13-A28*$C$14 -> 0 | E28: =$D$13-A28*$D$14 -> 0.2732 | F28: =$E$13-A28*$E$14 -> 0.5718 | G28: =$F$13-A28*$F$14 -> 0 | H28: =C28/SUM(C28:G28) -> 0.12895578 | I28: =D28/SUM(C28:G28) -> 0 | J28: =E28/SUM(C28:G28) -> 0.28162045 | K28: =F28/SUM(C28:G28) -> 0.58942377 | L28: =G28/SUM(C28:G28) -> 0 | M28: =SUMPRODUCT(B13:F13,B16:F16) -> 0.36936047 | N28: =SUMPRODUCT($B$14:$F$14,$B$16:$F$16) -> 1.2835116 | O28: =G15/(M28+(1-N28)*B28) -> 0.08666522 | P28: =(G15-O28*B28)/(1-B28) -> 0.031210452 | Q28: =O28*$B$16 -> 0.19670989 | R28: =O28*$C$16 -> 0 | S28: =O28*$D$16 -> 0.021968626 | T28: =O28*$E$16 -> 0.00050386756 | U28: =O28*$F$16 -> 0 | V28: =H$21-SUMPRODUCT(Q28:U28,H28:L28,$B$20:$F$20)/SUMPRODUCT(Q28:U28,H28:L28) -> -0.041874992 | W28: =(G15*G24+P28*V28*(1-B28))/(B28*O28+P28*(1-B28)) -> 0.37926749 | X28: =W28-V28 -> 0.42114249 | Y28: =W28 -> 0.37926749 | Z28: =SUMPRODUCT(B13:F13,B17:F17) -> 0.056619 | AA28: =SUMPRODUCT($B$14:$F$14,$B$17:$F$17) -> 0.202994 | AB28: =G22/(Z28+(1-AA28)*B28) -> 11.410601 | AC28: =(G22-B28*AB28)/(1-B28) -> 0.62918585 | AD28: =AB28 -> 11.410601 | AE28: =SUMPRODUCT(B13:F13,B18:F18) -> 0.0923 | AF28: =SUMPRODUCT($B$14:$F$14,$B$18:$F$18) -> 0.2713 | AG28: =G23/(AE28+(1-AF28)*B28) -> 4.9504453 | AH28: =(G23-B28*AG28)/(1-B28) -> 0.4479753 | AI28: =AG28 -> 4.9504453 | AJ28: =AD28/AI28/0.254*0.17 -> 1.5426928 | AK28: =O28 -> 0.08666522
A29: 0.02 | B29: =$A$28/(1-A28) -> 0.01010101 | C29: =H28-$B$14*B29 -> 0.12400628 | D29: =I28-B29*$C$14 -> 0 | E29: =J28-B29*$D$14 -> 0.27475176 | F29: =K28-B29*$E$14 -> 0.59124195 | G29: =L28-B29*$F$14 -> 0 | H29: =C29/SUM(C29:G29) -> 0.12525887 | I29: =D29/SUM(C29:G29) -> 0 | J29: =E29/SUM(C29:G29) -> 0.27752703 | K29: =F29/SUM(C29:G29) -> 0.59721409 | L29: =G29/SUM(C29:G29) -> 0 | M29: =SUMPRODUCT($B$16:$F$16,H29:L29) -> 0.35813056 | N29: =SUMPRODUCT($B$14:$F$14,$B$16:$F$16) -> 1.2835116 | O29: =P28/(M29+(1-N29)*B29) -> 0.087850742 | P29: =(P28-O29*B29)/(1-B29) -> 0.03063249 | Q29: =O29*$B$16 -> 0.19940075 | R29: =O29*$C$16 -> 0 | S29: =O29*$D$16 -> 0.022269141 | T29: =O29*$E$16 -> 0.00051076013 | U29: =O29*$F$16 -> 0 | V29: =H$21-SUMPRODUCT(Q29:U29,H29:L29,$B$20:$F$20)/SUMPRODUCT(Q29:U29,H29:L29) -> -0.042126831 | W29: =(X28*P28+P29*V29*(1-B29))/(B29*O29+P29*(1-B29)) -> 0.38021341 | X29: =W29-V29 -> 0.42234024 | Y29: =SUMPRODUCT($W$28:W29,$O$28:O29)/SUM($O$28:O29) -> 0.37974367 | Z29: =SUMPRODUCT(H28:L28,$B$17:$F$17) -> 0.05627158 | AA29: =SUMPRODUCT($B$14:$F$14,$B$17:$F$17) -> 0.202994 | AB29: =AC28/(Z29+(1-AA29)*B29) -> 9.7817919 | AC29: =(AC28-B29*AB29)/(1-B29) -> 0.53579191 | AD29: =SUMPRODUCT(AB$28:AB29,$B$28:$B29)/SUM($B$28:$B29) -> 10.592104 | AE29: =SUMPRODUCT(H28:L28,$B$18:$F$18) -> 0.092348212 | AF29: =SUMPRODUCT($B$14:$F$14,$B$18:$F$18) -> 0.2713 | AG29: =AH28/(AE29+(1-AF29)*B29) -> 4.4928353 | AH29: =(AH28-B29*AG29)/(1-B29) -> 0.40670122 | AI29: =SUMPRODUCT(AG$28:AG29,$B$28:$B29)/SUM($B$28:$B29) -> 4.7204906 | AJ29: =AD29/AI29/0.254*0.17 -> 1.5017938 | AK29: =SUMPRODUCT($O$28:O29,$B$28:B29)/SUMPRODUCT($B$28:B29) -> 0.087260959
A30: 0.03 | B30: =$A$28/(1-A29) -> 0.010204082 | C30: =H29-$B$14*B30 -> 0.12025887 | D30: =I29-B30*$C$14 -> 0 | E30: =J29-B30*$D$14 -> 0.27058826 | F30: =K29-B30*$E$14 -> 0.59905083 | G30: =L29-B30*$F$14 -> 0 | H30: =C30/SUM(C30:G30) -> 0.12148613 | I30: =D30/SUM(C30:G30) -> 0 | J30: =E30/SUM(C30:G30) -> 0.27334965 | K30: =F30/SUM(C30:G30) -> 0.60516422 | L30: =G30/SUM(C30:G30) -> 0 | M30: =SUMPRODUCT($B$16:$F$16,H30:L30) -> 0.34855462 | N30: =SUMPRODUCT($B$14:$F$14,$B$16:$F$16) -> 1.2835116 | O30: =P29/(M30+(1-N30)*B30) -> 0.088619872 | P30: =(P29-O30*B30)/(1-B30) -> 0.030034682 | Q30: =O30*$B$16 -> 0.2011465 | R30: =O30*$C$16 -> 0 | S30: =O30*$D$16 -> 0.022464107 | T30: =O30*$E$16 -> 0.00051523181 | U30: =O30*$F$16 -> 0 | V30: =H$21-SUMPRODUCT(Q30:U30,H30:L30,$B$20:$F$20)/SUMPRODUCT(Q30:U30,H30:L30) -> -0.042397817 | W30: =(X29*P29+P30*V30*(1-B30))/(B30*O30+P30*(1-B30)) -> 0.38119403 | X30: =W30-V30 -> 0.42359185 | Y30: =SUMPRODUCT($W$28:W30,$O$28:O30)/SUM($O$28:O30) -> 0.38023212 | Z30: =SUMPRODUCT(H29:L29,$B$17:$F$17) -> 0.054768824 | AA30: =SUMPRODUCT($B$14:$F$14,$B$17:$F$17) -> 0.202994 | AB30: =AC29/(Z30+(1-AA30)*B30) -> 8.517946 | AC30: =(AC29-B30*AB30)/(1-B30) -> 0.45350166 | AD30: =SUMPRODUCT(AB$28:AB30,$B$28:$B30)/SUM($B$28:$B30) -> 9.8937106 | AE30: =SUMPRODUCT(H29:L29,$B$18:$F$18) -> 0.090512937 | AF30: =SUMPRODUCT($B$14:$F$14,$B$18:$F$18) -> 0.2713 | AG30: =AH29/(AE30+(1-AF30)*B30) -> 4.152188 | AH30: =(AH29-B30*AG30)/(1-B30) -> 0.36808795 | AI30: =SUMPRODUCT(AG$28:AG30,$B$28:$B30)/SUM($B$28:$B30) -> 4.5291364 | AJ30: =AD30/AI30/0.254*0.17 -> 1.4620392 | AK30: =SUMPRODUCT($O$28:O30,$B$28:B30)/SUMPRODUCT($B$28:B30) -> 0.087718521
A31: 0.04 | B31: =$A$28/(1-A30) -> 0.010309278 | C31: =H30-$B$14*B31 -> 0.11643458 | D31: =I30-B31*$C$14 -> 0 | E31: =J30-B31*$D$14 -> 0.26633934 | F31: =K30-B31*$E$14 -> 0.60701989 | G31: =L30-B31*$F$14 -> 0 | H31: =C31/SUM(C31:G31) -> 0.11763519 | I31: =D31/SUM(C31:G31) -> 0 | J31: =E31/SUM(C31:G31) -> 0.26908568 | K31: =F31/SUM(C31:G31) -> 0.61327913 | L31: =G31/SUM(C31:G31) -> 0 | M31: =SUMPRODUCT($B$16:$F$16,H31:L31) -> 0.33878019 | N31: =SUMPRODUCT($B$14:$F$14,$B$16:$F$16) -> 1.2835116 | O31: =P30/(M31+(1-N31)*B31) -> 0.089426891 | P31: =(P30-O31*B31)/(1-B31) -> 0.029416013 | Q31: =O31*$B$16 -> 0.20297825 | R31: =O31*$C$16 -> 0 | S31: =O31*$D$16 -> 0.022668677 | T31: =O31*$E$16 -> 0.00051992378 | U31: =O31*$F$16 -> 0 | V31: =H$21-SUMPRODUCT(Q31:U31,H31:L31,$B$20:$F$20)/SUMPRODUCT(Q31:U31,H31:L31) -> -0.042690217 | W31: =(X30*P30+P31*V31*(1-B31))/(B31*O31+P31*(1-B31)) -> 0.38221202 | X31: =W31-V31 -> 0.42490224 | Y31: =SUMPRODUCT($W$28:W31,$O$28:O31)/SUM($O$28:O31) -> 0.38073432 | Z31: =SUMPRODUCT(H30:L30,$B$17:$F$17) -> 0.053235241 | AA31: =SUMPRODUCT($B$14:$F$14,$B$17:$F$17) -> 0.202994 | AB31: =AC30/(Z31+(1-AA31)*B31) -> 7.3797948 | AC31: =(AC30-B31*AB31)/(1-B31) -> 0.38135277 | AD31: =SUMPRODUCT(AB$28:AB31,$B$28:$B31)/SUM($B$28:$B31) -> 9.2555951 | AE31: =SUMPRODUCT(H30:L30,$B$18:$F$18) -> 0.088640015 | AF31: =SUMPRODUCT($B$14:$F$14,$B$18:$F$18) -> 0.2713 | AG31: =AH30/(AE31+(1-AF31)*B31) -> 3.8281728 | AH31: =(AH30-B31*AG31)/(1-B31) -> 0.3320454 | AI31: =SUMPRODUCT(AG$28:AG31,$B$28:$B31)/SUM($B$28:$B31) -> 4.3512085 | AJ31: =AD31/AI31/0.254*0.17 -> 1.4236711 | AK31: =SUMPRODUCT($O$28:O31,$B$28:B31)/SUMPRODUCT($B$28:B31) -> 0.088152162
A32: 0.05 | B32: =$A$28/(1-A31) -> 0.010416667 | C32: =H31-$B$14*B32 -> 0.11253102 | D32: =I31-B32*$C$14 -> 0 | E32: =J31-B32*$D$14 -> 0.26200234 | F32: =K31-B32*$E$14 -> 0.61515413 | G32: =L31-B32*$F$14 -> 0 | H32: =C32/SUM(C32:G32) -> 0.11370359 | I32: =D32/SUM(C32:G32) -> 0 | J32: =E32/SUM(C32:G32) -> 0.2647324 | K32: =F32/SUM(C32:G32) -> 0.62156401 | L32: =G32/SUM(C32:G32) -> 0 | M32: =SUMPRODUCT($B$16:$F$16,H32:L32) -> 0.32880104 | N32: =SUMPRODUCT($B$14:$F$14,$B$16:$F$16) -> 1.2835116 | O32: =P31/(M32+(1-N32)*B32) -> 0.090275319 | P32: =(P31-O32*B32)/(1-B32) -> 0.028775389 | Q32: =O32*$B$16 -> 0.20490398 | R32: =O32*$C$16 -> 0 | S32: =O32*$D$16 -> 0.022883744 | T32: =O32*$E$16 -> 0.0005248565 | U32: =O32*$F$16 -> 0 | V32: =H$21-SUMPRODUCT(Q32:U32,H32:L32,$B$20:$F$20)/SUMPRODUCT(Q32:U32,H32:L32) -> -0.043006677 | W32: =(X31*P31+P32*V32*(1-B32))/(B32*O32+P32*(1-B32)) -> 0.38327039 | X32: =W32-V32 -> 0.42627707 | Y32: =SUMPRODUCT($W$28:W32,$O$28:O32)/SUM($O$28:O32) -> 0.38125132 | Z32: =SUMPRODUCT(H31:L31,$B$17:$F$17) -> 0.051669872 | AA32: =SUMPRODUCT($B$14:$F$14,$B$17:$F$17) -> 0.202994 | AB32: =AC31/(Z32+(1-AA32)*B32) -> 6.3588451 | AC32: =(AC31-B32*AB32)/(1-B32) -> 0.3184318 | AD32: =SUMPRODUCT(AB$28:AB32,$B$28:$B32)/SUM($B$28:$B32) -> 8.6642985 | AE32: =SUMPRODUCT(H31:L31,$B$18:$F$18) -> 0.086728272 | AF32: =SUMPRODUCT($B$14:$F$14,$B$18:$F$18) -> 0.2713 | AG32: =AH31/(AE32+(1-AF32)*B32) -> 3.5204547 | AH32: =(AH31-B32*AG32)/(1-B32) -> 0.2984832 | AI32: =SUMPRODUCT(AG$28:AG32,$B$28:$B32)/SUM($B$28:$B32) -> 4.1816316 | AJ32: =AD32/AI32/0.254*0.17 -> 1.3867649 | AK32: =SUMPRODUCT($O$28:O32,$B$28:B32)/SUMPRODUCT($B$28:B32) -> 0.08858555
A33: 0.06 | B33: =$A$28/(1-A32) -> 0.010526316 | C33: =H32-$B$14*B33 -> 0.1085457 | D33: =I32-B33*$C$14 -> 0 | E33: =J32-B33*$D$14 -> 0.2575745 | F33: =K32-B33*$E$14 -> 0.62345875 | G33: =L32-B33*$F$14 -> 0 | H33: =C33/SUM(C33:G33) -> 0.10968877 | I33: =D33/SUM(C33:G33) -> 0 | J33: =E33/SUM(C33:G33) -> 0.26028697 | K33: =F33/SUM(C33:G33) -> 0.63002426 | L33: =G33/SUM(C33:G33) -> 0 | M33: =SUMPRODUCT($B$16:$F$16,H33:L33) -> 0.31861065 | N33: =SUMPRODUCT($B$14:$F$14,$B$16:$F$16) -> 1.2835116 | O33: =P32/(M33+(1-N33)*B33) -> 0.09116917 | P33: =(P32-O33*B33)/(1-B33) -> 0.028111625 | Q33: =O33*$B$16 -> 0.20693281 | R33: =O33*$C$16 -> 0 | S33: =O33*$D$16 -> 0.023110324 | T33: =O33*$E$16 -> 0.00053005331 | U33: =O33*$F$16 -> 0 | V33: =H$21-SUMPRODUCT(Q33:U33,H33:L33,$B$20:$F$20)/SUMPRODUCT(Q33:U33,H33:L33) -> -0.043350293 | W33: =(X32*P32+P33*V33*(1-B33))/(B33*O33+P33*(1-B33)) -> 0.38437253 | X33: =W33-V33 -> 0.42772283 | Y33: =SUMPRODUCT($W$28:W33,$O$28:O33)/SUM($O$28:O33) -> 0.38178419 | Z33: =SUMPRODUCT(H32:L32,$B$17:$F$17) -> 0.050071716 | AA33: =SUMPRODUCT($B$14:$F$14,$B$17:$F$17) -> 0.202994 | AB33: =AC32/(Z33+(1-AA33)*B33) -> 5.4468864 | AC33: =(AC32-B33*AB33)/(1-B33) -> 0.26387377 | AD33: =SUMPRODUCT(AB$28:AB33,$B$28:$B33)/SUM($B$28:$B33) -> 8.1141206 | AE33: =SUMPRODUCT(H32:L32,$B$18:$F$18) -> 0.084776488 | AF33: =SUMPRODUCT($B$14:$F$14,$B$18:$F$18) -> 0.2713 | AG33: =AH32/(AE33+(1-AF33)*B33) -> 3.2286948 | AH33: =(AH32-B33*AG33)/(1-B33) -> 0.26731073 | AI33: =SUMPRODUCT(AG$28:AG33,$B$28:$B33)/SUM($B$28:$B33) -> 4.0186793 | AJ33: =AD33/AI33/0.254*0.17 -> 1.351367 | AK33: =SUMPRODUCT($O$28:O33,$B$28:B33)/SUMPRODUCT($B$28:B33) -> 0.089027349
A34: 0.07 | B34: =$A$28/(1-A33) -> 0.010638298 | C34: =H33-$B$14*B34 -> 0.104476 | D34: =I33-B34*$C$14 -> 0 | E34: =J33-B34*$D$14 -> 0.25305292 | F34: =K33-B34*$E$14 -> 0.63193916 | G34: =L33-B34*$F$14 -> 0 | H34: =C34/SUM(C34:G34) -> 0.10558805 | I34: =D34/SUM(C34:G34) -> 0 | J34: =E34/SUM(C34:G34) -> 0.25574642 | K34: =F34/SUM(C34:G34) -> 0.63866553 | L34: =G34/SUM(C34:G34) -> 0 | M34: =SUMPRODUCT($B$16:$F$16,H34:L34) -> 0.30820223 | N34: =SUMPRODUCT($B$14:$F$14,$B$16:$F$16) -> 1.2835116 | O34: =P33/(M34+(1-N34)*B34) -> 0.092113045 | P34: =(P33-O34*B34)/(1-B34) -> 0.027423438 | Q34: =O34*$B$16 -> 0.20907519 | R34: =O34*$C$16 -> 0 | S34: =O34*$D$16 -> 0.023349586 | T34: =O34*$E$16 -> 0.00053554096 | U34: =O34*$F$16 -> 0 | V34: =H$21-SUMPRODUCT(Q34:U34,H34:L34,$B$20:$F$20)/SUMPRODUCT(Q34:U34,H34:L34) -> -0.043724718 | W34: =(X33*P33+P34*V34*(1-B34))/(B34*O34+P34*(1-B34)) -> 0.38552228 | X34: =W34-V34 -> 0.429247 | Y34: =SUMPRODUCT($W$28:W34,$O$28:O34)/SUM($O$28:O34) -> 0.38233413 | Z34: =SUMPRODUCT(H33:L33,$B$17:$F$17) -> 0.04843973 | AA34: =SUMPRODUCT($B$14:$F$14,$B$17:$F$17) -> 0.202994 | AB34: =AC33/(Z34+(1-AA34)*B34) -> 4.6359917 | AC34: =(AC33-B34*AB34)/(1-B34) -> 0.21686175 | AD34: =SUMPRODUCT(AB$28:AB34,$B$28:$B34)/SUM($B$28:$B34) -> 7.6016053 | AE34: =SUMPRODUCT(H33:L33,$B$18:$F$18) -> 0.082783389 | AF34: =SUMPRODUCT($B$14:$F$14,$B$18:$F$18) -> 0.2713 | AG34: =AH33/(AE34+(1-AF34)*B34) -> 2.952551 | AH34: =(AH33-B34*AG34)/(1-B34) -> 0.23843718 | AI34: =SUMPRODUCT(AG$28:AG34,$B$28:$B34)/SUM($B$28:$B34) -> 3.8615813 | AJ34: =AD34/AI34/0.254*0.17 -> 1.3175143 | AK34: =SUMPRODUCT($O$28:O34,$B$28:B34)/SUMPRODUCT($B$28:B34) -> 0.089482038
A35: 0.08 | B35: =$A$28/(1-A34) -> 0.010752688 | C35: =H34-$B$14*B35 -> 0.10031923 | D35: =I34-B35*$C$14 -> 0 | E35: =J34-B35*$D$14 -> 0.2484346 | F35: =K34-B35*$E$14 -> 0.64060101 | G35: =L34-B35*$F$14 -> 0 | H35: =C35/SUM(C35:G35) -> 0.10139863 | I35: =D35/SUM(C35:G35) -> 0 | J35: =E35/SUM(C35:G35) -> 0.25110768 | K35: =F35/SUM(C35:G35) -> 0.64749369 | L35: =G35/SUM(C35:G35) -> 0 | M35: =SUMPRODUCT($B$16:$F$16,H35:L35) -> 0.29756869 | N35: =SUMPRODUCT($B$14:$F$14,$B$16:$F$16) -> 1.2835116 | O35: =P34/(M35+(1-N35)*B35) -> 0.093112254 | P35: =(P34-O35*B35)/(1-B35) -> 0.026709429 | Q35: =O35*$B$16 -> 0.21134316 | R35: =O35*$C$16 -> 0 | S35: =O35*$D$16 -> 0.023602874 | T35: =O35*$E$16 -> 0.00054135031 | U35: =O35*$F$16 -> 0 | V35: =H$21-SUMPRODUCT(Q35:U35,H35:L35,$B$20:$F$20)/SUMPRODUCT(Q35:U35,H35:L35) -> -0.044134291 | W35: =(X34*P34+P35*V35*(1-B35))/(B35*O35+P35*(1-B35)) -> 0.38672402 | X35: =W35-V35 -> 0.43085831 | Y35: =SUMPRODUCT($W$28:W35,$O$28:O35)/SUM($O$28:O35) -> 0.38290245 | Z35: =SUMPRODUCT(H34:L34,$B$17:$F$17) -> 0.046772826 | AA35: =SUMPRODUCT($B$14:$F$14,$B$17:$F$17) -> 0.202994 | AB35: =AC34/(Z35+(1-AA35)*B35) -> 3.9185191 | AC35: =(AC34-B35*AB35)/(1-B35) -> 0.17662635 | AD35: =SUMPRODUCT(AB$28:AB35,$B$28:$B35)/SUM($B$28:$B35) -> 7.1241627 | AE35: =SUMPRODUCT(H34:L34,$B$18:$F$18) -> 0.080747646 | AF35: =SUMPRODUCT($B$14:$F$14,$B$18:$F$18) -> 0.2713 | AG35: =AH34/(AE35+(1-AF35)*B35) -> 2.6916771 | AH35: =(AH34-B35*AG35)/(1-B35) -> 0.21177153 | AI35: =SUMPRODUCT(AG$28:AG35,$B$28:$B35)/SUM($B$28:$B35) -> 3.7099253 | AJ35: =AD35/AI35/0.254*0.17 -> 1.2852389 | AK35: =SUMPRODUCT($O$28:O35,$B$28:B35)/SUMPRODUCT($B$28:B35) -> 0.089952627
A36: 0.09 | B36: =$A$28/(1-A35) -> 0.010869565 | C36: =H35-$B$14*B36 -> 0.096072548 | D36: =I35-B36*$C$14 -> 0 | E36: =J35-B36*$D$14 -> 0.24371637 | F36: =K35-B36*$E$14 -> 0.64945021 | G36: =L35-B36*$F$14 -> 0 | H36: =C36/SUM(C36:G36) -> 0.097117618 | I36: =D36/SUM(C36:G36) -> 0 | J36: =E36/SUM(C36:G36) -> 0.2463675 | K36: =F36/SUM(C36:G36) -> 0.65651488 | L36: =G36/SUM(C36:G36) -> 0 | M36: =SUMPRODUCT($B$16:$F$16,H36:L36) -> 0.28670265 | N36: =SUMPRODUCT($B$14:$F$14,$B$16:$F$16) -> 1.2835116 | O36: =P35/(M36+(1-N36)*B36) -> 0.094172959 | P36: =(P35-O36*B36)/(1-B36) -> 0.025968072 | Q36: =O36*$B$16 -> 0.21375072 | R36: =O36*$C$16 -> 0 | S36: =O36*$D$16 -> 0.02387175 | T36: =O36*$E$16 -> 0.00054751721 | U36: =O36*$F$16 -> 0 | V36: =H$21-SUMPRODUCT(Q36:U36,H36:L36,$B$20:$F$20)/SUMPRODUCT(Q36:U36,H36:L36) -> -0.044584204 | W36: =(X35*P35+P36*V36*(1-B36))/(B36*O36+P36*(1-B36)) -> 0.38798276 | X36: =W36-V36 -> 0.43256696 | Y36: =SUMPRODUCT($W$28:W36,$O$28:O36)/SUM($O$28:O36) -> 0.38349063 | Z36: =SUMPRODUCT(H35:L35,$B$17:$F$17) -> 0.045069871 | AA36: =SUMPRODUCT($B$14:$F$14,$B$17:$F$17) -> 0.202994 | AB36: =AC35/(Z36+(1-AA36)*B36) -> 3.2871124 | AC36: =(AC35-B36*AB36)/(1-B36) -> 0.14244518 | AD36: =SUMPRODUCT(AB$28:AB36,$B$28:$B36)/SUM($B$28:$B36) -> 6.6796093 | AE36: =SUMPRODUCT(H35:L35,$B$18:$F$18) -> 0.078667874 | AF36: =SUMPRODUCT($B$14:$F$14,$B$18:$F$18) -> 0.2713 | AG36: =AH35/(AE36+(1-AF36)*B36) -> 2.4457228 | AH36: =(AH35-B36*AG36)/(1-B36) -> 0.18722262 | AI36: =SUMPRODUCT(AG$28:AG36,$B$28:$B36)/SUM($B$28:$B36) -> 3.5634572 | AJ36: =AD36/AI36/0.254*0.17 -> 1.2545695 | AK36: =SUMPRODUCT($O$28:O36,$B$28:B36)/SUMPRODUCT($B$28:B36) -> 0.090441587
A37: 0.1 | B37: =$A$28/(1-A36) -> 0.010989011 | C37: =H36-$B$14*B37 -> 0.091733003 | D37: =I36-B37*$C$14 -> 0 | E37: =J36-B37*$D$14 -> 0.23889497 | F37: =K36-B37*$E$14 -> 0.6584929 | G37: =L36-B37*$F$14 -> 0 | H37: =C37/SUM(C37:G37) -> 0.092741953 | I37: =D37/SUM(C37:G37) -> 0 | J37: =E37/SUM(C37:G37) -> 0.24152253 | K37: =F37/SUM(C37:G37) -> 0.66573552 | L37: =G37/SUM(C37:G37) -> 0 | M37: =SUMPRODUCT($B$16:$F$16,H37:L37) -> 0.27559637 | N37: =SUMPRODUCT($B$14:$F$14,$B$16:$F$16) -> 1.2835116 | O37: =P36/(M37+(1-N37)*B37) -> 0.095302369 | P37: =(P36-O37*B37)/(1-B37) -> 0.025197691 | Q37: =O37*$B$16 -> 0.21631422 | R37: =O37*$C$16 -> 0 | S37: =O37*$D$16 -> 0.024158042 | T37: =O37*$E$16 -> 0.00055408354 | U37: =O37*$F$16 -> 0 | V37: =H$21-SUMPRODUCT(Q37:U37,H37:L37,$B$20:$F$20)/SUMPRODUCT(Q37:U37,H37:L37) -> -0.045080727 | W37: =(X36*P36+P37*V37*(1-B37))/(B37*O37+P37*(1-B37)) -> 0.38930432 | X37: =W37-V37 -> 0.43438505 | Y37: =SUMPRODUCT($W$28:W37,$O$28:O37)/SUM($O$28:O37) -> 0.38410035 | Z37: =SUMPRODUCT(H36:L36,$B$17:$F$17) -> 0.04332968 | AA37: =SUMPRODUCT($B$14:$F$14,$B$17:$F$17) -> 0.202994 | AB37: =AC36/(Z37+(1-AA37)*B37) -> 2.7347031 | AC37: =(AC36-B37*AB37)/(1-B37) -> 0.11364231 | AD37: =SUMPRODUCT(AB$28:AB37,$B$28:$B37)/SUM($B$28:$B37) -> 6.2659856 | AE37: =SUMPRODUCT(H36:L36,$B$18:$F$18) -> 0.076542626 | AF37: =SUMPRODUCT($B$14:$F$14,$B$18:$F$18) -> 0.2713 | AG37: =AH36/(AE37+(1-AF37)*B37) -> 2.2143337 | AH37: =(AH36-B37*AG37)/(1-B37) -> 0.16469916 | AI37: =SUMPRODUCT(AG$28:AG37,$B$28:$B37)/SUM($B$28:$B37) -> 3.4220015 | AJ37: =AD37/AI37/0.254*0.17 -> 1.2255313 | AK37: =SUMPRODUCT($O$28:O37,$B$28:B37)/SUMPRODUCT($B$28:B37) -> 0.09095124
A38: 0.11 | B38: =$A$28/(1-A37) -> 0.011111111 | C38: =H37-$B$14*B38 -> 0.087297509 | D38: =I37-B38*$C$14 -> 0 | E38: =J37-B38*$D$14 -> 0.23396697 | F38: =K37-B38*$E$14 -> 0.66773552 | G38: =L37-B38*$F$14 -> 0 | H38: =C38/SUM(C38:G38) -> 0.088268462 | I38: =D38/SUM(C38:G38) -> 0 | J38: =E38/SUM(C38:G38) -> 0.23656923 | K38: =F38/SUM(C38:G38) -> 0.6751623 | L38: =G38/SUM(C38:G38) -> 0 | M38: =SUMPRODUCT($B$16:$F$16,H38:L38) -> 0.26424179 | N38: =SUMPRODUCT($B$14:$F$14,$B$16:$F$16) -> 1.2835116 | O38: =P37/(M38+(1-N38)*B38) -> 0.096508982 | P38: =(P37-O38*B38)/(1-B38) -> 0.02439644 | Q38: =O38*$B$16 -> 0.21905294 | R38: =O38*$C$16 -> 0 | S38: =O38*$D$16 -> 0.024463905 | T38: =O38*$E$16 -> 0.00056109873 | U38: =O38*$F$16 -> 0 | V38: =H$21-SUMPRODUCT(Q38:U38,H38:L38,$B$20:$F$20)/SUMPRODUCT(Q38:U38,H38:L38) -> -0.0456315 | W38: =(X37*P37+P38*V38*(1-B38))/(B38*O38+P38*(1-B38)) -> 0.39069546 | X38: =W38-V38 -> 0.43632696 | Y38: =SUMPRODUCT($W$28:W38,$O$28:O38)/SUM($O$28:O38) -> 0.38473353 | Z38: =SUMPRODUCT(H37:L37,$B$17:$F$17) -> 0.041551015 | AA38: =SUMPRODUCT($B$14:$F$14,$B$17:$F$17) -> 0.202994 | AB38: =AC37/(Z38+(1-AA38)*B38) -> 2.2545109 | AC38: =(AC37-B38*AB38)/(1-B38) -> 0.089587611 | AD38: =SUMPRODUCT(AB$28:AB38,$B$28:$B38)/SUM($B$28:$B38) -> 5.881473 | AE38: =SUMPRODUCT(H37:L37,$B$18:$F$18) -> 0.074370392 | AF38: =SUMPRODUCT($B$14:$F$14,$B$18:$F$18) -> 0.2713 | AG38: =AH37/(AE38+(1-AF38)*B38) -> 1.9971509 | AH38: =(AH37-B38*AG38)/(1-B38) -> 0.14410981 | AI38: =SUMPRODUCT(AG$28:AG38,$B$28:$B38)/SUM($B$28:$B38) -> 3.285425 | AJ38: =AD38/AI38/0.254*0.17 -> 1.198146 | AK38: =SUMPRODUCT($O$28:O38,$B$28:B38)/SUMPRODUCT($B$28:B38) -> 0.091483967
A39: 0.12 | B39: =$A$28/(1-A38) -> 0.011235955 | C39: =H38-$B$14*B39 -> 0.082762844 | D39: =I38-B39*$C$14 -> 0 | E39: =J38-B39*$D$14 -> 0.22892878 | F39: =K38-B39*$E$14 -> 0.67718478 | G39: =L38-B39*$F$14 -> 0 | H39: =C39/SUM(C39:G39) -> 0.08369382 | I39: =D39/SUM(C39:G39) -> 0 | J39: =E39/SUM(C39:G39) -> 0.23150394 | K39: =F39/SUM(C39:G39) -> 0.68480224 | L39: =G39/SUM(C39:G39) -> 0 | M39: =SUMPRODUCT($B$16:$F$16,H39:L39) -> 0.25263047 | N39: =SUMPRODUCT($B$14:$F$14,$B$16:$F$16) -> 1.2835116 | O39: =P38/(M39+(1-N39)*B39) -> 0.097802903 | P39: =(P38-O39*B39)/(1-B39) -> 0.023562276 | Q39: =O39*$B$16 -> 0.22198984 | R39: =O39*$C$16 -> 0 | S39: =O39*$D$16 -> 0.024791899 | T39: =O39*$E$16 -> 0.00056862153 | U39: =O39*$F$16 -> 0 | V39: =H$21-SUMPRODUCT(Q39:U39,H39:L39,$B$20:$F$20)/SUMPRODUCT(Q39:U39,H39:L39) -> -0.046245927 | W39: =(X38*P38+P39*V39*(1-B39))/(B39*O39+P39*(1-B39)) -> 0.39216412 | X39: =W39-V39 -> 0.43841005 | Y39: =SUMPRODUCT($W$28:W39,$O$28:O39)/SUM($O$28:O39) -> 0.38539239 | Z39: =SUMPRODUCT(H38:L38,$B$17:$F$17) -> 0.039732585 | AA39: =SUMPRODUCT($B$14:$F$14,$B$17:$F$17) -> 0.202994 | AB39: =AC38/(Z39+(1-AA39)*B39) -> 1.8400458 | AC39: =(AC38-B39*AB39)/(1-B39) -> 0.069696041 | AD39: =SUMPRODUCT(AB$28:AB39,$B$28:$B39)/SUM($B$28:$B39) -> 5.5243525 | AE39: =SUMPRODUCT(H38:L38,$B$18:$F$18) -> 0.072149593 | AF39: =SUMPRODUCT($B$14:$F$14,$B$18:$F$18) -> 0.2713 | AG39: =AH38/(AE39+(1-AF39)*B39) -> 1.793811 | AH39: =(AH38-B39*AG39)/(1-B39) -> 0.12536321 | AI39: =SUMPRODUCT(AG$28:AG39,$B$28:$B39)/SUM($B$28:$B39) -> 3.1536186 | AJ39: =AD39/AI39/0.254*0.17 -> 1.1724313 | AK39: =SUMPRODUCT($O$28:O39,$B$28:B39)/SUMPRODUCT($B$28:B39) -> 0.09204234
A40: 0.13 | B40: =$A$28/(1-A39) -> 0.011363636 | C40: =H39-$B$14*B40 -> 0.078125638 | D40: =I39-B40*$C$14 -> 0 | E40: =J39-B40*$D$14 -> 0.22377667 | F40: =K39-B40*$E$14 -> 0.68684769 | G40: =L39-B40*$F$14 -> 0 | H40: =C40/SUM(C40:G40) -> 0.079014552 | I40: =D40/SUM(C40:G40) -> 0 | J40: =E40/SUM(C40:G40) -> 0.2263228 | K40: =F40/SUM(C40:G40) -> 0.69466265 | L40: =G40/SUM(C40:G40) -> 0 | M40: =SUMPRODUCT($B$16:$F$16,H40:L40) -> 0.24075359 | N40: =SUMPRODUCT($B$14:$F$14,$B$16:$F$16) -> 1.2835116 | O40: =P39/(M40+(1-N40)*B40) -> 0.099196272 | P40: =(P39-O40*B40)/(1-B40) -> 0.02269292 | Q40: =O40*$B$16 -> 0.22515247 | R40: =O40*$C$16 -> 0 | S40: =O40*$D$16 -> 0.025145101 | T40: =O40*$E$16 -> 0.00057672251 | U40: =O40*$F$16 -> 0 | V40: =H$21-SUMPRODUCT(Q40:U40,H40:L40,$B$20:$F$20)/SUMPRODUCT(Q40:U40,H40:L40) -> -0.046935722 | W40: =(X39*P39+P40*V40*(1-B40))/(B40*O40+P40*(1-B40)) -> 0.39371976 | X40: =W40-V40 -> 0.44065548 | Y40: =SUMPRODUCT($W$28:W40,$O$28:O40)/SUM($O$28:O40) -> 0.38607949 | Z40: =SUMPRODUCT(H39:L39,$B$17:$F$17) -> 0.037873038 | AA40: =SUMPRODUCT($B$14:$F$14,$B$17:$F$17) -> 0.202994 | AB40: =AC39/(Z40+(1-AA40)*B40) -> 1.4851088 | AC40: =(AC39-B40*AB40)/(1-B40) -> 0.05342693 | AD40: =SUMPRODUCT(AB$28:AB40,$B$28:$B40)/SUM($B$28:$B40) -> 5.1929831 | AE40: =SUMPRODUCT(H39:L39,$B$18:$F$18) -> 0.069878579 | AF40: =SUMPRODUCT($B$14:$F$14,$B$18:$F$18) -> 0.2713 | AG40: =AH39/(AE40+(1-AF40)*B40) -> 1.6039457 | AH40: =(AH39-B40*AG40)/(1-B40) -> 0.10836801 | AI40: =SUMPRODUCT(AG$28:AG40,$B$28:$B40)/SUM($B$28:$B40) -> 3.0264874 | AJ40: =AD40/AI40/0.254*0.17 -> 1.1484002 | AK40: =SUMPRODUCT($O$28:O40,$B$28:B40)/SUMPRODUCT($B$28:B40) -> 0.09262923
... A49: 0.22 | B49: =$A$28/(1-A48) -> 0.012658228 | C49: =H48-$B$14*B49 -> 0.031136301 | D49: =I48-B49*$C$14 -> 0 | E49: =J48-B49*$D$14 -> 0.17156957 | F49: =K48-B49*$E$14 -> 0.78476248 | G49: =L48-B49*$F$14 -> 0 | H49: =C49/SUM(C49:G49) -> 0.031531442 | I49: =D49/SUM(C49:G49) -> 0 | J49: =E49/SUM(C49:G49) -> 0.17374691 | K49: =F49/SUM(C49:G49) -> 0.79472165 | L49: =G49/SUM(C49:G49) -> 0 | M49: =SUMPRODUCT($B$16:$F$16,H49:L49) -> 0.12023234 | N49: =SUMPRODUCT($B$14:$F$14,$B$16:$F$16) -> 1.2835116 | O49: =P48/(M49+(1-N49)*B49) -> 0.1206175 | P49: =(P48-O49*B49)/(1-B49) -> 0.012703254 | Q49: =O49*$B$16 -> 0.27377368 | R49: =O49*$C$16 -> 0 | S49: =O49*$D$16 -> 0.030575134 | T49: =O49*$E$16 -> 0.00070126455 | U49: =O49*$F$16 -> 0 | V49: =H$21-SUMPRODUCT(Q49:U49,H49:L49,$B$20:$F$20)/SUMPRODUCT(Q49:U49,H49:L49) -> -0.061643455 | W49: =(X48*P48+P49*V49*(1-B49))/(B49*O49+P49*(1-B49)) -> 0.41496649 | X49: =W49-V49 -> 0.47660995 | Y49: =SUMPRODUCT($W$28:W49,$O$28:O49)/SUM($O$28:O49) -> 0.39433611 | Z49: =SUMPRODUCT(H48:L48,$B$17:$F$17) -> 0.019030189 | AA49: =SUMPRODUCT($B$14:$F$14,$B$17:$F$17) -> 0.202994 | AB49: =AC48/(Z49+(1-AA49)*B49) -> 0.092929435 | AC49: =(AC48-B49*AB49)/(1-B49) -> 0.0015492897 | AD49: =SUMPRODUCT(AB$28:AB49,$B$28:$B49)/SUM($B$28:$B49) -> 3.1278779 | AE49: =SUMPRODUCT(H48:L48,$B$18:$F$18) -> 0.046866328 | AF49: =SUMPRODUCT($B$14:$F$14,$B$18:$F$18) -> 0.2713 | AG49: =AH48/(AE49+(1-AF49)*B49) -> 0.43793799 | AH49: =(AH48-B49*AG49)/(1-B49) -> 0.019264443 | AI49: =SUMPRODUCT(AG$28:AG49,$B$28:$B49)/SUM($B$28:$B49) -> 2.0793938 | AJ49: =AD49/AI49/0.254*0.17 -> 1.0067653 | AK49: =SUMPRODUCT($O$28:O49,$B$28:B49)/SUMPRODUCT($B$28:B49) -> 0.10002663
A50: Parameters sources: a. Workman and Hart (2005); b. Salters and Stracke (2004); c. Antonelli et al. (2019); d. Zhang et al. (2018); e. Sun and McDonough (1989); f. Kang et al. (2017).
A51: g. The subscript N denotes normalization of residual phases to 100%.
A53: References
A54: Antonelli, M.A., Schiller, M., Schauble, E.A., Mittal, T., DePaolo, D.J., Chacko, T., Grew, E.S., Tripoli, B. (2019) Kinetic and equilibrium Ca isotope effects in high-T rocks and minerals. Earth and Planetary Science Letters 517, 71–82.
A55: Kang, J.-T., Ionov, D.A., Liu, F., Zhang, C.-L., Golovin, A.V., Qin, L.-P., Zhang, Z.-F., Huang, F. (2017) Calcium isotopic fractionation in mantle peridotites by melting and metasomatism and Ca isotope composition of the Bulk Silicate Earth. Earth and Planetary Science Letters 474, 128–137.
A56: Salters, V.J.M., Stracke, A. (2004) Composition of the depleted mantle. Geochemistry, Geophysics, Geosystems 5, 2003GC000597.
A57: Sun, S. -s., McDonough, W.F. (1989) Chemical and isotopic systematics of oceanic basalts: implications for mantle composition and processes. Geological Society, London, Special Publications 42, 313–345.
A58: Workman, R.K., Hart, S.R. (2005) Major and trace element composition of the depleted MORB mantle (DMM). Earth and Planetary Science Letters 231, 53–72.
A59: Zhang, H., Wang, Y., He, Y., Teng, F., Jacobsen, S.B., Helz, R.T., Marsh, B.D., Huang, S. (2018) No Measurable Calcium Isotopic Fractionation During Crystallization of Kilauea Iki Lava Lake. Geochemistry, Geophysics, Geosystems 19, 3128–3139.
...

Sheet Table S-6
A8: Table S-6 Calcium isotopic compositions of garnet peridotite melt.
A11: Input parameters for the garnet peridotite melting model used in this study
B12: Cpx | C12: Grt | D12: Opx | E12: Ol | G12: Sum | H12: Liquid
A13: Initial modea | B13: 0.226 | C13: 0.089 | D13: 0.077 | E13: 0.608 | G13: =SUM(B13:F13) -> 1
A14: Melting modeb | B14: 0.80952381 | C14: 0.29761905 | D14: -0.19047619 | E14: 0.083333333 | G14: =SUM(B14:F14) -> 1
A15: CaOa | B15: 0.1377 | C15: 0.0577 | D15: 0.0223 | E15: 0.0024 | G15: =SUMPRODUCT(B13:F13,B15:F15) -> 0.0394318 | H15: 0.1083
A16: DCaa | B16: =B15/$H$15 -> 1.2714681 | C16: =C15/$H$15 -> 0.53277932 | D16: =D15/$H$15 -> 0.20590951 | E16: =E15/$H$15 -> 0.022160665 | G16: =SUMPRODUCT(B13:F13,B16:F16) -> 0.36409788
A17: DDyc | B17: 0.17 | C17: 2 | D17: 0.065 | E17: 0.0027
A18: DYbc | B18: 0.25625 | C18: 3.95425 | D18: 0.08 | E18: 0.02
A19: 1000lnβ at 1000 Kd, e | B19: 1.32 | C19: 2.03 | D19: 1.85 | E19: 2.08 | H19: 1.19
A20: Δ44/42Camineral–cpx at 1673 Kd | B20: =(1.32-1.32)/2.048/(1673/1000)^2 -> 0 | C20: =(2.03-1.32)/2.048/(1673/1000)^2 -> 0.12386155 | D20: =(1.85-1.32)/2.048/(1673/1000)^2 -> 0.092460031 | E20: =(2.08-1.32)/2.048/(1673/1000)^2 -> 0.1325842
A21: Δ44/42Camelt–cpx at 1673 Kd, e | H21: =(1.19-1.32)/2.048/(1673/1000)^2 -> -0.022678876
A22: Initial Dyf | G22: 0.737
A23: Initial Ybf | G23: 0.493
A24: Initial δ44/42Cag | G24: 0.42
A26: Results of garnet peridotite melting calculations using the non-modal batch melting model.
A27: F | B27: f | C27: cpxresidue | D27: grtresidue | E27: opxresidue | F27: olresidue | H27: (cpxresidue)Ng | I27: (grtresidue)N | J27: (opxresidue)N | K27: (olresidue)N | M27: DCa | N27: PCa | O27: CaOinstant melt | P27: CaOresidue | Q27: CaOcpx residue | R27: CaOgrt residue | S27: CaOopx residue | T27: CaOol residue | U27: CaOsp residue | V27: Δ44/42Camelt-residue | W27: δ44/42Cainstant melt | X27: δ44/42Caresidue | Y27: δ44/42Caaggregate melt | Z27: DDy | AA27: PDy | AB27: Dyinstant melt | AC27: DyResidue | AD27: Dyaggregate melt | AE27: DYb | AF27: PYb | AG27: Ybinstant melt | AH27: Ybresidue | AI27: Ybaggregate melt | AJ27: (Dy/Yb)N aggregate melt | AK27: CaOaggregate melt
A28: 0.01 | B28: =A28 -> 0.01 | C28: =$B$13-A28*$B$14 -> 0.21790476 | D28: =$C$13-A28*$C$14 -> 0.08602381 | E28: =$D$13-A28*$D$14 -> 0.078904762 | F28: =$E$13-A28*$E$14 -> 0.60716667 | H28: =C28/SUM(C28:G28) -> 0.22010582 | I28: =D28/SUM(C28:G28) -> 0.086892737 | J28: =E28/SUM(C28:G28) -> 0.07970178 | K28: =F28/SUM(C28:G28) -> 0.61329966 | M28: =SUMPRODUCT(B13:E13,B16:E16) -> 0.36409788 | N28: =SUMPRODUCT($B$14:$E$14,$B$16:$E$16) -> 1.1504749 | O28: =G15/(M28+(1-N28)*B28) -> 0.10874944 | P28: =(G15-O28*B28)/(1-B28) -> 0.038731622 | Q28: =O28*$B$16 -> 0.13827145 | R28: =O28*$C$16 -> 0.057939453 | S28: =O28*$D$16 -> 0.022392544 | T28: =O28*$E$16 -> 0.0024099599 | U28: =O28*$F$16 -> 0 | V28: =H$21-SUMPRODUCT(Q28:U28,H28:L28,$B$20:$F$20)/SUMPRODUCT(Q28:U28,H28:L28) -> -0.048098985 | W28: =(G15*G24+P28*V28*(1-B28))/(B28*O28+P28*(1-B28)) -> 0.37322754 | X28: =W28-V28 -> 0.42132653 | Y28: =W28 -> 0.37322754 | Z28: =SUMPRODUCT(B13:E13,B17:E17) -> 0.2230666 | AA28: =SUMPRODUCT($B$14:$E$14,$B$17:$E$17) -> 0.72070119 | AB28: =G22/(Z28+(1-AA28)*B28) -> 3.2630893 | AC28: =(G22-B28*AB28)/(1-B28) -> 0.71148395 | AD28: =AB28 -> 3.2630893 | AE28: =SUMPRODUCT(B13:E13,B18:E18) -> 0.42816075 | AF28: =SUMPRODUCT($B$14:$E$14,$B$18:$E$18) -> 1.3707292 | AG28: =G23/(AE28+(1-AF28)*B28) -> 1.1614937 | AH28: =(G23-B28*AG28)/(1-B28) -> 0.48624754 | AI28: =AG28 -> 1.1614937 | AJ28: =AD28/AI28/0.254*0.17 -> 1.8803007 | AK28: =O28 -> 0.10874944
A29: 0.02 | B29: =$A$28/(1-A28) -> 0.01010101 | C29: =H28-$B$14*B29 -> 0.21192881 | D29: =I28-B29*$C$14 -> 0.083886484 | E29: =J28-B29*$D$14 -> 0.081625782 | F29: =K28-B29*$E$14 -> 0.61245791 | H29: =C29/SUM(C29:G29) -> 0.21409135 | I29: =D29/SUM(C29:G29) -> 0.084742468 | J29: =E29/SUM(C29:G29) -> 0.082458698 | K29: =F29/SUM(C29:G29) -> 0.61870748 | M29: =SUMPRODUCT($B$16:$E$16,H29:K29) -> 0.34804937 | N29: =SUMPRODUCT($B$14:$E$14,$B$16:$E$16) -> 1.1504749 | O29: =P28/(M29+(1-N29)*B29) -> 0.11177008 | P29: =(P28-O29*B29)/(1-B29) -> 0.037986331 | Q29: =O29*$B$16 -> 0.1421121 | R29: =O29*$C$16 -> 0.059548788 | S29: =O29*$D$16 -> 0.023014523 | T29: =O29*$E$16 -> 0.0024768993 | U29: =O29*$F$16 -> 0 | V29: =H$21-SUMPRODUCT(Q29:U29,H29:L29,$B$20:$F$20)/SUMPRODUCT(Q29:U29,H29:L29) -> -0.048479724 | W29: =(X28*P28+P29*V29*(1-B29))/(B29*O29+P29*(1-B29)) -> 0.37425994 | X29: =W29-V29 -> 0.42273967 | Y29: =SUMPRODUCT($W$28:W29,$O$28:O29)/SUM($O$28:O29) -> 0.37375081 | Z29: =SUMPRODUCT(H28:K28,$B$17:$E$17) -> 0.21803999 | AA29: =SUMPRODUCT($B$14:$E$14,$B$17:$E$17) -> 0.72070119 | AB29: =AC28/(Z29+(1-AA29)*B29) -> 3.2214078 | AC29: =(AC28-B29*AB29)/(1-B29) -> 0.68587248 | AD29: =SUMPRODUCT(AB$28:AB29,$B$28:$B29)/SUM($B$28:$B29) -> 3.2421438 | AE29: =SUMPRODUCT(H28:K28,$B$18:$E$18) -> 0.41863986 | AF29: =SUMPRODUCT($B$14:$E$14,$B$18:$E$18) -> 1.3707292 | AG29: =AH28/(AE29+(1-AF29)*B29) -> 1.171977 | AH29: =(AH28-B29*AG29)/(1-B29) -> 0.4792503 | AI29: =SUMPRODUCT(AG$28:AG29,$B$28:$B29)/SUM($B$28:$B29) -> 1.1667617 | AJ29: =AD29/AI29/0.254*0.17 -> 1.8597961 | AK29: =SUMPRODUCT($O$28:O29,$B$28:B29)/SUMPRODUCT($B$28:B29) -> 0.11026735
A30: 0.03 | B30: =$A$28/(1-A29) -> 0.010204082 | C30: =H29-$B$14*B30 -> 0.2058309 | D30: =I29-B30*$C$14 -> 0.081705539 | E30: =J29-B30*$D$14 -> 0.084402332 | F30: =K29-B30*$E$14 -> 0.61785714 | H30: =C30/SUM(C30:G30) -> 0.20795287 | I30: =D30/SUM(C30:G30) -> 0.082547865 | J30: =E30/SUM(C30:G30) -> 0.085272459 | K30: =F30/SUM(C30:G30) -> 0.6242268 | M30: =SUMPRODUCT($B$16:$E$16,H30:K30) -> 0.33977694 | N30: =SUMPRODUCT($B$14:$E$14,$B$16:$E$16) -> 1.1504749 | O30: =P29/(M30+(1-N30)*B30) -> 0.11230536 | P30: =(P29-O30*B30)/(1-B30) -> 0.037220156 | Q30: =O30*$B$16 -> 0.14279269 | R30: =O30*$C$16 -> 0.059833973 | S30: =O30*$D$16 -> 0.023124742 | T30: =O30*$E$16 -> 0.0024887615 | U30: =O30*$F$16 -> 0 | V30: =H$21-SUMPRODUCT(Q30:U30,H30:L30,$B$20:$F$20)/SUMPRODUCT(Q30:U30,H30:L30) -> -0.048887044 | W30: =(X29*P29+P30*V30*(1-B30))/(B30*O30+P30*(1-B30)) -> 0.37532745 | X30: =W30-V30 -> 0.42421449 | Y30: =SUMPRODUCT($W$28:W30,$O$28:O30)/SUM($O$28:O30) -> 0.37428282 | Z30: =SUMPRODUCT(H29:K29,$B$17:$E$17) -> 0.21291079 | AA30: =SUMPRODUCT($B$14:$E$14,$B$17:$E$17) -> 0.72070119 | AB30: =AC29/(Z30+(1-AA30)*B30) -> 3.1788561 | AC30: =(AC29-B30*AB30)/(1-B30) -> 0.66017162 | AD30: =SUMPRODUCT(AB$28:AB30,$B$28:$B30)/SUM($B$28:$B30) -> 3.2208341 | AE30: =SUMPRODUCT(H29:K29,$B$18:$E$18) -> 0.40892466 | AF30: =SUMPRODUCT($B$14:$E$14,$B$18:$E$18) -> 1.3707292 | AG30: =AH29/(AE30+(1-AF30)*B30) -> 1.1829202 | AH30: =(AH29-B30*AG30)/(1-B30) -> 0.47199597 | AI30: =SUMPRODUCT(AG$28:AG30,$B$28:$B30)/SUM($B$28:$B30) -> 1.1722024 | AJ30: =AD30/AI30/0.254*0.17 -> 1.8389967 | AK30: =SUMPRODUCT($O$28:O30,$B$28:B30)/SUMPRODUCT($B$28:B30) -> 0.11095357
A31: 0.04 | B31: =$A$28/(1-A30) -> 0.010309278 | C31: =H30-$B$14*B31 -> 0.19960727 | D31: =I30-B31*$C$14 -> 0.079479627 | E31: =J30-B31*$D$14 -> 0.087236132 | F31: =K30-B31*$E$14 -> 0.6233677 | H31: =C31/SUM(C31:G31) -> 0.20168651 | I31: =D31/SUM(C31:G31) -> 0.08030754 | J31: =E31/SUM(C31:G31) -> 0.088144841 | K31: =F31/SUM(C31:G31) -> 0.62986111 | M31: =SUMPRODUCT($B$16:$E$16,H31:K31) -> 0.33133217 | N31: =SUMPRODUCT($B$14:$E$14,$B$16:$E$16) -> 1.1504749 | O31: =P30/(M31+(1-N31)*B31) -> 0.11286329 | P31: =(P30-O31*B31)/(1-B31) -> 0.036432206 | Q31: =O31*$B$16 -> 0.14350208 | R31: =O31*$C$16 -> 0.060131228 | S31: =O31*$D$16 -> 0.023239625 | T31: =O31*$E$16 -> 0.0025011256 | U31: =O31*$F$16 -> 0 | V31: =H$21-SUMPRODUCT(Q31:U31,H31:L31,$B$20:$F$20)/SUMPRODUCT(Q31:U31,H31:L31) -> -0.049323829 | W31: =(X30*P30+P31*V31*(1-B31))/(B31*O31+P31*(1-B31)) -> 0.37643258 | X31: =W31-V31 -> 0.4257564 | Y31: =SUMPRODUCT($W$28:W31,$O$28:O31)/SUM($O$28:O31) -> 0.37482721 | Z31: =SUMPRODUCT(H30:K30,$B$17:$E$17) -> 0.20767584 | AA31: =SUMPRODUCT($B$14:$E$14,$B$17:$E$17) -> 0.72070119 | AB31: =AC30/(Z31+(1-AA31)*B31) -> 3.1353849 | AC31: =(AC30-B31*AB31)/(1-B31) -> 0.63438815 | AD31: =SUMPRODUCT(AB$28:AB31,$B$28:$B31)/SUM($B$28:$B31) -> 3.1991442 | AE31: =SUMPRODUCT(H30:K30,$B$18:$E$18) -> 0.39900915 | AF31: =SUMPRODUCT($B$14:$E$14,$B$18:$E$18) -> 1.3707292 | AG31: =AH30/(AE31+(1-AF31)*B31) -> 1.1943605 | AH31: =(AH30-B31*AG31)/(1-B31) -> 0.46447134 | AI31: =SUMPRODUCT(AG$28:AG31,$B$28:$B31)/SUM($B$28:$B31) -> 1.1778269 | AJ31: =AD31/AI31/0.254*0.17 -> 1.8178899 | AK31: =SUMPRODUCT($O$28:O31,$B$28:B31)/SUMPRODUCT($B$28:B31) -> 0.11143832
A32: 0.05 | B32: =$A$28/(1-A31) -> 0.010416667 | C32: =H31-$B$14*B32 -> 0.19325397 | D32: =I31-B32*$C$14 -> 0.077207341 | E32: =J31-B32*$D$14 -> 0.090128968 | F32: =K31-B32*$E$14 -> 0.62899306 | H32: =C32/SUM(C32:G32) -> 0.19528822 | I32: =D32/SUM(C32:G32) -> 0.07802005 | J32: =E32/SUM(C32:G32) -> 0.091077694 | K32: =F32/SUM(C32:G32) -> 0.63561404 | M32: =SUMPRODUCT($B$16:$E$16,H32:K32) -> 0.32270961 | N32: =SUMPRODUCT($B$14:$E$14,$B$16:$E$16) -> 1.1504749 | O32: =P31/(M32+(1-N32)*B32) -> 0.11344573 | P32: =(P31-O32*B32)/(1-B32) -> 0.035621538 | Q32: =O32*$B$16 -> 0.14424263 | R32: =O32*$C$16 -> 0.060441537 | S32: =O32*$D$16 -> 0.023359554 | T32: =O32*$E$16 -> 0.0025140327 | U32: =O32*$F$16 -> 0 | V32: =H$21-SUMPRODUCT(Q32:U32,H32:L32,$B$20:$F$20)/SUMPRODUCT(Q32:U32,H32:L32) -> -0.049793397 | W32: =(X31*P31+P32*V32*(1-B32))/(B32*O32+P32*(1-B32)) -> 0.37757812 | X32: =W32-V32 -> 0.42737152 | Y32: =SUMPRODUCT($W$28:W32,$O$28:O32)/SUM($O$28:O32) -> 0.37538536 | Z32: =SUMPRODUCT(H31:K31,$B$17:$E$17) -> 0.20233183 | AA32: =SUMPRODUCT($B$14:$E$14,$B$17:$E$17) -> 0.72070119 | AB32: =AC31/(Z32+(1-AA32)*B32) -> 3.0909397 | AC32: =(AC31-B32*AB32)/(1-B32) -> 0.60852971 | AD32: =SUMPRODUCT(AB$28:AB32,$B$28:$B32)/SUM($B$28:$B32) -> 3.1770571 | AE32: =SUMPRODUCT(H31:K31,$B$18:$E$18) -> 0.38888707 | AF32: =SUMPRODUCT($B$14:$E$14,$B$18:$E$18) -> 1.3707292 | AG32: =AH31/(AE32+(1-AF32)*B32) -> 1.2063398 | AH32: =(AH31-B32*AG32)/(1-B32) -> 0.4566622 | AI32: =SUMPRODUCT(AG$28:AG32,$B$28:$B32)/SUM($B$28:$B32) -> 1.1836471 | AJ32: =AD32/AI32/0.254*0.17 -> 1.7964619 | AK32: =SUMPRODUCT($O$28:O32,$B$28:B32)/SUMPRODUCT($B$28:B32) -> 0.11184808
A33: 0.06 | B33: =$A$28/(1-A32) -> 0.010526316 | C33: =H32-$B$14*B33 -> 0.18676692 | D33: =I32-B33*$C$14 -> 0.074887218 | E33: =J32-B33*$D$14 -> 0.093082707 | F33: =K32-B33*$E$14 -> 0.63473684 | H33: =C33/SUM(C33:G33) -> 0.1887538 | I33: =D33/SUM(C33:G33) -> 0.075683891 | J33: =E33/SUM(C33:G33) -> 0.094072948 | K33: =F33/SUM(C33:G33) -> 0.64148936 | M33: =SUMPRODUCT($B$16:$E$16,H33:K33) -> 0.3139036 | N33: =SUMPRODUCT($B$14:$E$14,$B$16:$E$16) -> 1.1504749 | O33: =P32/(M33+(1-N33)*B33) -> 0.11405474 | P33: =(P32-O33*B33)/(1-B33) -> 0.034787142 | Q33: =O33*$B$16 -> 0.14501697 | R33: =O33*$C$16 -> 0.060766008 | S33: =O33*$D$16 -> 0.023484956 | T33: =O33*$E$16 -> 0.0025275289 | U33: =O33*$F$16 -> 0 | V33: =H$21-SUMPRODUCT(Q33:U33,H33:L33,$B$20:$F$20)/SUMPRODUCT(Q33:U33,H33:L33) -> -0.050299581 | W33: =(X32*P32+P33*V33*(1-B33))/(B33*O33+P33*(1-B33)) -> 0.37876722 | X33: =W33-V33 -> 0.4290668 | Y33: =SUMPRODUCT($W$28:W33,$O$28:O33)/SUM($O$28:O33) -> 0.37595833 | Z33: =SUMPRODUCT(H32:K32,$B$17:$E$17) -> 0.19687531 | AA33: =SUMPRODUCT($B$14:$E$14,$B$17:$E$17) -> 0.72070119 | AB33: =AC32/(Z33+(1-AA33)*B33) -> 3.0454611 | AC33: =(AC32-B33*AB33)/(1-B33) -> 0.58260491 | AD33: =SUMPRODUCT(AB$28:AB33,$B$28:$B33)/SUM($B$28:$B33) -> 3.1545542 | AE33: =SUMPRODUCT(H32:K32,$B$18:$E$18) -> 0.37855189 | AF33: =SUMPRODUCT($B$14:$E$14,$B$18:$E$18) -> 1.3707292 | AG33: =AH32/(AE33+(1-AF33)*B33) -> 1.2189052 | AH33: =(AH32-B33*AG33)/(1-B33) -> 0.44855323 | AI33: =SUMPRODUCT(AG$28:AG33,$B$28:$B33)/SUM($B$28:$B33) -> 1.1896762 | AJ33: =AD33/AI33/0.254*0.17 -> 1.7746978 | AK33: =SUMPRODUCT($O$28:O33,$B$28:B33)/SUMPRODUCT($B$28:B33) -> 0.11222542
A34: 0.07 | B34: =$A$28/(1-A33) -> 0.010638298 | C34: =H33-$B$14*B34 -> 0.18014184 | D34: =I33-B34*$C$14 -> 0.07251773 | E34: =J33-B34*$D$14 -> 0.096099291 | F34: =K33-B34*$E$14 -> 0.64060284 | H34: =C34/SUM(C34:G34) -> 0.18207885 | I34: =D34/SUM(C34:G34) -> 0.073297491 | J34: =E34/SUM(C34:G34) -> 0.097132616 | K34: =F34/SUM(C34:G34) -> 0.64749104 | M34: =SUMPRODUCT($B$16:$E$16,H34:K34) -> 0.30490821 | N34: =SUMPRODUCT($B$14:$E$14,$B$16:$E$16) -> 1.1504749 | O34: =P33/(M34+(1-N34)*B34) -> 0.11469269 | P34: =(P33-O34*B34)/(1-B34) -> 0.033927943 | Q34: =O34*$B$16 -> 0.1458281 | R34: =O34*$C$16 -> 0.061105891 | S34: =O34*$D$16 -> 0.023616315 | T34: =O34*$E$16 -> 0.0025416662 | U34: =O34*$F$16 -> 0 | V34: =H$21-SUMPRODUCT(Q34:U34,H34:L34,$B$20:$F$20)/SUMPRODUCT(Q34:U34,H34:L34) -> -0.050846839 | W34: =(X33*P33+P34*V34*(1-B34))/(B34*O34+P34*(1-B34)) -> 0.38000338 | X34: =W34-V34 -> 0.43085022 | Y34: =SUMPRODUCT($W$28:W34,$O$28:O34)/SUM($O$28:O34) -> 0.37654717 | Z34: =SUMPRODUCT(H33:K33,$B$17:$E$17) -> 0.19130269 | AA34: =SUMPRODUCT($B$14:$E$14,$B$17:$E$17) -> 0.72070119 | AB34: =AC33/(Z34+(1-AA34)*B34) -> 2.9988832 | AC34: =(AC33-B34*AB34)/(1-B34) -> 0.55662342 | AD34: =SUMPRODUCT(AB$28:AB34,$B$28:$B34)/SUM($B$28:$B34) -> 3.1316155 | AE34: =SUMPRODUCT(H33:K33,$B$18:$E$18) -> 0.36799681 | AF34: =SUMPRODUCT($B$14:$E$14,$B$18:$E$18) -> 1.3707292 | AG34: =AH33/(AE34+(1-AF34)*B34) -> 1.2321101 | AH34: =(AH33-B34*AG34)/(1-B34) -> 0.44012789 | AI34: =SUMPRODUCT(AG$28:AG34,$B$28:$B34)/SUM($B$28:$B34) -> 1.195929 | AJ34: =AD34/AI34/0.254*0.17 -> 1.7525816 | AK34: =SUMPRODUCT($O$28:O34,$B$28:B34)/SUMPRODUCT($B$28:B34) -> 0.11258898
